BEGIN:VCALENDAR
VERSION:2.0
PRODID:-//Matt Cappy - ECPv6.15.20//NONSGML v1.0//EN
CALSCALE:GREGORIAN
METHOD:PUBLISH
X-ORIGINAL-URL:https://mattcappy.com
X-WR-CALDESC:Events for Matt Cappy
REFRESH-INTERVAL;VALUE=DURATION:PT1H
X-Robots-Tag:noindex
X-PUBLISHED-TTL:PT1H
BEGIN:VTIMEZONE
TZID:America/New_York
BEGIN:DAYLIGHT
TZOFFSETFROM:-0500
TZOFFSETTO:-0400
TZNAME:EDT
DTSTART:20180311T070000
END:DAYLIGHT
BEGIN:STANDARD
TZOFFSETFROM:-0400
TZOFFSETTO:-0500
TZNAME:EST
DTSTART:20181104T060000
END:STANDARD
BEGIN:DAYLIGHT
TZOFFSETFROM:-0500
TZOFFSETTO:-0400
TZNAME:EDT
DTSTART:20190310T070000
END:DAYLIGHT
BEGIN:STANDARD
TZOFFSETFROM:-0400
TZOFFSETTO:-0500
TZNAME:EST
DTSTART:20191103T060000
END:STANDARD
BEGIN:DAYLIGHT
TZOFFSETFROM:-0500
TZOFFSETTO:-0400
TZNAME:EDT
DTSTART:20200308T070000
END:DAYLIGHT
BEGIN:STANDARD
TZOFFSETFROM:-0400
TZOFFSETTO:-0500
TZNAME:EST
DTSTART:20201101T060000
END:STANDARD
BEGIN:DAYLIGHT
TZOFFSETFROM:-0500
TZOFFSETTO:-0400
TZNAME:EDT
DTSTART:20210314T070000
END:DAYLIGHT
BEGIN:STANDARD
TZOFFSETFROM:-0400
TZOFFSETTO:-0500
TZNAME:EST
DTSTART:20211107T060000
END:STANDARD
BEGIN:DAYLIGHT
TZOFFSETFROM:-0500
TZOFFSETTO:-0400
TZNAME:EDT
DTSTART:20220313T070000
END:DAYLIGHT
BEGIN:STANDARD
TZOFFSETFROM:-0400
TZOFFSETTO:-0500
TZNAME:EST
DTSTART:20221106T060000
END:STANDARD
BEGIN:DAYLIGHT
TZOFFSETFROM:-0500
TZOFFSETTO:-0400
TZNAME:EDT
DTSTART:20230312T070000
END:DAYLIGHT
BEGIN:STANDARD
TZOFFSETFROM:-0400
TZOFFSETTO:-0500
TZNAME:EST
DTSTART:20231105T060000
END:STANDARD
BEGIN:DAYLIGHT
TZOFFSETFROM:-0500
TZOFFSETTO:-0400
TZNAME:EDT
DTSTART:20240310T070000
END:DAYLIGHT
BEGIN:STANDARD
TZOFFSETFROM:-0400
TZOFFSETTO:-0500
TZNAME:EST
DTSTART:20241103T060000
END:STANDARD
END:VTIMEZONE
BEGIN:VTIMEZONE
TZID:UTC
BEGIN:STANDARD
TZOFFSETFROM:+0000
TZOFFSETTO:+0000
TZNAME:UTC
DTSTART:20170101T000000
END:STANDARD
END:VTIMEZONE
BEGIN:VEVENT
DTSTART;TZID=America/New_York:20231222T120000
DTEND;TZID=America/New_York:20231222T130000
DTSTAMP:20260421T171532
CREATED:20231218T164807Z
LAST-MODIFIED:20231218T165138Z
UID:10000175-1703246400-1703250000@mattcappy.com
SUMMARY:WXPN Free At Noon with MATT CAPPY’S HOLIDAY SPECTACULAR
DESCRIPTION:
URL:https://mattcappy.com/event/wxpn-free-at-noon-with-matt-cappys-holiday-spectacular/
LOCATION:World Cafe Live\, 3025 Walnut St.\, Philadelphia\, PA\, 19104\, United States
CATEGORIES:performances
ATTACH;FMTTYPE=image/jpeg:https://mattcappy.com/wp-content/uploads/2023/12/wxpn-tn.jpg
GEO:39.9522277;-75.1850894
X-APPLE-STRUCTURED-LOCATION;VALUE=URI;X-ADDRESS=World Cafe Live 3025 Walnut St. Philadelphia PA 19104 United States;X-APPLE-RADIUS=500;X-TITLE=3025 Walnut St.:geo:-75.1850894,39.9522277
END:VEVENT
BEGIN:VEVENT
DTSTART;TZID=America/New_York:20191208T190000
DTEND;TZID=America/New_York:20191208T230000
DTSTAMP:20260421T171532
CREATED:20190917T045316Z
LAST-MODIFIED:20190917T045316Z
UID:10000090-1575831600-1575846000@mattcappy.com
SUMMARY:Home for the Holidays Concert\, Guest Artist
DESCRIPTION:MATT CAPPY\, Guest Artist\nSunday Dec 8\, 2019\nHome for the Holidays Concert\nWorld Cafe Live\nPhiladelphia\, PA\n7pm
URL:https://mattcappy.com/event/home-for-the-holidays-concert-guest-artist/
LOCATION:World Cafe Live\, 3025 Walnut St.\, Philadelphia\, PA\, 19104\, United States
CATEGORIES:performances
ATTACH;FMTTYPE=image/jpeg:https://mattcappy.com/wp-content/uploads/2019/09/worldcafe.jpg
GEO:39.9522277;-75.1850894
X-APPLE-STRUCTURED-LOCATION;VALUE=URI;X-ADDRESS=World Cafe Live 3025 Walnut St. Philadelphia PA 19104 United States;X-APPLE-RADIUS=500;X-TITLE=3025 Walnut St.:geo:-75.1850894,39.9522277
END:VEVENT
BEGIN:VEVENT
DTSTART;TZID=UTC:20190503T120000
DTEND;TZID=UTC:20190503T140000
DTSTAMP:20260421T171532
CREATED:20190502T082918Z
LAST-MODIFIED:20190502T082949Z
UID:10000082-1556884800-1556892000@mattcappy.com
SUMMARY:Matt Cappy and Eli 'Paperboy" Reed
DESCRIPTION:Free at Noon!\nWorld Cafe Live
URL:https://mattcappy.com/event/matt-cappy-and-eli-paperboy-reed/
LOCATION:World Cafe Live\, 3025 Walnut St.\, Philadelphia\, PA\, 19104\, United States
CATEGORIES:performances
ATTACH;FMTTYPE=image/jpeg:https://mattcappy.com/wp-content/uploads/2019/05/xpn.jpg
GEO:39.9522277;-75.1850894
X-APPLE-STRUCTURED-LOCATION;VALUE=URI;X-ADDRESS=World Cafe Live 3025 Walnut St. Philadelphia PA 19104 United States;X-APPLE-RADIUS=500;X-TITLE=3025 Walnut St.:geo:-75.1850894,39.9522277
END:VEVENT
BEGIN:VEVENT
DTSTART;TZID=UTC:20181221T200000
DTEND;TZID=UTC:20181221T220000
DTSTAMP:20260421T171532
CREATED:20181214T184336Z
LAST-MODIFIED:20181214T184336Z
UID:10000043-1545422400-1545429600@mattcappy.com
SUMMARY:w/ HoLiDeLiC
DESCRIPTION:w/ HoLiDeLiC\nThis is holiday spirit like you’ve never heard before! Holidelic will get you out of the Andy Williams rut and liberate your Nutcracker. Blending the influences of P-Funk\, Sly Stone and other 1970’s and ‘80’s funk and soul bands\, Holidelic explores the holidays\, modern culture and mild family dysfunction in a playful\, loving\, humorous record that is hardly traditional but a whole lot of fun!
URL:https://mattcappy.com/event/w-holidelic/
LOCATION:World Cafe Live\, 3025 Walnut St.\, Philadelphia\, PA\, 19104\, United States
CATEGORIES:performances
ATTACH;FMTTYPE=image/jpeg:https://mattcappy.com/wp-content/uploads/2018/12/holidelic2.jpg
GEO:39.9522277;-75.1850894
X-APPLE-STRUCTURED-LOCATION;VALUE=URI;X-ADDRESS=World Cafe Live 3025 Walnut St. Philadelphia PA 19104 United States;X-APPLE-RADIUS=500;X-TITLE=3025 Walnut St.:geo:-75.1850894,39.9522277
END:VEVENT
BEGIN:VEVENT
DTSTART;TZID=UTC:20180228T190000
DTEND;TZID=UTC:20180228T220000
DTSTAMP:20260421T171532
CREATED:20180228T011518Z
LAST-MODIFIED:20180228T011804Z
UID:10000037-1519844400-1519855200@mattcappy.com
SUMMARY:World Cafe Live Upstairs
DESCRIPTION:DOORS: 7:00 PM / SHOW: 8:00 PM \n$12 ADV – $14 DOS + FEES \nGET TIX
URL:https://mattcappy.com/event/world-cafe-live-upstairs/
LOCATION:World Cafe Live\, 3025 Walnut St.\, Philadelphia\, PA\, 19104\, United States
CATEGORIES:performances
GEO:39.9522277;-75.1850894
X-APPLE-STRUCTURED-LOCATION;VALUE=URI;X-ADDRESS=World Cafe Live 3025 Walnut St. Philadelphia PA 19104 United States;X-APPLE-RADIUS=500;X-TITLE=3025 Walnut St.:geo:-75.1850894,39.9522277
END:VEVENT
END:VCALENDAR