BEGIN:VCALENDAR
VERSION:2.0
PRODID:-//Matt Cappy - ECPv6.15.20//NONSGML v1.0//EN
CALSCALE:GREGORIAN
METHOD:PUBLISH
X-WR-CALNAME:Matt Cappy
X-ORIGINAL-URL:https://mattcappy.com
X-WR-CALDESC:Events for Matt Cappy
REFRESH-INTERVAL;VALUE=DURATION:PT1H
X-Robots-Tag:noindex
X-PUBLISHED-TTL:PT1H
BEGIN:VTIMEZONE
TZID:America/New_York
BEGIN:DAYLIGHT
TZOFFSETFROM:-0500
TZOFFSETTO:-0400
TZNAME:EDT
DTSTART:20210314T070000
END:DAYLIGHT
BEGIN:STANDARD
TZOFFSETFROM:-0400
TZOFFSETTO:-0500
TZNAME:EST
DTSTART:20211107T060000
END:STANDARD
BEGIN:DAYLIGHT
TZOFFSETFROM:-0500
TZOFFSETTO:-0400
TZNAME:EDT
DTSTART:20220313T070000
END:DAYLIGHT
BEGIN:STANDARD
TZOFFSETFROM:-0400
TZOFFSETTO:-0500
TZNAME:EST
DTSTART:20221106T060000
END:STANDARD
BEGIN:DAYLIGHT
TZOFFSETFROM:-0500
TZOFFSETTO:-0400
TZNAME:EDT
DTSTART:20230312T070000
END:DAYLIGHT
BEGIN:STANDARD
TZOFFSETFROM:-0400
TZOFFSETTO:-0500
TZNAME:EST
DTSTART:20231105T060000
END:STANDARD
END:VTIMEZONE
BEGIN:VEVENT
DTSTART;VALUE=DATE:20220814
DTEND;VALUE=DATE:20220816
DTSTAMP:20260421T173041
CREATED:20220702T025314Z
LAST-MODIFIED:20220702T025318Z
UID:10000143-1660442400-1660528799@mattcappy.com
SUMMARY:Willingboro Jazz Fest
DESCRIPTION:Willingboro Jazz Festival \nDetails TBA
URL:https://mattcappy.com/event/willingboro-jazz-fest/
LOCATION:Willingboro Jazz Fest – Millcreek Park\, 300 Beverly Rancocas Road & Pagent Lane\, Willingboro\, 08046\, United States
CATEGORIES:performances
ATTACH;FMTTYPE=image/jpeg:https://mattcappy.com/wp-content/uploads/2022/07/Willingboo.jpg
GEO:40.0293512;-74.9110949
X-APPLE-STRUCTURED-LOCATION;VALUE=URI;X-ADDRESS=Willingboro Jazz Fest – Millcreek Park 300 Beverly Rancocas Road & Pagent Lane Willingboro 08046 United States;X-APPLE-RADIUS=500;X-TITLE=300 Beverly Rancocas Road & Pagent Lane:geo:-74.9110949,40.0293512
END:VEVENT
END:VCALENDAR