BEGIN:VCALENDAR
VERSION:2.0
PRODID:-//Matt Cappy - ECPv6.15.20//NONSGML v1.0//EN
CALSCALE:GREGORIAN
METHOD:PUBLISH
X-WR-CALNAME:Matt Cappy
X-ORIGINAL-URL:https://mattcappy.com
X-WR-CALDESC:Events for Matt Cappy
REFRESH-INTERVAL;VALUE=DURATION:PT1H
X-Robots-Tag:noindex
X-PUBLISHED-TTL:PT1H
BEGIN:VTIMEZONE
TZID:UTC
BEGIN:STANDARD
TZOFFSETFROM:+0000
TZOFFSETTO:+0000
TZNAME:UTC
DTSTART:20170101T000000
END:STANDARD
END:VTIMEZONE
BEGIN:VEVENT
DTSTART;TZID=UTC:20180407T200000
DTEND;TZID=UTC:20180407T220000
DTSTAMP:20260422T035753
CREATED:20180405T180735Z
LAST-MODIFIED:20180405T180735Z
UID:10000031-1523131200-1523138400@mattcappy.com
SUMMARY:w/ Patti LaBelle
DESCRIPTION:
URL:https://mattcappy.com/event/w-patti-labelle-2/
LOCATION:Warner Theater\, 513 13th St. N.W\, Washington\, DC\, 20004\, United States
CATEGORIES:performances
GEO:38.8965086;-77.0291824
X-APPLE-STRUCTURED-LOCATION;VALUE=URI;X-ADDRESS=Warner Theater 513 13th St. N.W Washington DC 20004 United States;X-APPLE-RADIUS=500;X-TITLE=513 13th St. N.W:geo:-77.0291824,38.8965086
END:VEVENT
END:VCALENDAR