BEGIN:VCALENDAR
VERSION:2.0
PRODID:-//Matt Cappy - ECPv6.15.20//NONSGML v1.0//EN
CALSCALE:GREGORIAN
METHOD:PUBLISH
X-ORIGINAL-URL:https://mattcappy.com
X-WR-CALDESC:Events for Matt Cappy
REFRESH-INTERVAL;VALUE=DURATION:PT1H
X-Robots-Tag:noindex
X-PUBLISHED-TTL:PT1H
BEGIN:VTIMEZONE
TZID:UTC
BEGIN:STANDARD
TZOFFSETFROM:+0000
TZOFFSETTO:+0000
TZNAME:UTC
DTSTART:20180101T000000
END:STANDARD
END:VTIMEZONE
BEGIN:VEVENT
DTSTART;TZID=UTC:20190208T200000
DTEND;TZID=UTC:20190208T230000
DTSTAMP:20260422T141648
CREATED:20190112T021612Z
LAST-MODIFIED:20190112T021612Z
UID:10000078-1549656000-1549666800@mattcappy.com
SUMMARY:w Patti LaBelle
DESCRIPTION:Van Wezel Performance Hall \nSarasota\, FL
URL:https://mattcappy.com/event/w-patti-labelle-15/
LOCATION:Van Wezel Performance Hall\, 777 N Tamiami Trail\, Sarasota\, FL\, 34236\, United States
ATTACH;FMTTYPE=image/jpeg:https://mattcappy.com/wp-content/uploads/2018/08/patti.jpg
GEO:27.3428673;-82.5503948
X-APPLE-STRUCTURED-LOCATION;VALUE=URI;X-ADDRESS=Van Wezel Performance Hall 777 N Tamiami Trail Sarasota FL 34236 United States;X-APPLE-RADIUS=500;X-TITLE=777 N Tamiami Trail:geo:-82.5503948,27.3428673
END:VEVENT
END:VCALENDAR