BEGIN:VCALENDAR
VERSION:2.0
PRODID:-//Matt Cappy - ECPv6.15.20//NONSGML v1.0//EN
CALSCALE:GREGORIAN
METHOD:PUBLISH
X-ORIGINAL-URL:https://mattcappy.com
X-WR-CALDESC:Events for Matt Cappy
REFRESH-INTERVAL;VALUE=DURATION:PT1H
X-Robots-Tag:noindex
X-PUBLISHED-TTL:PT1H
BEGIN:VTIMEZONE
TZID:America/New_York
BEGIN:DAYLIGHT
TZOFFSETFROM:-0500
TZOFFSETTO:-0400
TZNAME:EDT
DTSTART:20210314T070000
END:DAYLIGHT
BEGIN:STANDARD
TZOFFSETFROM:-0400
TZOFFSETTO:-0500
TZNAME:EST
DTSTART:20211107T060000
END:STANDARD
BEGIN:DAYLIGHT
TZOFFSETFROM:-0500
TZOFFSETTO:-0400
TZNAME:EDT
DTSTART:20220313T070000
END:DAYLIGHT
BEGIN:STANDARD
TZOFFSETFROM:-0400
TZOFFSETTO:-0500
TZNAME:EST
DTSTART:20221106T060000
END:STANDARD
BEGIN:DAYLIGHT
TZOFFSETFROM:-0500
TZOFFSETTO:-0400
TZNAME:EDT
DTSTART:20230312T070000
END:DAYLIGHT
BEGIN:STANDARD
TZOFFSETFROM:-0400
TZOFFSETTO:-0500
TZNAME:EST
DTSTART:20231105T060000
END:STANDARD
END:VTIMEZONE
BEGIN:VEVENT
DTSTART;TZID=America/New_York:20221215T190000
DTEND;TZID=America/New_York:20221215T230000
DTSTAMP:20260421T211433
CREATED:20221122T023345Z
LAST-MODIFIED:20221122T023928Z
UID:10000086-1671130800-1671145200@mattcappy.com
SUMMARY:19th Annual Night of Musical Artisty
DESCRIPTION:The Mississippi Jazz Foundation’s 19th Annual “Night of Musical Artistry\,” seeks to promote jazz musicians and jazz education. Committed to building partnerships and cooperating with other like-minded individuals and organization to promote the jazz genre and industry in our culturally rich and diverse state\, the MJF “Annual Night of Musical Artistry” is a fall holiday jazz concert that serves as the organization’s premier fundraising event to provide further support to the promotion of music education\, as well as academic and performing arts\, while honoring those individuals who have made substantial contributions to music and performing arts industry and providing scholarships to deserving students. \n  \nThis year’s Annual Night of Musical Artistry will feature: \nMatt Cappy\, trumpeter\, recording artist\, and educator. \nMichael Burton\, national recording artist and performer. \nHosted by Palmer Williams\, Jr.\, actor\, artist\, and comedian. \n\n\n 
URL:https://mattcappy.com/event/19th-anual-night-of-musical-artisty/
LOCATION:Two Mississippi Museums\, 222 North St\, Jackson\, MS\, 39201\, United States
CATEGORIES:performances
ATTACH;FMTTYPE=image/jpeg:https://mattcappy.com/wp-content/uploads/2022/11/MS-Jazz-1.jpg
GEO:32.3015028;-90.1778142
X-APPLE-STRUCTURED-LOCATION;VALUE=URI;X-ADDRESS=Two Mississippi Museums 222 North St Jackson MS 39201 United States;X-APPLE-RADIUS=500;X-TITLE=222 North St:geo:-90.1778142,32.3015028
END:VEVENT
END:VCALENDAR