BEGIN:VCALENDAR
VERSION:2.0
PRODID:-//Matt Cappy - ECPv6.15.20//NONSGML v1.0//EN
CALSCALE:GREGORIAN
METHOD:PUBLISH
X-WR-CALNAME:Matt Cappy
X-ORIGINAL-URL:https://mattcappy.com
X-WR-CALDESC:Events for Matt Cappy
REFRESH-INTERVAL;VALUE=DURATION:PT1H
X-Robots-Tag:noindex
X-PUBLISHED-TTL:PT1H
BEGIN:VTIMEZONE
TZID:UTC
BEGIN:STANDARD
TZOFFSETFROM:+0000
TZOFFSETTO:+0000
TZNAME:UTC
DTSTART:20180101T000000
END:STANDARD
END:VTIMEZONE
BEGIN:VEVENT
DTSTART;TZID=UTC:20190216T200000
DTEND;TZID=UTC:20190216T230000
DTSTAMP:20260422T060944
CREATED:20190128T195638Z
LAST-MODIFIED:20190128T195638Z
UID:10000009-1550347200-1550358000@mattcappy.com
SUMMARY:w/ Patti Labelle
DESCRIPTION:@ Tropicana Resort and Casino\, Atlantic City
URL:https://mattcappy.com/event/w-patti-labelle-20/
LOCATION:Tropicana Resort and Casino\, 2831 Boardwalk\, Atlantic City\, NJ\, 08401\, United States
CATEGORIES:performances
ATTACH;FMTTYPE=image/jpeg:https://mattcappy.com/wp-content/uploads/2018/08/patti.jpg
GEO:39.3523692;-74.4445618
X-APPLE-STRUCTURED-LOCATION;VALUE=URI;X-ADDRESS=Tropicana Resort and Casino 2831 Boardwalk Atlantic City NJ 08401 United States;X-APPLE-RADIUS=500;X-TITLE=2831 Boardwalk:geo:-74.4445618,39.3523692
END:VEVENT
END:VCALENDAR