BEGIN:VCALENDAR
VERSION:2.0
PRODID:-//Matt Cappy - ECPv6.15.20//NONSGML v1.0//EN
CALSCALE:GREGORIAN
METHOD:PUBLISH
X-ORIGINAL-URL:https://mattcappy.com
X-WR-CALDESC:Events for Matt Cappy
REFRESH-INTERVAL;VALUE=DURATION:PT1H
X-Robots-Tag:noindex
X-PUBLISHED-TTL:PT1H
BEGIN:VTIMEZONE
TZID:America/New_York
BEGIN:DAYLIGHT
TZOFFSETFROM:-0500
TZOFFSETTO:-0400
TZNAME:EDT
DTSTART:20190310T070000
END:DAYLIGHT
BEGIN:STANDARD
TZOFFSETFROM:-0400
TZOFFSETTO:-0500
TZNAME:EST
DTSTART:20191103T060000
END:STANDARD
BEGIN:DAYLIGHT
TZOFFSETFROM:-0500
TZOFFSETTO:-0400
TZNAME:EDT
DTSTART:20200308T070000
END:DAYLIGHT
BEGIN:STANDARD
TZOFFSETFROM:-0400
TZOFFSETTO:-0500
TZNAME:EST
DTSTART:20201101T060000
END:STANDARD
BEGIN:DAYLIGHT
TZOFFSETFROM:-0500
TZOFFSETTO:-0400
TZNAME:EDT
DTSTART:20210314T070000
END:DAYLIGHT
BEGIN:STANDARD
TZOFFSETFROM:-0400
TZOFFSETTO:-0500
TZNAME:EST
DTSTART:20211107T060000
END:STANDARD
END:VTIMEZONE
BEGIN:VEVENT
DTSTART;TZID=America/New_York:20200118T210000
DTEND;TZID=America/New_York:20200119T000000
DTSTAMP:20260422T020756
CREATED:20200109T212744Z
LAST-MODIFIED:20200109T212744Z
UID:10000022-1579381200-1579392000@mattcappy.com
SUMMARY:MATT CAPPY
DESCRIPTION:MATT CAPPY\nSat January 18th\, 2020\nTriumph Brewing Co\n1 Bridge Ave\nRed Bank\, NJ  07701\n9pm-12am
URL:https://mattcappy.com/event/matt-cappy-3/
LOCATION:Triumph Brewing Co\, 1 Bridge Ave\, Red Bank\, NJ\, 07701\, United States
CATEGORIES:performances
ATTACH;FMTTYPE=image/gif:https://mattcappy.com/wp-content/uploads/2020/01/triumph.gif
GEO:40.3503966;-74.0743483
X-APPLE-STRUCTURED-LOCATION;VALUE=URI;X-ADDRESS=Triumph Brewing Co 1 Bridge Ave Red Bank NJ 07701 United States;X-APPLE-RADIUS=500;X-TITLE=1 Bridge Ave:geo:-74.0743483,40.3503966
END:VEVENT
END:VCALENDAR