BEGIN:VCALENDAR
VERSION:2.0
PRODID:-//Matt Cappy - ECPv6.15.20//NONSGML v1.0//EN
CALSCALE:GREGORIAN
METHOD:PUBLISH
X-WR-CALNAME:Matt Cappy
X-ORIGINAL-URL:https://mattcappy.com
X-WR-CALDESC:Events for Matt Cappy
REFRESH-INTERVAL;VALUE=DURATION:PT1H
X-Robots-Tag:noindex
X-PUBLISHED-TTL:PT1H
BEGIN:VTIMEZONE
TZID:UTC
BEGIN:STANDARD
TZOFFSETFROM:+0000
TZOFFSETTO:+0000
TZNAME:UTC
DTSTART:20170101T000000
END:STANDARD
END:VTIMEZONE
BEGIN:VEVENT
DTSTART;TZID=UTC:20181218T193000
DTEND;TZID=UTC:20181218T220000
DTSTAMP:20260424T103632
CREATED:20181214T183342Z
LAST-MODIFIED:20181214T183342Z
UID:10000074-1545161400-1545170400@mattcappy.com
SUMMARY:with HoLiDeLiC
DESCRIPTION:w/ HoLiDeLiC\nPart dance party\, part funk concert\, part comedy show\, the holiday-funk spectacular Holidelic features original holiday songs as well as loose\, funk-infused adaptations of Tchaikovsky\, “Frosty the Snowman\,” “Little Drummer Boy” and the like.
URL:https://mattcappy.com/event/with-holidelic-2/
LOCATION:The Soundry\, 10221 Wincopin Circle\, Columbis\, MD\, 21044\, United States
CATEGORIES:performances
ATTACH;FMTTYPE=image/jpeg:https://mattcappy.com/wp-content/uploads/2018/12/holidelic.jpg
GEO:39.2155315;-76.8560866
X-APPLE-STRUCTURED-LOCATION;VALUE=URI;X-ADDRESS=The Soundry 10221 Wincopin Circle Columbis MD 21044 United States;X-APPLE-RADIUS=500;X-TITLE=10221 Wincopin Circle:geo:-76.8560866,39.2155315
END:VEVENT
END:VCALENDAR