BEGIN:VCALENDAR
VERSION:2.0
PRODID:-//Matt Cappy - ECPv6.15.20//NONSGML v1.0//EN
CALSCALE:GREGORIAN
METHOD:PUBLISH
X-ORIGINAL-URL:https://mattcappy.com
X-WR-CALDESC:Events for Matt Cappy
REFRESH-INTERVAL;VALUE=DURATION:PT1H
X-Robots-Tag:noindex
X-PUBLISHED-TTL:PT1H
BEGIN:VTIMEZONE
TZID:America/New_York
BEGIN:DAYLIGHT
TZOFFSETFROM:-0500
TZOFFSETTO:-0400
TZNAME:EDT
DTSTART:20220313T070000
END:DAYLIGHT
BEGIN:STANDARD
TZOFFSETFROM:-0400
TZOFFSETTO:-0500
TZNAME:EST
DTSTART:20221106T060000
END:STANDARD
BEGIN:DAYLIGHT
TZOFFSETFROM:-0500
TZOFFSETTO:-0400
TZNAME:EDT
DTSTART:20230312T070000
END:DAYLIGHT
BEGIN:STANDARD
TZOFFSETFROM:-0400
TZOFFSETTO:-0500
TZNAME:EST
DTSTART:20231105T060000
END:STANDARD
BEGIN:DAYLIGHT
TZOFFSETFROM:-0500
TZOFFSETTO:-0400
TZNAME:EDT
DTSTART:20240310T070000
END:DAYLIGHT
BEGIN:STANDARD
TZOFFSETFROM:-0400
TZOFFSETTO:-0500
TZNAME:EST
DTSTART:20241103T060000
END:STANDARD
END:VTIMEZONE
BEGIN:VEVENT
DTSTART;TZID=America/New_York:20230411T200000
DTEND;TZID=America/New_York:20230411T230000
DTSTAMP:20260421T212209
CREATED:20230401T051321Z
LAST-MODIFIED:20230407T205856Z
UID:10000154-1681243200-1681254000@mattcappy.com
SUMMARY:Diggin’ For Diamonds: Matt Cappy Live at The Maltings\, Ely. Cambridgeshire
DESCRIPTION:Diggin’ For Diamonds: Matt Cappy Live at The Maltings\, Ely. Cambridgeshire
URL:https://mattcappy.com/event/diggin-for-diamonds-matt-cappy-live-at-the-maltings-ely-cambridgeshire/
LOCATION:The Maltings\, Ely\, shiplane\, Ely\, CB7 4BB\, United Kingdom
CATEGORIES:performances
ATTACH;FMTTYPE=image/jpeg:https://mattcappy.com/wp-content/uploads/2023/04/cappyUK-tn.jpg
GEO:52.3958816;0.2684458
X-APPLE-STRUCTURED-LOCATION;VALUE=URI;X-ADDRESS=The Maltings Ely shiplane Ely CB7 4BB United Kingdom;X-APPLE-RADIUS=500;X-TITLE=shiplane:geo:0.2684458,52.3958816
END:VEVENT
END:VCALENDAR