BEGIN:VCALENDAR
VERSION:2.0
PRODID:-//Matt Cappy - ECPv6.15.20//NONSGML v1.0//EN
CALSCALE:GREGORIAN
METHOD:PUBLISH
X-ORIGINAL-URL:https://mattcappy.com
X-WR-CALDESC:Events for Matt Cappy
REFRESH-INTERVAL;VALUE=DURATION:PT1H
X-Robots-Tag:noindex
X-PUBLISHED-TTL:PT1H
BEGIN:VTIMEZONE
TZID:America/New_York
BEGIN:DAYLIGHT
TZOFFSETFROM:-0500
TZOFFSETTO:-0400
TZNAME:EDT
DTSTART:20220313T070000
END:DAYLIGHT
BEGIN:STANDARD
TZOFFSETFROM:-0400
TZOFFSETTO:-0500
TZNAME:EST
DTSTART:20221106T060000
END:STANDARD
BEGIN:DAYLIGHT
TZOFFSETFROM:-0500
TZOFFSETTO:-0400
TZNAME:EDT
DTSTART:20230312T070000
END:DAYLIGHT
BEGIN:STANDARD
TZOFFSETFROM:-0400
TZOFFSETTO:-0500
TZNAME:EST
DTSTART:20231105T060000
END:STANDARD
BEGIN:DAYLIGHT
TZOFFSETFROM:-0500
TZOFFSETTO:-0400
TZNAME:EDT
DTSTART:20240310T070000
END:DAYLIGHT
BEGIN:STANDARD
TZOFFSETFROM:-0400
TZOFFSETTO:-0500
TZNAME:EST
DTSTART:20241103T060000
END:STANDARD
END:VTIMEZONE
BEGIN:VEVENT
DTSTART;TZID=America/New_York:20230201T190000
DTEND;TZID=America/New_York:20230201T203000
DTSTAMP:20260421T193526
CREATED:20230120T194406Z
LAST-MODIFIED:20230120T194452Z
UID:10000153-1675278000-1675283400@mattcappy.com
SUMMARY:Sol Village
DESCRIPTION:Madicin\, Matt Cappy\, ASHTNMRTN\, Jhetti Rose & Lennasia Hosted By C King Music By DW Collective
URL:https://mattcappy.com/event/sol-village/
LOCATION:SOBs\, 204 Varick Street\, New York City\, 10014\, United States
CATEGORIES:performances
ATTACH;FMTTYPE=image/jpeg:https://mattcappy.com/wp-content/uploads/2023/01/sobs-tn.jpg
GEO:40.7284492;-74.0051241
X-APPLE-STRUCTURED-LOCATION;VALUE=URI;X-ADDRESS=SOBs 204 Varick Street New York City 10014 United States;X-APPLE-RADIUS=500;X-TITLE=204 Varick Street:geo:-74.0051241,40.7284492
END:VEVENT
END:VCALENDAR