BEGIN:VCALENDAR
VERSION:2.0
PRODID:-//Matt Cappy - ECPv6.15.20//NONSGML v1.0//EN
CALSCALE:GREGORIAN
METHOD:PUBLISH
X-ORIGINAL-URL:https://mattcappy.com
X-WR-CALDESC:Events for Matt Cappy
REFRESH-INTERVAL;VALUE=DURATION:PT1H
X-Robots-Tag:noindex
X-PUBLISHED-TTL:PT1H
BEGIN:VTIMEZONE
TZID:America/New_York
BEGIN:DAYLIGHT
TZOFFSETFROM:-0500
TZOFFSETTO:-0400
TZNAME:EDT
DTSTART:20190310T070000
END:DAYLIGHT
BEGIN:STANDARD
TZOFFSETFROM:-0400
TZOFFSETTO:-0500
TZNAME:EST
DTSTART:20191103T060000
END:STANDARD
BEGIN:DAYLIGHT
TZOFFSETFROM:-0500
TZOFFSETTO:-0400
TZNAME:EDT
DTSTART:20200308T070000
END:DAYLIGHT
BEGIN:STANDARD
TZOFFSETFROM:-0400
TZOFFSETTO:-0500
TZNAME:EST
DTSTART:20201101T060000
END:STANDARD
BEGIN:DAYLIGHT
TZOFFSETFROM:-0500
TZOFFSETTO:-0400
TZNAME:EDT
DTSTART:20210314T070000
END:DAYLIGHT
BEGIN:STANDARD
TZOFFSETFROM:-0400
TZOFFSETTO:-0500
TZNAME:EST
DTSTART:20211107T060000
END:STANDARD
BEGIN:DAYLIGHT
TZOFFSETFROM:-0500
TZOFFSETTO:-0400
TZNAME:EDT
DTSTART:20220313T070000
END:DAYLIGHT
BEGIN:STANDARD
TZOFFSETFROM:-0400
TZOFFSETTO:-0500
TZNAME:EST
DTSTART:20221106T060000
END:STANDARD
END:VTIMEZONE
BEGIN:VEVENT
DTSTART;TZID=America/New_York:20211209T200000
DTEND;TZID=America/New_York:20211209T230000
DTSTAMP:20260420T233733
CREATED:20211013T205104Z
LAST-MODIFIED:20211013T210052Z
UID:10000135-1639080000-1639090800@mattcappy.com
SUMMARY:Matt Cappy - Sellersville Theater
DESCRIPTION:Matt brings his original mix of Jazz\, Funk\, Soul & Harmonious Grooves to The Sellersville Theater! \nLivestream Available! \n\n			\n				\n				\n				\n				\n				\n				Buy Tickets
URL:https://mattcappy.com/event/matt-cappy-sellersville-theater-2/
LOCATION:Sellersville Theater\, 24 W Temple Ave\, Sellersville\, PA\, 18960\, United States
CATEGORIES:performances
ATTACH;FMTTYPE=image/jpeg:https://mattcappy.com/wp-content/uploads/2021/10/sellersville2.jpg
GEO:40.3592641;-75.3114718
X-APPLE-STRUCTURED-LOCATION;VALUE=URI;X-ADDRESS=Sellersville Theater 24 W Temple Ave Sellersville PA 18960 United States;X-APPLE-RADIUS=500;X-TITLE=24 W Temple Ave:geo:-75.3114718,40.3592641
END:VEVENT
BEGIN:VEVENT
DTSTART;TZID=America/New_York:20201120T200000
DTEND;TZID=America/New_York:20201120T230000
DTSTAMP:20260420T233733
CREATED:20201028T180301Z
LAST-MODIFIED:20201028T180301Z
UID:10000128-1605902400-1605913200@mattcappy.com
SUMMARY:MATT CAPPY  -  Sellersville Theater
DESCRIPTION:MATT CAPPY\nFriday Nov. 20th\nSellersville Theater\n24 W Temple Ave\nSellersville\, PA 18960\n* In person and streaming ticket options
URL:https://mattcappy.com/event/matt-cappy-sellersville-theater/
LOCATION:Sellersville Theater\, 24 W Temple Ave\, Sellersville\, PA\, 18960\, United States
CATEGORIES:performances
ATTACH;FMTTYPE=image/jpeg:https://mattcappy.com/wp-content/uploads/2020/10/sellersville-12.jpg
GEO:40.3592641;-75.3114718
X-APPLE-STRUCTURED-LOCATION;VALUE=URI;X-ADDRESS=Sellersville Theater 24 W Temple Ave Sellersville PA 18960 United States;X-APPLE-RADIUS=500;X-TITLE=24 W Temple Ave:geo:-75.3114718,40.3592641
END:VEVENT
END:VCALENDAR