BEGIN:VCALENDAR
VERSION:2.0
PRODID:-//Matt Cappy - ECPv6.15.20//NONSGML v1.0//EN
CALSCALE:GREGORIAN
METHOD:PUBLISH
X-ORIGINAL-URL:https://mattcappy.com
X-WR-CALDESC:Events for Matt Cappy
REFRESH-INTERVAL;VALUE=DURATION:PT1H
X-Robots-Tag:noindex
X-PUBLISHED-TTL:PT1H
BEGIN:VTIMEZONE
TZID:America/New_York
BEGIN:DAYLIGHT
TZOFFSETFROM:-0500
TZOFFSETTO:-0400
TZNAME:EDT
DTSTART:20190310T070000
END:DAYLIGHT
BEGIN:STANDARD
TZOFFSETFROM:-0400
TZOFFSETTO:-0500
TZNAME:EST
DTSTART:20191103T060000
END:STANDARD
BEGIN:DAYLIGHT
TZOFFSETFROM:-0500
TZOFFSETTO:-0400
TZNAME:EDT
DTSTART:20200308T070000
END:DAYLIGHT
BEGIN:STANDARD
TZOFFSETFROM:-0400
TZOFFSETTO:-0500
TZNAME:EST
DTSTART:20201101T060000
END:STANDARD
BEGIN:DAYLIGHT
TZOFFSETFROM:-0500
TZOFFSETTO:-0400
TZNAME:EDT
DTSTART:20210314T070000
END:DAYLIGHT
BEGIN:STANDARD
TZOFFSETFROM:-0400
TZOFFSETTO:-0500
TZNAME:EST
DTSTART:20211107T060000
END:STANDARD
BEGIN:DAYLIGHT
TZOFFSETFROM:-0500
TZOFFSETTO:-0400
TZNAME:EDT
DTSTART:20220313T070000
END:DAYLIGHT
BEGIN:STANDARD
TZOFFSETFROM:-0400
TZOFFSETTO:-0500
TZNAME:EST
DTSTART:20221106T060000
END:STANDARD
END:VTIMEZONE
BEGIN:VEVENT
DTSTART;TZID=America/New_York:20210516T150000
DTEND;TZID=America/New_York:20210516T170000
DTSTAMP:20260420T233519
CREATED:20210426T184512Z
LAST-MODIFIED:20210510T143032Z
UID:10000129-1621177200-1621184400@mattcappy.com
SUMMARY:Matt Cappy - Scottish Rite Auditorium
DESCRIPTION:Rescheduled to Sunday 5/16 at 3 due to the forecast.\n\n\n\n\nBring your own lawn chair and snuggle in on the spacious grounds of the Mansion at the Scottish Rite for an evening of amazing music! Matt Cappy is a Trumpeter\, Composer\, and Arranger who has toured\, performed\, or recorded with artists such as Michael Jackson\, Jill Scott\, Elvis Costello\, Jay-Z\, Earth\, Wind\, & Fire\, Dave Matthews Band\, The Roots\, Amos Lee\, The Mavericks\, and Ms. Patti LaBelle to name a few. He has recorded on 4 Grammy Winning albums : Fred Hammond’s “Free To Worship” in 2008\, Kirk Franklin’s “Fight Of My Life” in 2009\, John Legend And The Roots “Wake Up” in 2011\, and Alejandro Sanz’s “Sirope” in 2015. Matt appeared in the movie “Dave Chappelle’s Block Party” in 2005 and also appears in Jill Scott’s “Live In Paris” DVD released in 2008 and recorded a live album at the famous ACL Live in Austin\, TX with The Mavericks entitled “All Night Live Vol. 1.” Matt is a Yamaha Performing Artist and a Ropeadope Records recording artist. His debut album\, “Church And State” was released in 2017 to critical acclaim and his sophomore album entitled “Tale Of The Tape” will be released this Fall! \nPlenty of room to social distance. Bring your own chair/snacks. Our bar will be open for alcohol sales. \nAdmission $15.00. Cash or credit cards accepted. \nMasks required when not seated. Seating is limited.
URL:https://mattcappy.com/event/matt-cappy-scottish-rite-auditorium/
LOCATION:Scottish Rite\, 315 White Horse Pike\, Collingswood\, NJ\, 08107\, United States
CATEGORIES:performances
ATTACH;FMTTYPE=image/jpeg:https://mattcappy.com/wp-content/uploads/2021/04/scottishrite.jpg
GEO:39.9144867;-75.0846542
X-APPLE-STRUCTURED-LOCATION;VALUE=URI;X-ADDRESS=Scottish Rite 315 White Horse Pike Collingswood NJ 08107 United States;X-APPLE-RADIUS=500;X-TITLE=315 White Horse Pike:geo:-75.0846542,39.9144867
END:VEVENT
BEGIN:VEVENT
DTSTART;TZID=America/New_York:20201023T190000
DTEND;TZID=America/New_York:20201023T213000
DTSTAMP:20260420T233519
CREATED:20201010T044144Z
LAST-MODIFIED:20201028T175042Z
UID:10000126-1603479600-1603488600@mattcappy.com
SUMMARY:Matt Cappy - Scottish Rite
DESCRIPTION:Bring your own lawn chair/blanket and stretch out at a safe\, social distance on the spacious grounds of the Scottish Rite to hear Matt Cappy. \nOpening for Matt will be guitarist Ross Bellenoit. \nThe concert is outdoors under the stars on the spacious grounds at the Scottish Rite. Bring your own lawn chair and spread out at a safe social distance! Bring your own snacks/soft drinks if you choose. Our bar will be open for alcohol sales. \nAdmission $15.00. Cash or credit cards accepted. Mask required when not seated.
URL:https://mattcappy.com/event/matt-cappy-scottish-rite/
LOCATION:Scottish Rite\, 315 White Horse Pike\, Collingswood\, NJ\, 08107\, United States
CATEGORIES:performances
ATTACH;FMTTYPE=image/png:https://mattcappy.com/wp-content/uploads/2020/10/scottish-rite.png
GEO:39.9144867;-75.0846542
X-APPLE-STRUCTURED-LOCATION;VALUE=URI;X-ADDRESS=Scottish Rite 315 White Horse Pike Collingswood NJ 08107 United States;X-APPLE-RADIUS=500;X-TITLE=315 White Horse Pike:geo:-75.0846542,39.9144867
END:VEVENT
END:VCALENDAR