BEGIN:VCALENDAR
VERSION:2.0
PRODID:-//Matt Cappy - ECPv6.15.20//NONSGML v1.0//EN
CALSCALE:GREGORIAN
METHOD:PUBLISH
X-WR-CALNAME:Matt Cappy
X-ORIGINAL-URL:https://mattcappy.com
X-WR-CALDESC:Events for Matt Cappy
REFRESH-INTERVAL;VALUE=DURATION:PT1H
X-Robots-Tag:noindex
X-PUBLISHED-TTL:PT1H
BEGIN:VTIMEZONE
TZID:UTC
BEGIN:STANDARD
TZOFFSETFROM:+0000
TZOFFSETTO:+0000
TZNAME:UTC
DTSTART:20180101T000000
END:STANDARD
END:VTIMEZONE
BEGIN:VEVENT
DTSTART;TZID=UTC:20190207T200000
DTEND;TZID=UTC:20190207T230000
DTSTAMP:20260422T144005
CREATED:20190112T000438Z
LAST-MODIFIED:20190112T021123Z
UID:10000077-1549569600-1549580400@mattcappy.com
SUMMARY:With Patti LaBelle
DESCRIPTION:Clearwater\, FL : Ruth Eckard Hall
URL:https://mattcappy.com/event/with-patti-labelle/
LOCATION:Ruth Eckard Hall\, 1111 McMullen Booth Rd\, Clearwater\, FL\, 33759\, United States
CATEGORIES:performances
ATTACH;FMTTYPE=image/jpeg:https://mattcappy.com/wp-content/uploads/2018/08/patti.jpg
GEO:27.9758671;-82.7049526
X-APPLE-STRUCTURED-LOCATION;VALUE=URI;X-ADDRESS=Ruth Eckard Hall 1111 McMullen Booth Rd Clearwater FL 33759 United States;X-APPLE-RADIUS=500;X-TITLE=1111 McMullen Booth Rd:geo:-82.7049526,27.9758671
END:VEVENT
END:VCALENDAR