BEGIN:VCALENDAR
VERSION:2.0
PRODID:-//Matt Cappy - ECPv6.15.20//NONSGML v1.0//EN
CALSCALE:GREGORIAN
METHOD:PUBLISH
X-ORIGINAL-URL:https://mattcappy.com
X-WR-CALDESC:Events for Matt Cappy
REFRESH-INTERVAL;VALUE=DURATION:PT1H
X-Robots-Tag:noindex
X-PUBLISHED-TTL:PT1H
BEGIN:VTIMEZONE
TZID:UTC
BEGIN:STANDARD
TZOFFSETFROM:+0000
TZOFFSETTO:+0000
TZNAME:UTC
DTSTART:20180101T000000
END:STANDARD
END:VTIMEZONE
BEGIN:VEVENT
DTSTART;TZID=UTC:20190606T190000
DTEND;TZID=UTC:20190606T230000
DTSTAMP:20260422T004413
CREATED:20190502T180906Z
LAST-MODIFIED:20190502T180906Z
UID:10000089-1559847600-1559862000@mattcappy.com
SUMMARY:Burlington Jazz Fest
DESCRIPTION:-Matt Cappy\nJune 6\, 2019  7-11pm\nBurlington\, VT\nBurlington Jazz Fest\nRed Square\n136 Church St.\nBurlington\, VT 05401
URL:https://mattcappy.com/event/burlington-jazz-fest/
LOCATION:Red Square\, 136 Church St\, Burlington\, VT\, 05401\, United States
CATEGORIES:performances
ATTACH;FMTTYPE=image/jpeg:https://mattcappy.com/wp-content/uploads/2017/12/matt-philly-dot-com.jpg
GEO:44.47657;-73.2123706
X-APPLE-STRUCTURED-LOCATION;VALUE=URI;X-ADDRESS=Red Square 136 Church St Burlington VT 05401 United States;X-APPLE-RADIUS=500;X-TITLE=136 Church St:geo:-73.2123706,44.47657
END:VEVENT
BEGIN:VEVENT
DTSTART;TZID=UTC:20190316T200000
DTEND;TZID=UTC:20190316T220000
DTSTAMP:20260422T004413
CREATED:20190307T212231Z
LAST-MODIFIED:20190307T212231Z
UID:10000007-1552766400-1552773600@mattcappy.com
SUMMARY:Red Square
DESCRIPTION:-Saturday March 16\, 2019\n@Red Square\n136 Church St\nBurlington\, VT 05401
URL:https://mattcappy.com/event/red-square/
LOCATION:Red Square\, 136 Church St\, Burlington\, VT\, 05401\, United States
CATEGORIES:performances
ATTACH;FMTTYPE=image/jpeg:https://mattcappy.com/wp-content/uploads/2019/03/redsquare.jpg
GEO:44.47657;-73.2123706
X-APPLE-STRUCTURED-LOCATION;VALUE=URI;X-ADDRESS=Red Square 136 Church St Burlington VT 05401 United States;X-APPLE-RADIUS=500;X-TITLE=136 Church St:geo:-73.2123706,44.47657
END:VEVENT
END:VCALENDAR