BEGIN:VCALENDAR
VERSION:2.0
PRODID:-//Matt Cappy - ECPv6.15.20//NONSGML v1.0//EN
CALSCALE:GREGORIAN
METHOD:PUBLISH
X-ORIGINAL-URL:https://mattcappy.com
X-WR-CALDESC:Events for Matt Cappy
REFRESH-INTERVAL;VALUE=DURATION:PT1H
X-Robots-Tag:noindex
X-PUBLISHED-TTL:PT1H
BEGIN:VTIMEZONE
TZID:UTC
BEGIN:STANDARD
TZOFFSETFROM:+0000
TZOFFSETTO:+0000
TZNAME:UTC
DTSTART:20180101T000000
END:STANDARD
END:VTIMEZONE
BEGIN:VEVENT
DTSTART;TZID=UTC:20190215T200000
DTEND;TZID=UTC:20190215T230000
DTSTAMP:20260422T075411
CREATED:20190128T194959Z
LAST-MODIFIED:20190128T194959Z
UID:10000005-1550260800-1550271600@mattcappy.com
SUMMARY:w/ Patti LaBelle
DESCRIPTION:Patti LaBelle w/ Freddie Jackson at NJPAC
URL:https://mattcappy.com/event/w-patti-labelle-19/
LOCATION:NJPAC\, 1 Center St\, Newark\, 07102\, United States
CATEGORIES:performances
ATTACH;FMTTYPE=image/jpeg:https://mattcappy.com/wp-content/uploads/2019/01/patti-njpac.jpg
GEO:40.7401103;-74.1673925
X-APPLE-STRUCTURED-LOCATION;VALUE=URI;X-ADDRESS=NJPAC 1 Center St Newark 07102 United States;X-APPLE-RADIUS=500;X-TITLE=1 Center St:geo:-74.1673925,40.7401103
END:VEVENT
END:VCALENDAR