BEGIN:VCALENDAR
VERSION:2.0
PRODID:-//Matt Cappy - ECPv6.15.20//NONSGML v1.0//EN
CALSCALE:GREGORIAN
METHOD:PUBLISH
X-ORIGINAL-URL:https://mattcappy.com
X-WR-CALDESC:Events for Matt Cappy
REFRESH-INTERVAL;VALUE=DURATION:PT1H
X-Robots-Tag:noindex
X-PUBLISHED-TTL:PT1H
BEGIN:VTIMEZONE
TZID:America/New_York
BEGIN:DAYLIGHT
TZOFFSETFROM:-0500
TZOFFSETTO:-0400
TZNAME:EDT
DTSTART:20230312T070000
END:DAYLIGHT
BEGIN:STANDARD
TZOFFSETFROM:-0400
TZOFFSETTO:-0500
TZNAME:EST
DTSTART:20231105T060000
END:STANDARD
BEGIN:DAYLIGHT
TZOFFSETFROM:-0500
TZOFFSETTO:-0400
TZNAME:EDT
DTSTART:20240310T070000
END:DAYLIGHT
BEGIN:STANDARD
TZOFFSETFROM:-0400
TZOFFSETTO:-0500
TZNAME:EST
DTSTART:20241103T060000
END:STANDARD
BEGIN:DAYLIGHT
TZOFFSETFROM:-0500
TZOFFSETTO:-0400
TZNAME:EDT
DTSTART:20250309T070000
END:DAYLIGHT
BEGIN:STANDARD
TZOFFSETFROM:-0400
TZOFFSETTO:-0500
TZNAME:EST
DTSTART:20251102T060000
END:STANDARD
BEGIN:DAYLIGHT
TZOFFSETFROM:-0500
TZOFFSETTO:-0400
TZNAME:EDT
DTSTART:20260308T070000
END:DAYLIGHT
BEGIN:STANDARD
TZOFFSETFROM:-0400
TZOFFSETTO:-0500
TZNAME:EST
DTSTART:20261101T060000
END:STANDARD
END:VTIMEZONE
BEGIN:VEVENT
DTSTART;TZID=America/New_York:20250504T170000
DTEND;TZID=America/New_York:20250504T190000
DTSTAMP:20260420T072731
CREATED:20250509T064412Z
LAST-MODIFIED:20250509T064416Z
UID:10000197-1746378000-1746385200@mattcappy.com
SUMMARY:w Patti LaBelle  New Orleans Jazz & Heritage Fest
DESCRIPTION:w/ Miss Patti LaBelle
URL:https://mattcappy.com/event/w-patti-labelle-new-orleans-jazz-heritage-fest/
LOCATION:New Orleans Jazz & Heritage Festival\, 1751 Gentilly Blvd\, New Orleans\, 70119\, United States
CATEGORIES:performances
ATTACH;FMTTYPE=image/jpeg:https://mattcappy.com/wp-content/uploads/2024/04/jazzfest.jpg
GEO:29.9836851;-90.0770583
X-APPLE-STRUCTURED-LOCATION;VALUE=URI;X-ADDRESS=New Orleans Jazz & Heritage Festival 1751 Gentilly Blvd New Orleans 70119 United States;X-APPLE-RADIUS=500;X-TITLE=1751 Gentilly Blvd:geo:-90.0770583,29.9836851
END:VEVENT
BEGIN:VEVENT
DTSTART;TZID=America/New_York:20240504T170000
DTEND;TZID=America/New_York:20240504T190000
DTSTAMP:20260420T072731
CREATED:20240501T000950Z
LAST-MODIFIED:20240501T000957Z
UID:10000181-1714842000-1714849200@mattcappy.com
SUMMARY:Queen Latifah  New Orleans Jazz & Heritage Fest
DESCRIPTION:Queen Latifah\nCongo Square Stage
URL:https://mattcappy.com/event/queen-latifah-new-orleans-jazz-heritage-fest/
LOCATION:New Orleans Jazz & Heritage Festival\, 1751 Gentilly Blvd\, New Orleans\, 70119\, United States
CATEGORIES:performances
ATTACH;FMTTYPE=image/jpeg:https://mattcappy.com/wp-content/uploads/2024/04/jazzfest.jpg
GEO:29.9836851;-90.0770583
X-APPLE-STRUCTURED-LOCATION;VALUE=URI;X-ADDRESS=New Orleans Jazz & Heritage Festival 1751 Gentilly Blvd New Orleans 70119 United States;X-APPLE-RADIUS=500;X-TITLE=1751 Gentilly Blvd:geo:-90.0770583,29.9836851
END:VEVENT
END:VCALENDAR