BEGIN:VCALENDAR
VERSION:2.0
PRODID:-//Matt Cappy - ECPv6.15.20//NONSGML v1.0//EN
CALSCALE:GREGORIAN
METHOD:PUBLISH
X-WR-CALNAME:Matt Cappy
X-ORIGINAL-URL:https://mattcappy.com
X-WR-CALDESC:Events for Matt Cappy
REFRESH-INTERVAL;VALUE=DURATION:PT1H
X-Robots-Tag:noindex
X-PUBLISHED-TTL:PT1H
BEGIN:VTIMEZONE
TZID:America/New_York
BEGIN:DAYLIGHT
TZOFFSETFROM:-0500
TZOFFSETTO:-0400
TZNAME:EDT
DTSTART:20180311T070000
END:DAYLIGHT
BEGIN:STANDARD
TZOFFSETFROM:-0400
TZOFFSETTO:-0500
TZNAME:EST
DTSTART:20181104T060000
END:STANDARD
BEGIN:DAYLIGHT
TZOFFSETFROM:-0500
TZOFFSETTO:-0400
TZNAME:EDT
DTSTART:20190310T070000
END:DAYLIGHT
BEGIN:STANDARD
TZOFFSETFROM:-0400
TZOFFSETTO:-0500
TZNAME:EST
DTSTART:20191103T060000
END:STANDARD
BEGIN:DAYLIGHT
TZOFFSETFROM:-0500
TZOFFSETTO:-0400
TZNAME:EDT
DTSTART:20200308T070000
END:DAYLIGHT
BEGIN:STANDARD
TZOFFSETFROM:-0400
TZOFFSETTO:-0500
TZNAME:EST
DTSTART:20201101T060000
END:STANDARD
END:VTIMEZONE
BEGIN:VEVENT
DTSTART;TZID=America/New_York:20191003T200000
DTEND;TZID=America/New_York:20191003T220000
DTSTAMP:20260424T072841
CREATED:20190917T040536Z
LAST-MODIFIED:20190917T040536Z
UID:10000020-1570132800-1570140000@mattcappy.com
SUMMARY:W/ Patti LaBelle
DESCRIPTION:W/ Patti LaBelle\nThursday Oct 3\,  2019\nMagnolia Performing Arts Center\nEl Cajon\, CA\n8pm
URL:https://mattcappy.com/event/w-patti-labelle-32/
LOCATION:Magnolia Performing Arts Center\, 210 E Main St\, El Cajon\, CA\, 92020\, United States
CATEGORIES:performances
ATTACH;FMTTYPE=image/jpeg:https://mattcappy.com/wp-content/uploads/2019/01/patti1000x500.jpg
GEO:32.7956439;-116.9595783
X-APPLE-STRUCTURED-LOCATION;VALUE=URI;X-ADDRESS=Magnolia Performing Arts Center 210 E Main St El Cajon CA 92020 United States;X-APPLE-RADIUS=500;X-TITLE=210 E Main St:geo:-116.9595783,32.7956439
END:VEVENT
END:VCALENDAR