BEGIN:VCALENDAR
VERSION:2.0
PRODID:-//Matt Cappy - ECPv6.15.20//NONSGML v1.0//EN
CALSCALE:GREGORIAN
METHOD:PUBLISH
X-ORIGINAL-URL:https://mattcappy.com
X-WR-CALDESC:Events for Matt Cappy
REFRESH-INTERVAL;VALUE=DURATION:PT1H
X-Robots-Tag:noindex
X-PUBLISHED-TTL:PT1H
BEGIN:VTIMEZONE
TZID:UTC
BEGIN:STANDARD
TZOFFSETFROM:+0000
TZOFFSETTO:+0000
TZNAME:UTC
DTSTART:20180101T000000
END:STANDARD
END:VTIMEZONE
BEGIN:VEVENT
DTSTART;TZID=UTC:20190126T200000
DTEND;TZID=UTC:20190126T230000
DTSTAMP:20260422T121831
CREATED:20190111T234731Z
LAST-MODIFIED:20190111T234731Z
UID:10000035-1548532800-1548543600@mattcappy.com
SUMMARY:w/ Patti LaBelle
DESCRIPTION:@Macon\, GA : Macon Cetreplex Coliseum
URL:https://mattcappy.com/event/w-patti-labelle-12/
LOCATION:Macon Centreplex\, Coliseum & Auditorium\, 200 Coliseum Dr.\, Macon\, GA\, 31217\, United States
CATEGORIES:performances
ATTACH;FMTTYPE=image/jpeg:https://mattcappy.com/wp-content/uploads/2019/01/macon.jpg
GEO:32.8420693;-83.6193782
X-APPLE-STRUCTURED-LOCATION;VALUE=URI;X-ADDRESS=Macon Centreplex Coliseum & Auditorium 200 Coliseum Dr. Macon GA 31217 United States;X-APPLE-RADIUS=500;X-TITLE=200 Coliseum Dr.:geo:-83.6193782,32.8420693
END:VEVENT
END:VCALENDAR