BEGIN:VCALENDAR
VERSION:2.0
PRODID:-//Matt Cappy - ECPv6.15.20//NONSGML v1.0//EN
CALSCALE:GREGORIAN
METHOD:PUBLISH
X-ORIGINAL-URL:https://mattcappy.com
X-WR-CALDESC:Events for Matt Cappy
REFRESH-INTERVAL;VALUE=DURATION:PT1H
X-Robots-Tag:noindex
X-PUBLISHED-TTL:PT1H
BEGIN:VTIMEZONE
TZID:UTC
BEGIN:STANDARD
TZOFFSETFROM:+0000
TZOFFSETTO:+0000
TZNAME:UTC
DTSTART:20180101T000000
END:STANDARD
END:VTIMEZONE
BEGIN:VEVENT
DTSTART;TZID=UTC:20190206T200000
DTEND;TZID=UTC:20190206T230000
DTSTAMP:20260422T202650
CREATED:20190112T000107Z
LAST-MODIFIED:20190112T000107Z
UID:10000076-1549483200-1549494000@mattcappy.com
SUMMARY:w/ Patti LaBelle
DESCRIPTION:West Palm Beach\, FL : Kravis Center
URL:https://mattcappy.com/event/w-patti-labelle-14/
LOCATION:Kravis Center\, 701 Okeechobee Blvd\, West Palm Beach\, FL\, 33401\, United States
CATEGORIES:performances
ATTACH;FMTTYPE=image/jpeg:https://mattcappy.com/wp-content/uploads/2018/08/patti.jpg
GEO:26.7068774;-80.0603901
X-APPLE-STRUCTURED-LOCATION;VALUE=URI;X-ADDRESS=Kravis Center 701 Okeechobee Blvd West Palm Beach FL 33401 United States;X-APPLE-RADIUS=500;X-TITLE=701 Okeechobee Blvd:geo:-80.0603901,26.7068774
END:VEVENT
END:VCALENDAR