BEGIN:VCALENDAR
VERSION:2.0
PRODID:-//Matt Cappy - ECPv6.15.20//NONSGML v1.0//EN
CALSCALE:GREGORIAN
METHOD:PUBLISH
X-WR-CALNAME:Matt Cappy
X-ORIGINAL-URL:https://mattcappy.com
X-WR-CALDESC:Events for Matt Cappy
REFRESH-INTERVAL;VALUE=DURATION:PT1H
X-Robots-Tag:noindex
X-PUBLISHED-TTL:PT1H
BEGIN:VTIMEZONE
TZID:UTC
BEGIN:STANDARD
TZOFFSETFROM:+0000
TZOFFSETTO:+0000
TZNAME:UTC
DTSTART:20180101T000000
END:STANDARD
END:VTIMEZONE
BEGIN:VEVENT
DTSTART;TZID=UTC:20190322T200000
DTEND;TZID=UTC:20190322T230000
DTSTAMP:20260421T225626
CREATED:20190307T214531Z
LAST-MODIFIED:20190307T214531Z
UID:10000003-1553284800-1553295600@mattcappy.com
SUMMARY:w/ Patti LaBelle
DESCRIPTION:Lindenwood University’s J. Scheidegger Center for the Arts \nCharles\, MO
URL:https://mattcappy.com/event/w-patti-labelle-22/
LOCATION:J. Scheidegger Center for the Arts\, 209 S. Kings highway\, St. Charles\, MO\, 63301\, United States
CATEGORIES:performances
ATTACH;FMTTYPE=image/jpeg:https://mattcappy.com/wp-content/uploads/2018/08/patti.jpg
GEO:38.7881378;-90.5086734
X-APPLE-STRUCTURED-LOCATION;VALUE=URI;X-ADDRESS=J. Scheidegger Center for the Arts 209 S. Kings highway St. Charles MO 63301 United States;X-APPLE-RADIUS=500;X-TITLE=209 S. Kings highway:geo:-90.5086734,38.7881378
END:VEVENT
END:VCALENDAR