BEGIN:VCALENDAR
VERSION:2.0
PRODID:-//Matt Cappy - ECPv6.15.20//NONSGML v1.0//EN
CALSCALE:GREGORIAN
METHOD:PUBLISH
X-WR-CALNAME:Matt Cappy
X-ORIGINAL-URL:https://mattcappy.com
X-WR-CALDESC:Events for Matt Cappy
REFRESH-INTERVAL;VALUE=DURATION:PT1H
X-Robots-Tag:noindex
X-PUBLISHED-TTL:PT1H
BEGIN:VTIMEZONE
TZID:UTC
BEGIN:STANDARD
TZOFFSETFROM:+0000
TZOFFSETTO:+0000
TZNAME:UTC
DTSTART:20180101T000000
END:STANDARD
END:VTIMEZONE
BEGIN:VEVENT
DTSTART;TZID=UTC:20190118T200000
DTEND;TZID=UTC:20190118T220000
DTSTAMP:20260424T072719
CREATED:20190111T232651Z
LAST-MODIFIED:20190111T232651Z
UID:10000042-1547841600-1547848800@mattcappy.com
SUMMARY:w/ Patti LaBelle
DESCRIPTION:@ Isleta Resort & Casino\, Albuquerque\, NM
URL:https://mattcappy.com/event/w-patti-labelle-10/
LOCATION:Isleta Resort & Casino\, 11000 Broadway SE\, Albuquerque\, NM\, 87105\, United States
CATEGORIES:performances
ATTACH;FMTTYPE=image/jpeg:https://mattcappy.com/wp-content/uploads/2019/01/patti-NM.jpg
GEO:34.9381089;-106.6619654
X-APPLE-STRUCTURED-LOCATION;VALUE=URI;X-ADDRESS=Isleta Resort & Casino 11000 Broadway SE Albuquerque NM 87105 United States;X-APPLE-RADIUS=500;X-TITLE=11000 Broadway SE:geo:-106.6619654,34.9381089
END:VEVENT
END:VCALENDAR