BEGIN:VCALENDAR
VERSION:2.0
PRODID:-//Matt Cappy - ECPv6.15.20//NONSGML v1.0//EN
CALSCALE:GREGORIAN
METHOD:PUBLISH
X-ORIGINAL-URL:https://mattcappy.com
X-WR-CALDESC:Events for Matt Cappy
REFRESH-INTERVAL;VALUE=DURATION:PT1H
X-Robots-Tag:noindex
X-PUBLISHED-TTL:PT1H
BEGIN:VTIMEZONE
TZID:UTC
BEGIN:STANDARD
TZOFFSETFROM:+0000
TZOFFSETTO:+0000
TZNAME:UTC
DTSTART:20160101T000000
END:STANDARD
END:VTIMEZONE
BEGIN:VEVENT
DTSTART;VALUE=DATE:20170930
DTEND;VALUE=DATE:20171002
DTSTAMP:20260424T085344
CREATED:20170907T195517Z
LAST-MODIFIED:20170907T195517Z
UID:10000052-1506736800-1506823199@mattcappy.com
SUMMARY:ESSENCE Music Festival - Appearing w/ JILL SCOTT
DESCRIPTION:ESSENCE Music Festival – Appearing w/ JILL SCOTT
URL:https://mattcappy.com/event/essence-music-festival-appearing-w-jill-scott/
LOCATION:International Convention Centre\, 45 Bram Fischer Road\, Durban\, Durban\, South Africa
CATEGORIES:performances
GEO:-29.8545048;31.0288066
X-APPLE-STRUCTURED-LOCATION;VALUE=URI;X-ADDRESS=International Convention Centre 45 Bram Fischer Road Durban Durban South Africa;X-APPLE-RADIUS=500;X-TITLE=45 Bram Fischer Road:geo:31.0288066,-29.8545048
END:VEVENT
END:VCALENDAR