BEGIN:VCALENDAR
VERSION:2.0
PRODID:-//Matt Cappy - ECPv6.15.20//NONSGML v1.0//EN
CALSCALE:GREGORIAN
METHOD:PUBLISH
X-ORIGINAL-URL:https://mattcappy.com
X-WR-CALDESC:Events for Matt Cappy
REFRESH-INTERVAL;VALUE=DURATION:PT1H
X-Robots-Tag:noindex
X-PUBLISHED-TTL:PT1H
BEGIN:VTIMEZONE
TZID:America/New_York
BEGIN:DAYLIGHT
TZOFFSETFROM:-0500
TZOFFSETTO:-0400
TZNAME:EDT
DTSTART:20210314T070000
END:DAYLIGHT
BEGIN:STANDARD
TZOFFSETFROM:-0400
TZOFFSETTO:-0500
TZNAME:EST
DTSTART:20211107T060000
END:STANDARD
BEGIN:DAYLIGHT
TZOFFSETFROM:-0500
TZOFFSETTO:-0400
TZNAME:EDT
DTSTART:20220313T070000
END:DAYLIGHT
BEGIN:STANDARD
TZOFFSETFROM:-0400
TZOFFSETTO:-0500
TZNAME:EST
DTSTART:20221106T060000
END:STANDARD
BEGIN:DAYLIGHT
TZOFFSETFROM:-0500
TZOFFSETTO:-0400
TZNAME:EDT
DTSTART:20230312T070000
END:DAYLIGHT
BEGIN:STANDARD
TZOFFSETFROM:-0400
TZOFFSETTO:-0500
TZNAME:EST
DTSTART:20231105T060000
END:STANDARD
END:VTIMEZONE
BEGIN:VEVENT
DTSTART;TZID=America/New_York:20221126T210000
DTEND;TZID=America/New_York:20221126T230000
DTSTAMP:20260421T211455
CREATED:20221123T045426Z
LAST-MODIFIED:20221123T083415Z
UID:10000150-1669496400-1669503600@mattcappy.com
SUMMARY:Philadelphia Tribute to The Last Waltz
DESCRIPTION:A Philadelphia Tribute to The Last Waltz\, a Benefit for Make The World Better Foundation \nGet Tickets
URL:https://mattcappy.com/event/philadelphia-tribute-to-the-last-waltz/
LOCATION:Franklin Music Hall\, 421 N. 7th Street\, Philadelphia\, PA\, 19123\, United States
CATEGORIES:performances
ATTACH;FMTTYPE=image/jpeg:https://mattcappy.com/wp-content/uploads/2022/11/last_waltz.jpg
GEO:39.9588648;-75.1502099
X-APPLE-STRUCTURED-LOCATION;VALUE=URI;X-ADDRESS=Franklin Music Hall 421 N. 7th Street Philadelphia PA 19123 United States;X-APPLE-RADIUS=500;X-TITLE=421 N. 7th Street:geo:-75.1502099,39.9588648
END:VEVENT
END:VCALENDAR