BEGIN:VCALENDAR
VERSION:2.0
PRODID:-//Matt Cappy - ECPv6.15.20//NONSGML v1.0//EN
CALSCALE:GREGORIAN
METHOD:PUBLISH
X-ORIGINAL-URL:https://mattcappy.com
X-WR-CALDESC:Events for Matt Cappy
REFRESH-INTERVAL;VALUE=DURATION:PT1H
X-Robots-Tag:noindex
X-PUBLISHED-TTL:PT1H
BEGIN:VTIMEZONE
TZID:America/New_York
BEGIN:DAYLIGHT
TZOFFSETFROM:-0500
TZOFFSETTO:-0400
TZNAME:EDT
DTSTART:20210314T070000
END:DAYLIGHT
BEGIN:STANDARD
TZOFFSETFROM:-0400
TZOFFSETTO:-0500
TZNAME:EST
DTSTART:20211107T060000
END:STANDARD
BEGIN:DAYLIGHT
TZOFFSETFROM:-0500
TZOFFSETTO:-0400
TZNAME:EDT
DTSTART:20220313T070000
END:DAYLIGHT
BEGIN:STANDARD
TZOFFSETFROM:-0400
TZOFFSETTO:-0500
TZNAME:EST
DTSTART:20221106T060000
END:STANDARD
BEGIN:DAYLIGHT
TZOFFSETFROM:-0500
TZOFFSETTO:-0400
TZNAME:EDT
DTSTART:20230312T070000
END:DAYLIGHT
BEGIN:STANDARD
TZOFFSETFROM:-0400
TZOFFSETTO:-0500
TZNAME:EST
DTSTART:20231105T060000
END:STANDARD
END:VTIMEZONE
BEGIN:VEVENT
DTSTART;TZID=America/New_York:20220615T173000
DTEND;TZID=America/New_York:20220615T193000
DTSTAMP:20260421T135646
CREATED:20220427T065002Z
LAST-MODIFIED:20220427T065005Z
UID:10000141-1655314200-1655321400@mattcappy.com
SUMMARY:Matt Cappy - Philadelphia Flower Show
DESCRIPTION:Matt Cappy\nThe Philadelphia Flower Show
URL:https://mattcappy.com/event/matt-cappy-philadelphia-flower-show/
LOCATION:FDR Park\, 1500 Pattison Avenue & S Broad St\, philadelphia\, 19145
CATEGORIES:performances
ATTACH;FMTTYPE=image/jpeg:https://mattcappy.com/wp-content/uploads/2022/04/PHS-400.jpg
GEO:39.9055502;-75.1755824
X-APPLE-STRUCTURED-LOCATION;VALUE=URI;X-ADDRESS=FDR Park 1500 Pattison Avenue & S Broad St philadelphia 19145;X-APPLE-RADIUS=500;X-TITLE=1500 Pattison Avenue & S Broad St:geo:-75.1755824,39.9055502
END:VEVENT
END:VCALENDAR