BEGIN:VCALENDAR
VERSION:2.0
PRODID:-//Matt Cappy - ECPv6.15.20//NONSGML v1.0//EN
CALSCALE:GREGORIAN
METHOD:PUBLISH
X-ORIGINAL-URL:https://mattcappy.com
X-WR-CALDESC:Events for Matt Cappy
REFRESH-INTERVAL;VALUE=DURATION:PT1H
X-Robots-Tag:noindex
X-PUBLISHED-TTL:PT1H
BEGIN:VTIMEZONE
TZID:America/New_York
BEGIN:DAYLIGHT
TZOFFSETFROM:-0500
TZOFFSETTO:-0400
TZNAME:EDT
DTSTART:20190310T070000
END:DAYLIGHT
BEGIN:STANDARD
TZOFFSETFROM:-0400
TZOFFSETTO:-0500
TZNAME:EST
DTSTART:20191103T060000
END:STANDARD
BEGIN:DAYLIGHT
TZOFFSETFROM:-0500
TZOFFSETTO:-0400
TZNAME:EDT
DTSTART:20200308T070000
END:DAYLIGHT
BEGIN:STANDARD
TZOFFSETFROM:-0400
TZOFFSETTO:-0500
TZNAME:EST
DTSTART:20201101T060000
END:STANDARD
BEGIN:DAYLIGHT
TZOFFSETFROM:-0500
TZOFFSETTO:-0400
TZNAME:EDT
DTSTART:20210314T070000
END:DAYLIGHT
BEGIN:STANDARD
TZOFFSETFROM:-0400
TZOFFSETTO:-0500
TZNAME:EST
DTSTART:20211107T060000
END:STANDARD
END:VTIMEZONE
BEGIN:VEVENT
DTSTART;TZID=America/New_York:20200814T180000
DTEND;TZID=America/New_York:20200814T203000
DTSTAMP:20260421T042402
CREATED:20200806T021802Z
LAST-MODIFIED:20200806T021802Z
UID:10000124-1597428000-1597437000@mattcappy.com
SUMMARY:Matt Cappy Band
DESCRIPTION:MATT CAPPY BAND\n@ Elaine’s Cape May\n513 Lafayette St.\nCape May\, NJ 08204\nSets 6pm & 7:15pm\ntickets $10
URL:https://mattcappy.com/event/matt-cappy-band/
LOCATION:Elaine’s Cape May\, 513 Lafayette St\, Cape May\, NJ\, 08204\, United States
CATEGORIES:performances
ATTACH;FMTTYPE=image/png:https://mattcappy.com/wp-content/uploads/2020/08/elaine-1.png
GEO:38.9342455;-74.923115
X-APPLE-STRUCTURED-LOCATION;VALUE=URI;X-ADDRESS=Elaine’s Cape May 513 Lafayette St Cape May NJ 08204 United States;X-APPLE-RADIUS=500;X-TITLE=513 Lafayette St:geo:-74.923115,38.9342455
END:VEVENT
END:VCALENDAR