BEGIN:VCALENDAR
VERSION:2.0
PRODID:-//Matt Cappy - ECPv6.15.20//NONSGML v1.0//EN
CALSCALE:GREGORIAN
METHOD:PUBLISH
X-WR-CALNAME:Matt Cappy
X-ORIGINAL-URL:https://mattcappy.com
X-WR-CALDESC:Events for Matt Cappy
REFRESH-INTERVAL;VALUE=DURATION:PT1H
X-Robots-Tag:noindex
X-PUBLISHED-TTL:PT1H
BEGIN:VTIMEZONE
TZID:America/New_York
BEGIN:DAYLIGHT
TZOFFSETFROM:-0500
TZOFFSETTO:-0400
TZNAME:EDT
DTSTART:20240310T070000
END:DAYLIGHT
BEGIN:STANDARD
TZOFFSETFROM:-0400
TZOFFSETTO:-0500
TZNAME:EST
DTSTART:20241103T060000
END:STANDARD
BEGIN:DAYLIGHT
TZOFFSETFROM:-0500
TZOFFSETTO:-0400
TZNAME:EDT
DTSTART:20250309T070000
END:DAYLIGHT
BEGIN:STANDARD
TZOFFSETFROM:-0400
TZOFFSETTO:-0500
TZNAME:EST
DTSTART:20251102T060000
END:STANDARD
BEGIN:DAYLIGHT
TZOFFSETFROM:-0500
TZOFFSETTO:-0400
TZNAME:EDT
DTSTART:20260308T070000
END:DAYLIGHT
BEGIN:STANDARD
TZOFFSETFROM:-0400
TZOFFSETTO:-0500
TZNAME:EST
DTSTART:20261101T060000
END:STANDARD
END:VTIMEZONE
BEGIN:VEVENT
DTSTART;TZID=America/New_York:20251016T184500
DTEND;TZID=America/New_York:20251016T193000
DTSTAMP:20260420T105924
CREATED:20250911T033505Z
LAST-MODIFIED:20251008T040347Z
UID:10000204-1760640300-1760643000@mattcappy.com
SUMMARY:Concerts at The Commons
DESCRIPTION:
URL:https://mattcappy.com/event/concerts-at-the-commons/
LOCATION:Broad Commons Park\, Doyle St\, Doylestown\, PA\, 18901\, United States
CATEGORIES:performances
ATTACH;FMTTYPE=image/jpeg:https://mattcappy.com/wp-content/uploads/2025/09/9-25Cappy-Concert-at-The-Commons-Doylestown-Flyer-tn.jpg
GEO:40.3130378;-75.1355102
X-APPLE-STRUCTURED-LOCATION;VALUE=URI;X-ADDRESS=Broad Commons Park Doyle St Doylestown PA 18901 United States;X-APPLE-RADIUS=500;X-TITLE=Doyle St:geo:-75.1355102,40.3130378
END:VEVENT
END:VCALENDAR