BEGIN:VCALENDAR
VERSION:2.0
PRODID:-//Matt Cappy - ECPv6.15.20//NONSGML v1.0//EN
CALSCALE:GREGORIAN
METHOD:PUBLISH
X-ORIGINAL-URL:https://mattcappy.com
X-WR-CALDESC:Events for Matt Cappy
REFRESH-INTERVAL;VALUE=DURATION:PT1H
X-Robots-Tag:noindex
X-PUBLISHED-TTL:PT1H
BEGIN:VTIMEZONE
TZID:UTC
BEGIN:STANDARD
TZOFFSETFROM:+0000
TZOFFSETTO:+0000
TZNAME:UTC
DTSTART:20180101T000000
END:STANDARD
END:VTIMEZONE
BEGIN:VEVENT
DTSTART;TZID=UTC:20190604T200000
DTEND;TZID=UTC:20190604T230000
DTSTAMP:20260422T091133
CREATED:20190510T045804Z
LAST-MODIFIED:20190510T045804Z
UID:10000018-1559678400-1559689200@mattcappy.com
SUMMARY:w/ Patti LaBelle
DESCRIPTION:-w/ Patti LaBelle\nJune 4\, 2019 8-11pm\nBrooklyn. NY\nProspect Park\nFREE!
URL:https://mattcappy.com/event/w-patti-labelle-28/
LOCATION:BRIC\, 9th Street & Prospect Park West\, Brooklyn\, NY\, 11215\, United States
CATEGORIES:performances
ATTACH;FMTTYPE=image/jpeg:https://mattcappy.com/wp-content/uploads/2018/08/patti.jpg
GEO:40.664597;-73.9768575
X-APPLE-STRUCTURED-LOCATION;VALUE=URI;X-ADDRESS=BRIC 9th Street & Prospect Park West Brooklyn NY 11215 United States;X-APPLE-RADIUS=500;X-TITLE=9th Street & Prospect Park West:geo:-73.9768575,40.664597
END:VEVENT
END:VCALENDAR