BEGIN:VCALENDAR
VERSION:2.0
PRODID:-//Matt Cappy - ECPv6.15.20//NONSGML v1.0//EN
CALSCALE:GREGORIAN
METHOD:PUBLISH
X-WR-CALNAME:Matt Cappy
X-ORIGINAL-URL:https://mattcappy.com
X-WR-CALDESC:Events for Matt Cappy
REFRESH-INTERVAL;VALUE=DURATION:PT1H
X-Robots-Tag:noindex
X-PUBLISHED-TTL:PT1H
BEGIN:VTIMEZONE
TZID:UTC
BEGIN:STANDARD
TZOFFSETFROM:+0000
TZOFFSETTO:+0000
TZNAME:UTC
DTSTART:20180101T000000
END:STANDARD
END:VTIMEZONE
BEGIN:VEVENT
DTSTART;TZID=UTC:20190213T193000
DTEND;TZID=UTC:20190213T220000
DTSTAMP:20260422T075320
CREATED:20190128T111351Z
LAST-MODIFIED:20190128T111351Z
UID:10000004-1550086200-1550095200@mattcappy.com
SUMMARY:w/ Patti LaBelle
DESCRIPTION:Blumenthal Performing Arts Center
URL:https://mattcappy.com/event/w-patti-labelle-18/
LOCATION:Blumenthal Performing Arts Center\, 130 North Tryon St\, Charlotte\, SC\, 28202\, United States
CATEGORIES:performances
ATTACH;FMTTYPE=image/jpeg:https://mattcappy.com/wp-content/uploads/2019/01/patti1000x500.jpg
GEO:35.2275545;-80.8417537
X-APPLE-STRUCTURED-LOCATION;VALUE=URI;X-ADDRESS=Blumenthal Performing Arts Center 130 North Tryon St Charlotte SC 28202 United States;X-APPLE-RADIUS=500;X-TITLE=130 North Tryon St:geo:-80.8417537,35.2275545
END:VEVENT
END:VCALENDAR