BEGIN:VCALENDAR
VERSION:2.0
PRODID:-//Matt Cappy - ECPv6.15.20//NONSGML v1.0//EN
CALSCALE:GREGORIAN
METHOD:PUBLISH
X-ORIGINAL-URL:https://mattcappy.com
X-WR-CALDESC:Events for Matt Cappy
REFRESH-INTERVAL;VALUE=DURATION:PT1H
X-Robots-Tag:noindex
X-PUBLISHED-TTL:PT1H
BEGIN:VTIMEZONE
TZID:UTC
BEGIN:STANDARD
TZOFFSETFROM:+0000
TZOFFSETTO:+0000
TZNAME:UTC
DTSTART:20180101T000000
END:STANDARD
END:VTIMEZONE
BEGIN:VEVENT
DTSTART;TZID=UTC:20190127T200000
DTEND;TZID=UTC:20190127T230000
DTSTAMP:20260422T202608
CREATED:20190111T235715Z
LAST-MODIFIED:20190111T235715Z
UID:10000041-1548619200-1548630000@mattcappy.com
SUMMARY:w/ Patti LaBelle
DESCRIPTION:Augusta\, GA :Bell Auditorium
URL:https://mattcappy.com/event/w-patti-labelle-13/
LOCATION:Bell Auditorium\, 712 Telfair St.\, Augusta\, GA\, 30901\, United States
CATEGORIES:performances
ATTACH;FMTTYPE=image/jpeg:https://mattcappy.com/wp-content/uploads/2019/01/patti-GA.jpg
GEO:33.4712927;-81.9660106
X-APPLE-STRUCTURED-LOCATION;VALUE=URI;X-ADDRESS=Bell Auditorium 712 Telfair St. Augusta GA 30901 United States;X-APPLE-RADIUS=500;X-TITLE=712 Telfair St.:geo:-81.9660106,33.4712927
END:VEVENT
END:VCALENDAR