BEGIN:VCALENDAR
VERSION:2.0
PRODID:-//Matt Cappy - ECPv6.15.20//NONSGML v1.0//EN
CALSCALE:GREGORIAN
METHOD:PUBLISH
X-WR-CALNAME:Matt Cappy
X-ORIGINAL-URL:https://mattcappy.com
X-WR-CALDESC:Events for Matt Cappy
REFRESH-INTERVAL;VALUE=DURATION:PT1H
X-Robots-Tag:noindex
X-PUBLISHED-TTL:PT1H
BEGIN:VTIMEZONE
TZID:America/New_York
BEGIN:DAYLIGHT
TZOFFSETFROM:-0500
TZOFFSETTO:-0400
TZNAME:EDT
DTSTART:20180311T070000
END:DAYLIGHT
BEGIN:STANDARD
TZOFFSETFROM:-0400
TZOFFSETTO:-0500
TZNAME:EST
DTSTART:20181104T060000
END:STANDARD
BEGIN:DAYLIGHT
TZOFFSETFROM:-0500
TZOFFSETTO:-0400
TZNAME:EDT
DTSTART:20190310T070000
END:DAYLIGHT
BEGIN:STANDARD
TZOFFSETFROM:-0400
TZOFFSETTO:-0500
TZNAME:EST
DTSTART:20191103T060000
END:STANDARD
BEGIN:DAYLIGHT
TZOFFSETFROM:-0500
TZOFFSETTO:-0400
TZNAME:EDT
DTSTART:20200308T070000
END:DAYLIGHT
BEGIN:STANDARD
TZOFFSETFROM:-0400
TZOFFSETTO:-0500
TZNAME:EST
DTSTART:20201101T060000
END:STANDARD
BEGIN:DAYLIGHT
TZOFFSETFROM:-0500
TZOFFSETTO:-0400
TZNAME:EDT
DTSTART:20210314T070000
END:DAYLIGHT
BEGIN:STANDARD
TZOFFSETFROM:-0400
TZOFFSETTO:-0500
TZNAME:EST
DTSTART:20211107T060000
END:STANDARD
BEGIN:DAYLIGHT
TZOFFSETFROM:-0500
TZOFFSETTO:-0400
TZNAME:EDT
DTSTART:20220313T070000
END:DAYLIGHT
BEGIN:STANDARD
TZOFFSETFROM:-0400
TZOFFSETTO:-0500
TZNAME:EST
DTSTART:20221106T060000
END:STANDARD
BEGIN:DAYLIGHT
TZOFFSETFROM:-0500
TZOFFSETTO:-0400
TZNAME:EDT
DTSTART:20230312T070000
END:DAYLIGHT
BEGIN:STANDARD
TZOFFSETFROM:-0400
TZOFFSETTO:-0500
TZNAME:EST
DTSTART:20231105T060000
END:STANDARD
END:VTIMEZONE
BEGIN:VEVENT
DTSTART;TZID=America/New_York:20221111T200000
DTEND;TZID=America/New_York:20221111T223000
DTSTAMP:20260424T061013
CREATED:20221123T021233Z
LAST-MODIFIED:20221123T021233Z
UID:10000147-1668196800-1668205800@mattcappy.com
SUMMARY:w/ Patti LaBelle
DESCRIPTION:w/ Patti LaBelle\nFriday Nov 11\, 2022\nBeau Rivage Hotel and Casino\nBiloxi\, MS\n8pm
URL:https://mattcappy.com/event/w-patti-labelle-64/
LOCATION:Beau Rivage Resort & Casino\, 875 Beach Blvd\, Biloxi\, MS\, 39530\, United States
CATEGORIES:performances
ATTACH;FMTTYPE=image/jpeg:https://mattcappy.com/wp-content/uploads/2022/11/patti-Beau-Rivage.jpg
GEO:30.3932835;-88.8931731
X-APPLE-STRUCTURED-LOCATION;VALUE=URI;X-ADDRESS=Beau Rivage Resort & Casino 875 Beach Blvd Biloxi MS 39530 United States;X-APPLE-RADIUS=500;X-TITLE=875 Beach Blvd:geo:-88.8931731,30.3932835
END:VEVENT
BEGIN:VEVENT
DTSTART;TZID=America/New_York:20191102T200000
DTEND;TZID=America/New_York:20191102T223000
DTSTAMP:20260424T061013
CREATED:20190917T200958Z
LAST-MODIFIED:20190917T200958Z
UID:10000088-1572724800-1572733800@mattcappy.com
SUMMARY:w/ Patti LaBelle
DESCRIPTION:w/ Patti LaBelle\nSaturday Nov 2\, 2019\nBeau Rivage Resort\nBiloxi\, MS\n8pm
URL:https://mattcappy.com/event/w-patti-labelle-37/
LOCATION:Beau Rivage Resort & Casino\, 875 Beach Blvd\, Biloxi\, MS\, 39530\, United States
CATEGORIES:performances
ATTACH;FMTTYPE=image/jpeg:https://mattcappy.com/wp-content/uploads/2019/01/patti1000x500.jpg
GEO:30.3932835;-88.8931731
X-APPLE-STRUCTURED-LOCATION;VALUE=URI;X-ADDRESS=Beau Rivage Resort & Casino 875 Beach Blvd Biloxi MS 39530 United States;X-APPLE-RADIUS=500;X-TITLE=875 Beach Blvd:geo:-88.8931731,30.3932835
END:VEVENT
END:VCALENDAR