BEGIN:VCALENDAR
VERSION:2.0
PRODID:-//Matt Cappy - ECPv6.15.20//NONSGML v1.0//EN
CALSCALE:GREGORIAN
METHOD:PUBLISH
X-ORIGINAL-URL:https://mattcappy.com
X-WR-CALDESC:Events for Matt Cappy
REFRESH-INTERVAL;VALUE=DURATION:PT1H
X-Robots-Tag:noindex
X-PUBLISHED-TTL:PT1H
BEGIN:VTIMEZONE
TZID:America/New_York
BEGIN:DAYLIGHT
TZOFFSETFROM:-0500
TZOFFSETTO:-0400
TZNAME:EDT
DTSTART:20220313T070000
END:DAYLIGHT
BEGIN:STANDARD
TZOFFSETFROM:-0400
TZOFFSETTO:-0500
TZNAME:EST
DTSTART:20221106T060000
END:STANDARD
BEGIN:DAYLIGHT
TZOFFSETFROM:-0500
TZOFFSETTO:-0400
TZNAME:EDT
DTSTART:20230312T070000
END:DAYLIGHT
BEGIN:STANDARD
TZOFFSETFROM:-0400
TZOFFSETTO:-0500
TZNAME:EST
DTSTART:20231105T060000
END:STANDARD
BEGIN:DAYLIGHT
TZOFFSETFROM:-0500
TZOFFSETTO:-0400
TZNAME:EDT
DTSTART:20240310T070000
END:DAYLIGHT
BEGIN:STANDARD
TZOFFSETFROM:-0400
TZOFFSETTO:-0500
TZNAME:EST
DTSTART:20241103T060000
END:STANDARD
BEGIN:DAYLIGHT
TZOFFSETFROM:-0500
TZOFFSETTO:-0400
TZNAME:EDT
DTSTART:20250309T070000
END:DAYLIGHT
BEGIN:STANDARD
TZOFFSETFROM:-0400
TZOFFSETTO:-0500
TZNAME:EST
DTSTART:20251102T060000
END:STANDARD
BEGIN:DAYLIGHT
TZOFFSETFROM:-0500
TZOFFSETTO:-0400
TZNAME:EDT
DTSTART:20260308T070000
END:DAYLIGHT
BEGIN:STANDARD
TZOFFSETFROM:-0400
TZOFFSETTO:-0500
TZNAME:EST
DTSTART:20261101T060000
END:STANDARD
END:VTIMEZONE
BEGIN:VEVENT
DTSTART;TZID=America/New_York:20250304T193000
DTEND;TZID=America/New_York:20250304T220000
DTSTAMP:20260420T035412
CREATED:20250131T152120Z
LAST-MODIFIED:20250131T152833Z
UID:10000192-1741116600-1741125600@mattcappy.com
SUMMARY:w/ The Hoppin John Orchestra
DESCRIPTION:Chris’ Jazz Cafe presents \n\nThe Hoppin’ John Orchestra ~ MARDI GRAS!!\n\n\n\n\n\nLaissez Les Bons Temps Rouler! 
URL:https://mattcappy.com/event/w-the-hoppin-john-orchestra-2/
LOCATION:Chris’ Jazz Cafe\, 1421 Sansom Street\, Philadelphia\, 19102\, United States
CATEGORIES:performances
ATTACH;FMTTYPE=image/jpeg:https://mattcappy.com/wp-content/uploads/2025/01/hoppin-john-2025-tn.jpg
GEO:39.9503461;-75.1651286
X-APPLE-STRUCTURED-LOCATION;VALUE=URI;X-ADDRESS=Chris’ Jazz Cafe 1421 Sansom Street Philadelphia 19102 United States;X-APPLE-RADIUS=500;X-TITLE=1421 Sansom Street:geo:-75.1651286,39.9503461
END:VEVENT
BEGIN:VEVENT
DTSTART;TZID=America/New_York:20250215T190000
DTEND;TZID=America/New_York:20250215T220000
DTSTAMP:20260420T035412
CREATED:20250131T151140Z
LAST-MODIFIED:20250131T151144Z
UID:10000191-1739646000-1739656800@mattcappy.com
SUMMARY:w/ The Hoppin John Orchestra
DESCRIPTION:The Kennett Flash is proud to present The Hoppin’ John Orchestra: Mardi Gras Show! \nSaturday\, February 15\, 20258pm show | 7pm doors | all ages$20 ADV | $25 DOS | $5 BYOB
URL:https://mattcappy.com/event/w-the-hoppin-john-orchestra/
LOCATION:Kennett Flash\, 102 Sycamore Alley\, Kennett Square\, PA\, 19348\, United States
CATEGORIES:performances
ATTACH;FMTTYPE=image/jpeg:https://mattcappy.com/wp-content/uploads/2025/01/hoppin-john-2025-tn.jpg
GEO:39.8458345;-75.71079
X-APPLE-STRUCTURED-LOCATION;VALUE=URI;X-ADDRESS=Kennett Flash 102 Sycamore Alley Kennett Square PA 19348 United States;X-APPLE-RADIUS=500;X-TITLE=102 Sycamore Alley:geo:-75.71079,39.8458345
END:VEVENT
BEGIN:VEVENT
DTSTART;TZID=America/New_York:20241005T181500
DTEND;TZID=America/New_York:20241005T190000
DTSTAMP:20260420T035412
CREATED:20240925T004535Z
LAST-MODIFIED:20240925T004610Z
UID:10000190-1728152100-1728154800@mattcappy.com
SUMMARY:Haddon Twp. Music Festival
DESCRIPTION:Matt once again brings his band to the Haddon Twp. Music Festival! \nThe Festival runs from 1PM to 9PM. \nMatt performs on The Haddon Stage\, 6:15-7pm. \n 
URL:https://mattcappy.com/event/haddon-twp-music-festival-2/
LOCATION:Haddon Twp Music Festival\, Haddon Ave\, Westmont\, NJ\, 08108\, United States
CATEGORIES:performances
ATTACH;FMTTYPE=image/jpeg:https://mattcappy.com/wp-content/uploads/2024/09/HT-music-fest-Schedule_matt.jpg
GEO:39.9157556;-75.0673171
X-APPLE-STRUCTURED-LOCATION;VALUE=URI;X-ADDRESS=Haddon Twp Music Festival Haddon Ave Westmont NJ 08108 United States;X-APPLE-RADIUS=500;X-TITLE=Haddon Ave:geo:-75.0673171,39.9157556
END:VEVENT
BEGIN:VEVENT
DTSTART;TZID=America/New_York:20240928T190000
DTEND;TZID=America/New_York:20240928T210000
DTSTAMP:20260420T035412
CREATED:20240925T002907Z
LAST-MODIFIED:20240925T002910Z
UID:10000189-1727550000-1727557200@mattcappy.com
SUMMARY:Sippin On Station
DESCRIPTION:
URL:https://mattcappy.com/event/sippin-on-station/
LOCATION:Sippin on Station\, Station Avenue\, Haddon Heights\, New Jersey\, 08035\, United States
CATEGORIES:performances
ATTACH;FMTTYPE=image/jpeg:https://mattcappy.com/wp-content/uploads/2024/09/sippin-on-station.jpg
GEO:39.8824135;-75.0579939
X-APPLE-STRUCTURED-LOCATION;VALUE=URI;X-ADDRESS=Sippin on Station Station Avenue Haddon Heights New Jersey 08035 United States;X-APPLE-RADIUS=500;X-TITLE=Station Avenue:geo:-75.0579939,39.8824135
END:VEVENT
BEGIN:VEVENT
DTSTART;TZID=America/New_York:20240928T161500
DTEND;TZID=America/New_York:20240928T170000
DTSTAMP:20260420T035412
CREATED:20250911T051157Z
LAST-MODIFIED:20250911T051201Z
UID:10000206-1727540100-1727542800@mattcappy.com
SUMMARY:Porch Fest 2025
DESCRIPTION:Catch Matt at PorchFest this year!\nPorchFest once again takes over Collingswood from 12-7. Matt will be performing at 4:15 at KW Main Street.
URL:https://mattcappy.com/event/porch-fest-2025/
LOCATION:Collingswood PorchFest\, 983 Haddon Ave\, Collingswood\, NJ\, 08108\, United States
CATEGORIES:performances
ATTACH;FMTTYPE=image/jpeg:https://mattcappy.com/wp-content/uploads/2025/09/cwood-porchfest.jpg
GEO:39.9143492;-75.06132
X-APPLE-STRUCTURED-LOCATION;VALUE=URI;X-ADDRESS=Collingswood PorchFest 983 Haddon Ave Collingswood NJ 08108 United States;X-APPLE-RADIUS=500;X-TITLE=983 Haddon Ave:geo:-75.06132,39.9143492
END:VEVENT
BEGIN:VEVENT
DTSTART;TZID=America/New_York:20240928T161500
DTEND;TZID=America/New_York:20240928T170000
DTSTAMP:20260420T035412
CREATED:20240925T001815Z
LAST-MODIFIED:20240925T001819Z
UID:10000188-1727540100-1727542800@mattcappy.com
SUMMARY:Porch Fest
DESCRIPTION:Catch Matt at PorchFest this year!\nPorchFest once again takes over Collingswood from 12-7. Matt will be performing at 4:15 at KW Main Street.
URL:https://mattcappy.com/event/porch-fest-2/
LOCATION:Collingswood PorchFest\, 983 Haddon Ave\, Collingswood\, NJ\, 08108\, United States
CATEGORIES:performances
ATTACH;FMTTYPE=image/jpeg:https://mattcappy.com/wp-content/uploads/2023/09/porchfest-tn.jpg
GEO:39.9143492;-75.06132
X-APPLE-STRUCTURED-LOCATION;VALUE=URI;X-ADDRESS=Collingswood PorchFest 983 Haddon Ave Collingswood NJ 08108 United States;X-APPLE-RADIUS=500;X-TITLE=983 Haddon Ave:geo:-75.06132,39.9143492
END:VEVENT
BEGIN:VEVENT
DTSTART;TZID=America/New_York:20240729T190000
DTEND;TZID=America/New_York:20240729T210000
DTSTAMP:20260420T035412
CREATED:20240501T031707Z
LAST-MODIFIED:20240501T031711Z
UID:10000183-1722279600-1722286800@mattcappy.com
SUMMARY:Matt Cappy & Friends  Camden County  Sunset Jazz Series
DESCRIPTION:
URL:https://mattcappy.com/event/matt-cappy-friends-camden-county-sunset-jazz-series/
LOCATION:Wiggins Park\, 2 Riverside Dr\, Camden\, NJ\, 08103\, United States
CATEGORIES:performances
ATTACH;FMTTYPE=image/jpeg:https://mattcappy.com/wp-content/uploads/2024/04/camdencounty2024.jpg
GEO:39.9444141;-75.129676
X-APPLE-STRUCTURED-LOCATION;VALUE=URI;X-ADDRESS=Wiggins Park 2 Riverside Dr Camden NJ 08103 United States;X-APPLE-RADIUS=500;X-TITLE=2 Riverside Dr:geo:-75.129676,39.9444141
END:VEVENT
BEGIN:VEVENT
DTSTART;TZID=America/New_York:20240726T190000
DTEND;TZID=America/New_York:20240726T220000
DTSTAMP:20260420T035412
CREATED:20240613T184259Z
LAST-MODIFIED:20240613T184302Z
UID:10000185-1722020400-1722031200@mattcappy.com
SUMMARY:@ Zinc Bar
DESCRIPTION:Matt’s return to Zinc Bar\nShows at 7pm & 8:30pm
URL:https://mattcappy.com/event/zinc-bar-5/
LOCATION:Zinc Bar\, 82 West 3rd Street\, New York\, NY\, 10012\, United States
CATEGORIES:performances
ATTACH;FMTTYPE=image/jpeg:https://mattcappy.com/wp-content/uploads/2023/09/zinc.jpg
GEO:40.7297021;-73.9989571
X-APPLE-STRUCTURED-LOCATION;VALUE=URI;X-ADDRESS=Zinc Bar 82 West 3rd Street New York NY 10012 United States;X-APPLE-RADIUS=500;X-TITLE=82 West 3rd Street:geo:-73.9989571,40.7297021
END:VEVENT
BEGIN:VEVENT
DTSTART;TZID=America/New_York:20240713T190000
DTEND;TZID=America/New_York:20240713T220000
DTSTAMP:20260420T035412
CREATED:20240613T184712Z
LAST-MODIFIED:20240613T184715Z
UID:10000186-1720897200-1720908000@mattcappy.com
SUMMARY:Exit Zero Summer Jazz Series  @ Carney's Other Room
DESCRIPTION:Exit Zero Summer Jazz Series @ Carney’s Other Room\nCarney’s Other Room\n411 Beach Ave\, Cape May NJ\, 08204\n7 & 9PM
URL:https://mattcappy.com/event/exit-zero-summer-jazz-series-carneys-other-room/
LOCATION:Carney’s Other Room\, 411 Beach Ave\, Cape May\, NJ\, 08204\, United States
ATTACH;FMTTYPE=image/jpeg:https://mattcappy.com/wp-content/uploads/2017/12/matt-philly-dot-com.jpg
GEO:38.930536;-74.921565
X-APPLE-STRUCTURED-LOCATION;VALUE=URI;X-ADDRESS=Carney’s Other Room 411 Beach Ave Cape May NJ 08204 United States;X-APPLE-RADIUS=500;X-TITLE=411 Beach Ave:geo:-74.921565,38.930536
END:VEVENT
BEGIN:VEVENT
DTSTART;TZID=America/New_York:20240711T180000
DTEND;TZID=America/New_York:20240711T190000
DTSTAMP:20260420T035412
CREATED:20240613T185603Z
LAST-MODIFIED:20240613T185707Z
UID:10000187-1720720800-1720724400@mattcappy.com
SUMMARY:Jazzbridge Presents Matt Cappy
DESCRIPTION:Jazzbridge Presents Matt Cappy at City Hall
URL:https://mattcappy.com/event/jazzbridge-presents-matt-cappy/
LOCATION:Dilworth Plaza\, City Hall\, South 15th Street\, Philadelphia\, PA\, 19107\, United States
CATEGORIES:performances
ATTACH;FMTTYPE=image/jpeg:https://mattcappy.com/wp-content/uploads/2024/06/cityhall.jpg
GEO:39.9527439;-75.1645613
X-APPLE-STRUCTURED-LOCATION;VALUE=URI;X-ADDRESS=Dilworth Plaza City Hall South 15th Street Philadelphia PA 19107 United States;X-APPLE-RADIUS=500;X-TITLE=South 15th Street:geo:-75.1645613,39.9527439
END:VEVENT
BEGIN:VEVENT
DTSTART;TZID=America/New_York:20240621T180000
DTEND;TZID=America/New_York:20240621T190000
DTSTAMP:20260420T035412
CREATED:20240218T024443Z
LAST-MODIFIED:20240218T024727Z
UID:10000178-1718992800-1718996400@mattcappy.com
SUMMARY:Haddon Twp. Summer Solstice Music Festival
DESCRIPTION:Matt brings his band to the Haddon Twp. Summer Solstice Music Festival! \nThe Festival runs from 4PM to 10PM. \nMatt performs 6-7PM. \n 
URL:https://mattcappy.com/event/haddon-twp-summer-solstice-music-festival/
LOCATION:Haddon Twp Music Festival\, Haddon Ave\, Westmont\, NJ\, 08108\, United States
CATEGORIES:performances
ATTACH;FMTTYPE=image/jpeg:https://mattcappy.com/wp-content/uploads/2024/02/summersolstice2024.jpg
GEO:39.9157556;-75.0673171
X-APPLE-STRUCTURED-LOCATION;VALUE=URI;X-ADDRESS=Haddon Twp Music Festival Haddon Ave Westmont NJ 08108 United States;X-APPLE-RADIUS=500;X-TITLE=Haddon Ave:geo:-75.0673171,39.9157556
END:VEVENT
BEGIN:VEVENT
DTSTART;TZID=America/New_York:20240517T190000
DTEND;TZID=America/New_York:20240517T220000
DTSTAMP:20260420T035413
CREATED:20240501T031922Z
LAST-MODIFIED:20240501T031925Z
UID:10000184-1715972400-1715983200@mattcappy.com
SUMMARY:@ Zinc Bar
DESCRIPTION:Matt’s return to Zinc Bar\nShows at 7pm & 8:30pm
URL:https://mattcappy.com/event/zinc-bar-4/
LOCATION:Zinc Bar\, 82 West 3rd Street\, New York\, NY\, 10012\, United States
CATEGORIES:performances
ATTACH;FMTTYPE=image/jpeg:https://mattcappy.com/wp-content/uploads/2023/09/zinc.jpg
GEO:40.7297021;-73.9989571
X-APPLE-STRUCTURED-LOCATION;VALUE=URI;X-ADDRESS=Zinc Bar 82 West 3rd Street New York NY 10012 United States;X-APPLE-RADIUS=500;X-TITLE=82 West 3rd Street:geo:-73.9989571,40.7297021
END:VEVENT
BEGIN:VEVENT
DTSTART;TZID=America/New_York:20240505T200000
DTEND;TZID=America/New_York:20240505T220000
DTSTAMP:20260420T035413
CREATED:20240501T031100Z
LAST-MODIFIED:20240501T031103Z
UID:10000182-1714939200-1714946400@mattcappy.com
SUMMARY:Funk n Bowl All Stars  North Bowl Philly
DESCRIPTION:
URL:https://mattcappy.com/event/funk-n-bowl-all-stars-north-bowl-philly/
LOCATION:Funk N’ Bowl  @ North Bowl\, 909 N 2nd St\, Philadelphia\, PA\, 19123\, United States
CATEGORIES:performances
ATTACH;FMTTYPE=image/jpeg:https://mattcappy.com/wp-content/uploads/2021/06/funknbowl-4.jpg
GEO:39.9642751;-75.1401593
X-APPLE-STRUCTURED-LOCATION;VALUE=URI;X-ADDRESS=Funk N’ Bowl  @ North Bowl 909 N 2nd St Philadelphia PA 19123 United States;X-APPLE-RADIUS=500;X-TITLE=909 N 2nd St:geo:-75.1401593,39.9642751
END:VEVENT
BEGIN:VEVENT
DTSTART;TZID=America/New_York:20240504T170000
DTEND;TZID=America/New_York:20240504T190000
DTSTAMP:20260420T035413
CREATED:20240501T000950Z
LAST-MODIFIED:20240501T000957Z
UID:10000181-1714842000-1714849200@mattcappy.com
SUMMARY:Queen Latifah  New Orleans Jazz & Heritage Fest
DESCRIPTION:Queen Latifah\nCongo Square Stage
URL:https://mattcappy.com/event/queen-latifah-new-orleans-jazz-heritage-fest/
LOCATION:New Orleans Jazz & Heritage Festival\, 1751 Gentilly Blvd\, New Orleans\, 70119\, United States
CATEGORIES:performances
ATTACH;FMTTYPE=image/jpeg:https://mattcappy.com/wp-content/uploads/2024/04/jazzfest.jpg
GEO:29.9836851;-90.0770583
X-APPLE-STRUCTURED-LOCATION;VALUE=URI;X-ADDRESS=New Orleans Jazz & Heritage Festival 1751 Gentilly Blvd New Orleans 70119 United States;X-APPLE-RADIUS=500;X-TITLE=1751 Gentilly Blvd:geo:-90.0770583,29.9836851
END:VEVENT
BEGIN:VEVENT
DTSTART;TZID=America/New_York:20240427T130000
DTEND;TZID=America/New_York:20240427T140000
DTSTAMP:20260420T035413
CREATED:20240419T044920Z
LAST-MODIFIED:20240419T044925Z
UID:10000180-1714222800-1714226400@mattcappy.com
SUMMARY:Haddonfield Music Festival
DESCRIPTION:
URL:https://mattcappy.com/event/haddonfield-music-festival/
LOCATION:Haddonfield Music Festival\, Kings Highway\, Haddonfield\, NJ\, 08033\, United States
CATEGORIES:performances
ATTACH;FMTTYPE=image/jpeg:https://mattcappy.com/wp-content/uploads/2024/04/Haddonfield-tn.jpg
GEO:39.8951537;-75.0379601
X-APPLE-STRUCTURED-LOCATION;VALUE=URI;X-ADDRESS=Haddonfield Music Festival Kings Highway Haddonfield NJ 08033 United States;X-APPLE-RADIUS=500;X-TITLE=Kings Highway:geo:-75.0379601,39.8951537
END:VEVENT
BEGIN:VEVENT
DTSTART;TZID=America/New_York:20240419T190000
DTEND;TZID=America/New_York:20240419T220000
DTSTAMP:20260420T035413
CREATED:20240419T043706Z
LAST-MODIFIED:20240419T043709Z
UID:10000179-1713553200-1713564000@mattcappy.com
SUMMARY:@ Zinc Bar
DESCRIPTION:Matt’s return to Zinc Bar\nShows at 7pm & 8:30pm
URL:https://mattcappy.com/event/zinc-bar-3/
LOCATION:Zinc Bar\, 82 West 3rd Street\, New York\, NY\, 10012\, United States
CATEGORIES:performances
ATTACH;FMTTYPE=image/jpeg:https://mattcappy.com/wp-content/uploads/2023/09/zinc.jpg
GEO:40.7297021;-73.9989571
X-APPLE-STRUCTURED-LOCATION;VALUE=URI;X-ADDRESS=Zinc Bar 82 West 3rd Street New York NY 10012 United States;X-APPLE-RADIUS=500;X-TITLE=82 West 3rd Street:geo:-73.9989571,40.7297021
END:VEVENT
BEGIN:VEVENT
DTSTART;TZID=America/New_York:20240223T190000
DTEND;TZID=America/New_York:20240223T220000
DTSTAMP:20260420T035413
CREATED:20240217T195058Z
LAST-MODIFIED:20240217T195101Z
UID:10000177-1708714800-1708725600@mattcappy.com
SUMMARY:@ Zinc Bar
DESCRIPTION:Matt’s return to Zinc Bar\nShows at 7pm & 8:30pm
URL:https://mattcappy.com/event/zinc-bar-2/
LOCATION:Zinc Bar\, 82 West 3rd Street\, New York\, NY\, 10012\, United States
CATEGORIES:performances
ATTACH;FMTTYPE=image/jpeg:https://mattcappy.com/wp-content/uploads/2023/09/zinc.jpg
GEO:40.7297021;-73.9989571
X-APPLE-STRUCTURED-LOCATION;VALUE=URI;X-ADDRESS=Zinc Bar 82 West 3rd Street New York NY 10012 United States;X-APPLE-RADIUS=500;X-TITLE=82 West 3rd Street:geo:-73.9989571,40.7297021
END:VEVENT
BEGIN:VEVENT
DTSTART;TZID=America/New_York:20231222T120000
DTEND;TZID=America/New_York:20231222T130000
DTSTAMP:20260420T035413
CREATED:20231218T164807Z
LAST-MODIFIED:20231218T165138Z
UID:10000175-1703246400-1703250000@mattcappy.com
SUMMARY:WXPN Free At Noon with MATT CAPPY’S HOLIDAY SPECTACULAR
DESCRIPTION:
URL:https://mattcappy.com/event/wxpn-free-at-noon-with-matt-cappys-holiday-spectacular/
LOCATION:World Cafe Live\, 3025 Walnut St.\, Philadelphia\, PA\, 19104\, United States
CATEGORIES:performances
ATTACH;FMTTYPE=image/jpeg:https://mattcappy.com/wp-content/uploads/2023/12/wxpn-tn.jpg
GEO:39.9522277;-75.1850894
X-APPLE-STRUCTURED-LOCATION;VALUE=URI;X-ADDRESS=World Cafe Live 3025 Walnut St. Philadelphia PA 19104 United States;X-APPLE-RADIUS=500;X-TITLE=3025 Walnut St.:geo:-75.1850894,39.9522277
END:VEVENT
BEGIN:VEVENT
DTSTART;TZID=America/New_York:20231117T190000
DTEND;TZID=America/New_York:20231117T220000
DTSTAMP:20260420T035413
CREATED:20230922T185439Z
LAST-MODIFIED:20230922T185442Z
UID:10000173-1700247600-1700258400@mattcappy.com
SUMMARY:@ Zinc Bar
DESCRIPTION:Matt’s debut at Zinc Bar\nShows at 7pm & 8:30pm
URL:https://mattcappy.com/event/zinc-bar/
LOCATION:Zinc Bar\, 82 West 3rd Street\, New York\, NY\, 10012\, United States
CATEGORIES:performances
ATTACH;FMTTYPE=image/jpeg:https://mattcappy.com/wp-content/uploads/2023/09/zinc.jpg
GEO:40.7297021;-73.9989571
X-APPLE-STRUCTURED-LOCATION;VALUE=URI;X-ADDRESS=Zinc Bar 82 West 3rd Street New York NY 10012 United States;X-APPLE-RADIUS=500;X-TITLE=82 West 3rd Street:geo:-73.9989571,40.7297021
END:VEVENT
BEGIN:VEVENT
DTSTART;TZID=America/New_York:20231111T183000
DTEND;TZID=America/New_York:20231111T220000
DTSTAMP:20260420T035413
CREATED:20230922T183313Z
LAST-MODIFIED:20230922T183517Z
UID:10000172-1699727400-1699740000@mattcappy.com
SUMMARY:Exit Zero Jazz Fest  @ Carney's Other Room
DESCRIPTION:Matt’s return to Exit Zero Jazz Fest!\nCarney’s Other Room\n411 Beach Ave\, Cape May NJ\, 08204\nset 1: 6:30pm – 7:40pm\nset 2 : 8:50pm – 10:00pm
URL:https://mattcappy.com/event/exit-zero-jazz-fest-carneys-other-room/
LOCATION:Carney’s Other Room\, 411 Beach Ave\, Cape May\, NJ\, 08204\, United States
ATTACH;FMTTYPE=image/jpeg:https://mattcappy.com/wp-content/uploads/2023/09/exit-zero.jpg
GEO:38.930536;-74.921565
X-APPLE-STRUCTURED-LOCATION;VALUE=URI;X-ADDRESS=Carney’s Other Room 411 Beach Ave Cape May NJ 08204 United States;X-APPLE-RADIUS=500;X-TITLE=411 Beach Ave:geo:-74.921565,38.930536
END:VEVENT
BEGIN:VEVENT
DTSTART;TZID=America/New_York:20231104T200000
DTEND;TZID=America/New_York:20231104T230000
DTSTAMP:20260420T035413
CREATED:20230711T204657Z
LAST-MODIFIED:20230711T204701Z
UID:10000163-1699128000-1699138800@mattcappy.com
SUMMARY:w/ The Hooters
DESCRIPTION:Matt Cappy w/ The Hooters\nNov 4 – Keswick Theatre
URL:https://mattcappy.com/event/w-the-hooters-4/
LOCATION:Keswick Theatre\, 291 N Keswick Ave\, 291 N Keswick Ave\, PA\, 19038\, United States
CATEGORIES:performances
ATTACH;FMTTYPE=image/png:https://mattcappy.com/wp-content/uploads/2023/07/hooters.png
GEO:40.1063448;-75.1471896
X-APPLE-STRUCTURED-LOCATION;VALUE=URI;X-ADDRESS=Keswick Theatre 291 N Keswick Ave 291 N Keswick Ave PA 19038 United States;X-APPLE-RADIUS=500;X-TITLE=291 N Keswick Ave:geo:-75.1471896,40.1063448
END:VEVENT
BEGIN:VEVENT
DTSTART;TZID=America/New_York:20231103T200000
DTEND;TZID=America/New_York:20231103T230000
DTSTAMP:20260420T035413
CREATED:20230711T180605Z
LAST-MODIFIED:20230711T204258Z
UID:10000161-1699041600-1699052400@mattcappy.com
SUMMARY:w/ The Hooters
DESCRIPTION:Matt Cappy w/ The Hooters\nNov 3 – Keswick Theatre
URL:https://mattcappy.com/event/w-the-hooters-2/
LOCATION:Keswick Theatre\, 291 N Keswick Ave\, 291 N Keswick Ave\, PA\, 19038\, United States
CATEGORIES:performances
ATTACH;FMTTYPE=image/png:https://mattcappy.com/wp-content/uploads/2023/07/hooters.png
GEO:40.1063448;-75.1471896
X-APPLE-STRUCTURED-LOCATION;VALUE=URI;X-ADDRESS=Keswick Theatre 291 N Keswick Ave 291 N Keswick Ave PA 19038 United States;X-APPLE-RADIUS=500;X-TITLE=291 N Keswick Ave:geo:-75.1471896,40.1063448
END:VEVENT
BEGIN:VEVENT
DTSTART;TZID=America/New_York:20231015T190000
DTEND;TZID=America/New_York:20231015T200000
DTSTAMP:20260420T035413
CREATED:20231006T200633Z
LAST-MODIFIED:20231006T200934Z
UID:10000174-1697396400-1697400000@mattcappy.com
SUMMARY:Haddon Twp. Music Festival
DESCRIPTION:Matt once again brings his band to the Haddon Twp. Music Festival! \nThe Festival runs from 1PM to 9PM. \nMatt performs on The Haddon Stage\, 7-7:45pm. \n 
URL:https://mattcappy.com/event/haddon-twp-music-festival-2023/
LOCATION:Haddon Twp Music Festival\, Haddon Ave\, Westmont\, NJ\, 08108\, United States
CATEGORIES:performances
ATTACH;FMTTYPE=image/jpeg:https://mattcappy.com/wp-content/uploads/2023/10/haddon2023-tn.jpg
GEO:39.9157556;-75.0673171
X-APPLE-STRUCTURED-LOCATION;VALUE=URI;X-ADDRESS=Haddon Twp Music Festival Haddon Ave Westmont NJ 08108 United States;X-APPLE-RADIUS=500;X-TITLE=Haddon Ave:geo:-75.0673171,39.9157556
END:VEVENT
BEGIN:VEVENT
DTSTART;TZID=America/New_York:20230930T170000
DTEND;TZID=America/New_York:20230930T180000
DTSTAMP:20260420T035413
CREATED:20230922T153141Z
LAST-MODIFIED:20230922T153822Z
UID:10000171-1696093200-1696096800@mattcappy.com
SUMMARY:Made In Jersey Festival
DESCRIPTION:Catch Matt in the Made in Jersey Festival. The festival is all day from 11am – 6pm. Matt performs around 5. \nMore info at https://www.facebook.com/MadeInJersey1/
URL:https://mattcappy.com/event/made-in-jersey-festival/
LOCATION:Wiggins Park\, 2 Riverside Dr\, Camden\, NJ\, 08103\, United States
CATEGORIES:performances
ATTACH;FMTTYPE=image/jpeg:https://mattcappy.com/wp-content/uploads/2023/09/made-in-NJ-tn.jpg
GEO:39.9444141;-75.129676
X-APPLE-STRUCTURED-LOCATION;VALUE=URI;X-ADDRESS=Wiggins Park 2 Riverside Dr Camden NJ 08103 United States;X-APPLE-RADIUS=500;X-TITLE=2 Riverside Dr:geo:-75.129676,39.9444141
END:VEVENT
BEGIN:VEVENT
DTSTART;TZID=America/New_York:20230930T140000
DTEND;TZID=America/New_York:20230930T143000
DTSTAMP:20260420T035413
CREATED:20230922T150426Z
LAST-MODIFIED:20230922T150430Z
UID:10000170-1696082400-1696084200@mattcappy.com
SUMMARY:Porch Fest
DESCRIPTION:Catch Matt at PorchFest this year!\nPorchFest once again takes over Collingswood from 12-7. Matt will be performing at 2PM at KW Main Street.
URL:https://mattcappy.com/event/porch-fest/
LOCATION:Collingswood PorchFest\, 983 Haddon Ave\, Collingswood\, NJ\, 08108\, United States
CATEGORIES:performances
ATTACH;FMTTYPE=image/jpeg:https://mattcappy.com/wp-content/uploads/2023/09/porchfest-tn.jpg
GEO:39.9143492;-75.06132
X-APPLE-STRUCTURED-LOCATION;VALUE=URI;X-ADDRESS=Collingswood PorchFest 983 Haddon Ave Collingswood NJ 08108 United States;X-APPLE-RADIUS=500;X-TITLE=983 Haddon Ave:geo:-75.06132,39.9143492
END:VEVENT
BEGIN:VEVENT
DTSTART;TZID=America/New_York:20230906T193000
DTEND;TZID=America/New_York:20230906T213000
DTSTAMP:20260420T035413
CREATED:20230803T220821Z
LAST-MODIFIED:20230803T220825Z
UID:10000169-1694028600-1694035800@mattcappy.com
SUMMARY:Camden County Sundown Series @  Haddon Heights
DESCRIPTION:Camden County Sundown Series @ Haddon Dell stage Haddon Heights\, 8pm w/ Lauren Hart opening at 7:30pm
URL:https://mattcappy.com/event/camden-county-sundown-series-haddon-heights/
LOCATION:Mclaughlin Norcros Memorial Dell\, 1214 South Park Ave\, Haddon Heights\, NJ\, 08035\, United States
CATEGORIES:performances
ATTACH;FMTTYPE=image/jpeg:https://mattcappy.com/wp-content/uploads/2023/08/camdencounty-tn.jpg
GEO:39.8786102;-75.0705561
X-APPLE-STRUCTURED-LOCATION;VALUE=URI;X-ADDRESS=Mclaughlin Norcros Memorial Dell 1214 South Park Ave Haddon Heights NJ 08035 United States;X-APPLE-RADIUS=500;X-TITLE=1214 South Park Ave:geo:-75.0705561,39.8786102
END:VEVENT
BEGIN:VEVENT
DTSTART;TZID=America/New_York:20230826T200000
DTEND;TZID=America/New_York:20230826T230000
DTSTAMP:20260420T035413
CREATED:20230711T080623Z
LAST-MODIFIED:20230711T204349Z
UID:10000159-1693080000-1693090800@mattcappy.com
SUMMARY:w/ The Hooters
DESCRIPTION:Matt Cappy w/ The Hooters\nAug 25 – Cape May Convention Hall
URL:https://mattcappy.com/event/w-the-hooters/
LOCATION:Cape May Convention Hall\, 714 Beach Ave\, Cape May\, NJ\, 08204
CATEGORIES:performances
ATTACH;FMTTYPE=image/png:https://mattcappy.com/wp-content/uploads/2023/07/hooters.png
GEO:38.9301162;-74.9174976
X-APPLE-STRUCTURED-LOCATION;VALUE=URI;X-ADDRESS=Cape May Convention Hall 714 Beach Ave Cape May NJ 08204;X-APPLE-RADIUS=500;X-TITLE=714 Beach Ave:geo:-74.9174976,38.9301162
END:VEVENT
BEGIN:VEVENT
DTSTART;TZID=America/New_York:20230825T200000
DTEND;TZID=America/New_York:20230825T230000
DTSTAMP:20260420T035413
CREATED:20230711T204442Z
LAST-MODIFIED:20230711T204445Z
UID:10000160-1692993600-1693004400@mattcappy.com
SUMMARY:w/ The Hooters
DESCRIPTION:Matt Cappy w/ The Hooters\nAug 25 – Quakertown\, PA@ Univest Performance Center
URL:https://mattcappy.com/event/w-the-hooters-3/
LOCATION:Univest Performance Center\, 301 West Mill Street\, Quakertown\, 18951\, United States
CATEGORIES:performances
ATTACH;FMTTYPE=image/png:https://mattcappy.com/wp-content/uploads/2023/07/hooters.png
GEO:40.4453985;-75.3400301
X-APPLE-STRUCTURED-LOCATION;VALUE=URI;X-ADDRESS=Univest Performance Center 301 West Mill Street Quakertown 18951 United States;X-APPLE-RADIUS=500;X-TITLE=301 West Mill Street:geo:-75.3400301,40.4453985
END:VEVENT
BEGIN:VEVENT
DTSTART;TZID=America/New_York:20230715T160000
DTEND;TZID=America/New_York:20230715T190000
DTSTAMP:20260420T035413
CREATED:20230711T074150Z
LAST-MODIFIED:20230711T081015Z
UID:10000158-1689436800-1689447600@mattcappy.com
SUMMARY:Matt Cappy @ Ardmore Music Hall
DESCRIPTION:Matt Cappy\nArdmore Music Hall Summer Series
URL:https://mattcappy.com/event/matt-cappy-ardmore-music-hall/
LOCATION:Ardmore Music Hall\, 23 East Lancaster Avenue\, Ardmore\, PA\, 19003
CATEGORIES:performances
ATTACH;FMTTYPE=image/png:https://mattcappy.com/wp-content/uploads/2023/07/ardmore-tn.png
GEO:40.0076363;-75.2899667
X-APPLE-STRUCTURED-LOCATION;VALUE=URI;X-ADDRESS=Ardmore Music Hall 23 East Lancaster Avenue Ardmore PA 19003;X-APPLE-RADIUS=500;X-TITLE=23 East Lancaster Avenue:geo:-75.2899667,40.0076363
END:VEVENT
BEGIN:VEVENT
DTSTART;TZID=America/New_York:20230707T200000
DTEND;TZID=America/New_York:20230707T223000
DTSTAMP:20260420T035413
CREATED:20230712T001431Z
LAST-MODIFIED:20230712T001435Z
UID:10000164-1688760000-1688769000@mattcappy.com
SUMMARY:w/ Marah
DESCRIPTION:w/ Marah \nJuly 7 – Atlantic City\, NJ@ Anchor Rock Club
URL:https://mattcappy.com/event/w-marah/
LOCATION:Anchor Rock Club\, 247 S. New York Ave\, Atlantic City\, 08401\, United States
CATEGORIES:performances
ATTACH;FMTTYPE=image/jpeg:https://mattcappy.com/wp-content/uploads/2023/07/anchor2.jpg
GEO:39.3572301;-74.4262279
X-APPLE-STRUCTURED-LOCATION;VALUE=URI;X-ADDRESS=Anchor Rock Club 247 S. New York Ave Atlantic City 08401 United States;X-APPLE-RADIUS=500;X-TITLE=247 S. New York Ave:geo:-74.4262279,39.3572301
END:VEVENT
END:VCALENDAR