BEGIN:VCALENDAR
VERSION:2.0
PRODID:-//Matt Cappy - ECPv6.15.20//NONSGML v1.0//EN
CALSCALE:GREGORIAN
METHOD:PUBLISH
X-WR-CALNAME:Matt Cappy
X-ORIGINAL-URL:https://mattcappy.com
X-WR-CALDESC:Events for Matt Cappy
REFRESH-INTERVAL;VALUE=DURATION:PT1H
X-Robots-Tag:noindex
X-PUBLISHED-TTL:PT1H
BEGIN:VTIMEZONE
TZID:UTC
BEGIN:STANDARD
TZOFFSETFROM:+0000
TZOFFSETTO:+0000
TZNAME:UTC
DTSTART:20160101T000000
END:STANDARD
END:VTIMEZONE
BEGIN:VEVENT
DTSTART;TZID=UTC:20181110T123000
DTEND;TZID=UTC:20181110T134500
DTSTAMP:20260425T082342
CREATED:20181009T170547Z
LAST-MODIFIED:20181009T183304Z
UID:10000059-1541853000-1541857500@mattcappy.com
SUMMARY:Matt Cappy Exit Zero Jazz Fest
DESCRIPTION:Matt Cappy Exit Zero Jazz Fest\nCarney’s Main Room\, Nauti Spirits Stage
URL:https://mattcappy.com/event/matt-cappy-exit-zero-jazz-fest/
LOCATION:Carney’s Main Room\, Nauti Spirits Stage\, 411 Beach Ave\, Cape May\, NJ\, 08204\, United States
CATEGORIES:performances
ATTACH;FMTTYPE=image/jpeg:https://mattcappy.com/wp-content/uploads/2018/10/exitzero.jpg
GEO:38.930536;-74.921565
X-APPLE-STRUCTURED-LOCATION;VALUE=URI;X-ADDRESS=Carney’s Main Room Nauti Spirits Stage 411 Beach Ave Cape May NJ 08204 United States;X-APPLE-RADIUS=500;X-TITLE=411 Beach Ave:geo:-74.921565,38.930536
END:VEVENT
BEGIN:VEVENT
DTSTART;TZID=UTC:20181020T200000
DTEND;TZID=UTC:20181020T220000
DTSTAMP:20260425T082342
CREATED:20181009T165741Z
LAST-MODIFIED:20181009T165741Z
UID:10000045-1540065600-1540072800@mattcappy.com
SUMMARY:w/ Patti LaBelle
DESCRIPTION:102.1 Majic Under the Stars Featuring Patti Labelle\, SOS Band\, Midnight Star and Regina Belle
URL:https://mattcappy.com/event/w-patti-labelle-7/
LOCATION:Cynthia Woods Mitchell Pavilion\, 2005 LAKE ROBBINS DRIVE\, THE WOODLANDS\, TX\, 77380\, United States
CATEGORIES:performances
ATTACH;FMTTYPE=image/png:https://mattcappy.com/wp-content/uploads/2018/10/Event_Square_2.png
GEO:30.161593;-95.464029
X-APPLE-STRUCTURED-LOCATION;VALUE=URI;X-ADDRESS=Cynthia Woods Mitchell Pavilion 2005 LAKE ROBBINS DRIVE THE WOODLANDS TX 77380 United States;X-APPLE-RADIUS=500;X-TITLE=2005 LAKE ROBBINS DRIVE:geo:-95.464029,30.161593
END:VEVENT
BEGIN:VEVENT
DTSTART;TZID=UTC:20180929T200000
DTEND;TZID=UTC:20180929T220000
DTSTAMP:20260425T082342
CREATED:20180903T084054Z
LAST-MODIFIED:20180903T084054Z
UID:10000044-1538251200-1538258400@mattcappy.com
SUMMARY:Matt Cappy w/ Bill Laurance (of Snarky Puppy)
DESCRIPTION:Matt Cappy\nBill Laurance (Snarky Puppy Keys)\n@milkboy 8pm\n1100 Chestnut Street\nPhiladelphia\, Pa 19107
URL:https://mattcappy.com/event/matt-cappy-w-bill-laurance-of-snarky-puppy/
LOCATION:Milkboy\, 1100 Chestnut St\, Philadelphia\, PA\, 19107\, United States
CATEGORIES:performances
ATTACH;FMTTYPE=image/jpeg:https://mattcappy.com/wp-content/uploads/2018/09/milkboy-1.jpg
GEO:39.950125;-75.1587931
X-APPLE-STRUCTURED-LOCATION;VALUE=URI;X-ADDRESS=Milkboy 1100 Chestnut St Philadelphia PA 19107 United States;X-APPLE-RADIUS=500;X-TITLE=1100 Chestnut St:geo:-75.1587931,39.950125
END:VEVENT
BEGIN:VEVENT
DTSTART;TZID=UTC:20180826T190000
DTEND;TZID=UTC:20180826T200000
DTSTAMP:20260425T082342
CREATED:20180821T004402Z
LAST-MODIFIED:20180821T004402Z
UID:10000060-1535310000-1535313600@mattcappy.com
SUMMARY:Matt Cappy  @Liberty Music Fest
DESCRIPTION:Matt Cappy\n@Liberty Music Fest\nSunday August 26\, 2018 7-8pm\n@The Grape Room
URL:https://mattcappy.com/event/matt-cappy-liberty-music-fest/
LOCATION:The Grape Room\, 105 Grape Street\, Philadelphia\, PA\, 19127\, United States
CATEGORIES:performances
ATTACH;FMTTYPE=image/jpeg:https://mattcappy.com/wp-content/uploads/2018/08/liberty.jpg
GEO:40.0256961;-75.2230992
X-APPLE-STRUCTURED-LOCATION;VALUE=URI;X-ADDRESS=The Grape Room 105 Grape Street Philadelphia PA 19127 United States;X-APPLE-RADIUS=500;X-TITLE=105 Grape Street:geo:-75.2230992,40.0256961
END:VEVENT
BEGIN:VEVENT
DTSTART;TZID=UTC:20180824T183000
DTEND;TZID=UTC:20180824T220000
DTSTAMP:20260425T082342
CREATED:20180821T003440Z
LAST-MODIFIED:20180821T003440Z
UID:10000039-1535135400-1535148000@mattcappy.com
SUMMARY:Matt Cappy Trio @ Caffe Aldo
DESCRIPTION:Matt Cappy Trio @ Caffe Aldo
URL:https://mattcappy.com/event/matt-cappy-trio-caffe-aldo/
LOCATION:Caffe Aldo Lamberti\, 2011 Marlton Pike West\, Cherry Hill\, NJ\, 08002\, United States
CATEGORIES:performances
ATTACH;FMTTYPE=image/jpeg:https://mattcappy.com/wp-content/uploads/2018/08/cafealdo.jpg
GEO:39.9192964;-75.0354684
X-APPLE-STRUCTURED-LOCATION;VALUE=URI;X-ADDRESS=Caffe Aldo Lamberti 2011 Marlton Pike West Cherry Hill NJ 08002 United States;X-APPLE-RADIUS=500;X-TITLE=2011 Marlton Pike West:geo:-75.0354684,39.9192964
END:VEVENT
BEGIN:VEVENT
DTSTART;TZID=UTC:20180823T190000
DTEND;TZID=UTC:20180823T220000
DTSTAMP:20260425T082342
CREATED:20180821T002338Z
LAST-MODIFIED:20180821T002338Z
UID:10000046-1535050800-1535061600@mattcappy.com
SUMMARY:w/ Patti LaBelle
DESCRIPTION:Patti LaBelle with Special Guest Gregory Porter
URL:https://mattcappy.com/event/w-patti-labelle-6/
LOCATION:Dell Music Center\, 2400 Strawberry Mansion Drive\, Philadelphia\, PA\, 19132\, United States
CATEGORIES:performances
ATTACH;FMTTYPE=image/jpeg:https://mattcappy.com/wp-content/uploads/2018/08/patti.jpg
GEO:39.996008;-75.1897846
X-APPLE-STRUCTURED-LOCATION;VALUE=URI;X-ADDRESS=Dell Music Center 2400 Strawberry Mansion Drive Philadelphia PA 19132 United States;X-APPLE-RADIUS=500;X-TITLE=2400 Strawberry Mansion Drive:geo:-75.1897846,39.996008
END:VEVENT
BEGIN:VEVENT
DTSTART;TZID=UTC:20180822T200000
DTEND;TZID=UTC:20180822T230000
DTSTAMP:20260425T082342
CREATED:20180821T001001Z
LAST-MODIFIED:20180821T001001Z
UID:10000040-1534968000-1534978800@mattcappy.com
SUMMARY:w/ Queen Latifah & Common
DESCRIPTION:PART OF JAZZ AT THE BOWL 1 \n\nThe ever-versatile Queen Latifah returns to her throne for a soul-driven set showcasing the emotional power of her voice and her sophisticated presence as a singer. Fresh off his second Academy Award® nomination for Best Original Song – an award he won in 2013 for “Glory” – rapper\, poet\, and actor Common fuses social justice and large-hearted positivity for a highly charismatic performance.
URL:https://mattcappy.com/event/w-queen-latifah-common/
LOCATION:Hollywood Bowl\, 2301 N. Highland Ave.\, Los Angeles\, CA\, 90068\, United States
CATEGORIES:performances
ATTACH;FMTTYPE=image/jpeg:https://mattcappy.com/wp-content/uploads/2018/08/queen.jpg
GEO:34.1127392;-118.3388562
X-APPLE-STRUCTURED-LOCATION;VALUE=URI;X-ADDRESS=Hollywood Bowl 2301 N. Highland Ave. Los Angeles CA 90068 United States;X-APPLE-RADIUS=500;X-TITLE=2301 N. Highland Ave.:geo:-118.3388562,34.1127392
END:VEVENT
BEGIN:VEVENT
DTSTART;TZID=UTC:20180718T190000
DTEND;TZID=UTC:20180718T210000
DTSTAMP:20260425T082342
CREATED:20180608T060525Z
LAST-MODIFIED:20180608T070445Z
UID:10000069-1531940400-1531947600@mattcappy.com
SUMMARY:Matt Cappy Quintet
DESCRIPTION:Matt Cappy Quintet \nAnson B. Nixon Park\nSummer Concert Series
URL:https://mattcappy.com/event/matt-cappy-quintet/
LOCATION:Anson B. Nixon Park\, 405 N. Walnut Street\, Kennet Square\, PA\, 19348\, United States
CATEGORIES:performances
ATTACH;FMTTYPE=image/jpeg:https://mattcappy.com/wp-content/uploads/2018/06/anson.jpg
GEO:39.853087;-75.705416
X-APPLE-STRUCTURED-LOCATION;VALUE=URI;X-ADDRESS=Anson B. Nixon Park 405 N. Walnut Street Kennet Square PA 19348 United States;X-APPLE-RADIUS=500;X-TITLE=405 N. Walnut Street:geo:-75.705416,39.853087
END:VEVENT
BEGIN:VEVENT
DTSTART;TZID=UTC:20180616T190000
DTEND;TZID=UTC:20180616T210000
DTSTAMP:20260425T082342
CREATED:20180608T061440Z
LAST-MODIFIED:20180608T070924Z
UID:10000047-1529175600-1529182800@mattcappy.com
SUMMARY:Matt Cappy W/ Hardwork Movement
DESCRIPTION:Saturday June 16th\, 2018\nMatt Cappy  7pm\nW/ Hardwork Movement 8pm\nThe Station\n10 E Chestnut Ave\nMerchantville\, NJ 08109
URL:https://mattcappy.com/event/matt-cappy-w-hardwork-movement/
LOCATION:The Station\, 10 E Chestnut Ave\, Merchantville\, NJ\, 08109\, United States
CATEGORIES:performances
ATTACH;FMTTYPE=image/jpeg:https://mattcappy.com/wp-content/uploads/2018/06/east-of-philly.jpg
GEO:39.9522838;-75.048543
X-APPLE-STRUCTURED-LOCATION;VALUE=URI;X-ADDRESS=The Station 10 E Chestnut Ave Merchantville NJ 08109 United States;X-APPLE-RADIUS=500;X-TITLE=10 E Chestnut Ave:geo:-75.048543,39.9522838
END:VEVENT
BEGIN:VEVENT
DTSTART;TZID=UTC:20180513T200000
DTEND;TZID=UTC:20180513T220000
DTSTAMP:20260425T082342
CREATED:20180405T182051Z
LAST-MODIFIED:20180405T182051Z
UID:10000063-1526241600-1526248800@mattcappy.com
SUMMARY:w/ Patti LaBelle
DESCRIPTION:
URL:https://mattcappy.com/event/w-patti-labelle-4/
LOCATION:James L. Knight Center\, 400 SE 2nd Ave\, Miami\, FL\, 33131\, United States
CATEGORIES:performances
GEO:25.7709263;-80.1910809
X-APPLE-STRUCTURED-LOCATION;VALUE=URI;X-ADDRESS=James L. Knight Center 400 SE 2nd Ave Miami FL 33131 United States;X-APPLE-RADIUS=500;X-TITLE=400 SE 2nd Ave:geo:-80.1910809,25.7709263
END:VEVENT
BEGIN:VEVENT
DTSTART;TZID=UTC:20180511T200000
DTEND;TZID=UTC:20180511T220000
DTSTAMP:20260425T082342
CREATED:20180405T182437Z
LAST-MODIFIED:20180405T182437Z
UID:10000064-1526068800-1526076000@mattcappy.com
SUMMARY:w/ Patti LaBelle
DESCRIPTION:
URL:https://mattcappy.com/event/w-patti-labelle-5/
LOCATION:Dr. Phillips Center for the Performing Arts\, 445 S. Magnolia Avenue\, Orlando\, FL\, 32801\, United States
CATEGORIES:performances
GEO:28.5375795;-81.3768888
X-APPLE-STRUCTURED-LOCATION;VALUE=URI;X-ADDRESS=Dr. Phillips Center for the Performing Arts 445 S. Magnolia Avenue Orlando FL 32801 United States;X-APPLE-RADIUS=500;X-TITLE=445 S. Magnolia Avenue:geo:-81.3768888,28.5375795
END:VEVENT
BEGIN:VEVENT
DTSTART;TZID=UTC:20180505T210000
DTEND;TZID=UTC:20180505T233000
DTSTAMP:20260425T082342
CREATED:20180503T230518Z
LAST-MODIFIED:20180503T230518Z
UID:10000067-1525554000-1525563000@mattcappy.com
SUMMARY:with Marah
DESCRIPTION:Matt playing with Marah
URL:https://mattcappy.com/event/with-marah/
LOCATION:118 North\, 118 N. Wayne Ave\, wayne\, PA\, United States
CATEGORIES:performances
ATTACH;FMTTYPE=image/jpeg:https://mattcappy.com/wp-content/uploads/2018/05/115north.jpg
GEO:40.0448985;-75.3882235
X-APPLE-STRUCTURED-LOCATION;VALUE=URI;X-ADDRESS=118 North 118 N. Wayne Ave wayne PA United States;X-APPLE-RADIUS=500;X-TITLE=118 N. Wayne Ave:geo:-75.3882235,40.0448985
END:VEVENT
BEGIN:VEVENT
DTSTART;TZID=UTC:20180505T160000
DTEND;TZID=UTC:20180505T170000
DTSTAMP:20260425T082342
CREATED:20180503T213647Z
LAST-MODIFIED:20180503T230849Z
UID:10000065-1525536000-1525539600@mattcappy.com
SUMMARY:Matt Cappy @ The South Street Spring Festival
DESCRIPTION:South Street Spring Festival \n5th & South Street  \nPhiladelphia\, PA  \n4-4:45pm
URL:https://mattcappy.com/event/matt-cappy-2/
LOCATION:South Street Spring Festival\, South & 5th St.\, Philadelphia\, PA\, 19147\, United States
CATEGORIES:performances
ATTACH;FMTTYPE=image/jpeg:https://mattcappy.com/wp-content/uploads/2018/05/southstreet.jpg
GEO:39.9328115;-75.1527634
X-APPLE-STRUCTURED-LOCATION;VALUE=URI;X-ADDRESS=South Street Spring Festival South & 5th St. Philadelphia PA 19147 United States;X-APPLE-RADIUS=500;X-TITLE=South & 5th St.:geo:-75.1527634,39.9328115
END:VEVENT
BEGIN:VEVENT
DTSTART;TZID=UTC:20180504T210000
DTEND;TZID=UTC:20180504T230000
DTSTAMP:20260425T082342
CREATED:20180503T214134Z
LAST-MODIFIED:20180503T224427Z
UID:10000066-1525467600-1525474800@mattcappy.com
SUMMARY:with Marah
DESCRIPTION:Matt playing with Marah! \n 
URL:https://mattcappy.com/event/marah/
LOCATION:Boot and Saddle\, 1131 S. Broad St\, Philadelphia\, PA\, 19147\, United States
CATEGORIES:performances
ATTACH;FMTTYPE=image/jpeg:https://mattcappy.com/wp-content/uploads/2018/05/bootandsaddle-1.jpg
GEO:39.9368353;-75.1665541
X-APPLE-STRUCTURED-LOCATION;VALUE=URI;X-ADDRESS=Boot and Saddle 1131 S. Broad St Philadelphia PA 19147 United States;X-APPLE-RADIUS=500;X-TITLE=1131 S. Broad St:geo:-75.1665541,39.9368353
END:VEVENT
BEGIN:VEVENT
DTSTART;TZID=UTC:20180421T190000
DTEND;TZID=UTC:20180421T200000
DTSTAMP:20260425T082342
CREATED:20180503T231224Z
LAST-MODIFIED:20180503T231224Z
UID:10000068-1524337200-1524340800@mattcappy.com
SUMMARY:Matt Cappy @ Rhythm & Brews Festival
DESCRIPTION:Matt Cappy\nSat 4/21\, 7-8pm\nRhythm and Brews Fest\nStation Avenue\nHaddon Heights\, NJ 08035
URL:https://mattcappy.com/event/matt-cappy-rhythm-brews-festival/
LOCATION:Rhythm and Brews Festival\, Station Ave\, Hadon Heights\, NJ\, 08035\, United States
CATEGORIES:performances
ATTACH;FMTTYPE=image/jpeg:https://mattcappy.com/wp-content/uploads/2018/05/rhythmandbrew.jpg
GEO:39.8844212;-75.055301
X-APPLE-STRUCTURED-LOCATION;VALUE=URI;X-ADDRESS=Rhythm and Brews Festival Station Ave Hadon Heights NJ 08035 United States;X-APPLE-RADIUS=500;X-TITLE=Station Ave:geo:-75.055301,39.8844212
END:VEVENT
BEGIN:VEVENT
DTSTART;TZID=UTC:20180408T190000
DTEND;TZID=UTC:20180408T210000
DTSTAMP:20260425T082342
CREATED:20180405T181056Z
LAST-MODIFIED:20180405T181056Z
UID:10000048-1523214000-1523221200@mattcappy.com
SUMMARY:w/ Patti LaBelle
DESCRIPTION:
URL:https://mattcappy.com/event/w-patti-labelle-3/
LOCATION:State Theatre of New Jersey\, 15 Livingston Ave\, New Brunswick\, NJ\, 08901\, United States
CATEGORIES:performances
GEO:40.4934831;-74.4449604
X-APPLE-STRUCTURED-LOCATION;VALUE=URI;X-ADDRESS=State Theatre of New Jersey 15 Livingston Ave New Brunswick NJ 08901 United States;X-APPLE-RADIUS=500;X-TITLE=15 Livingston Ave:geo:-74.4449604,40.4934831
END:VEVENT
BEGIN:VEVENT
DTSTART;TZID=UTC:20180407T200000
DTEND;TZID=UTC:20180407T220000
DTSTAMP:20260425T082342
CREATED:20180405T180735Z
LAST-MODIFIED:20180405T180735Z
UID:10000031-1523131200-1523138400@mattcappy.com
SUMMARY:w/ Patti LaBelle
DESCRIPTION:
URL:https://mattcappy.com/event/w-patti-labelle-2/
LOCATION:Warner Theater\, 513 13th St. N.W\, Washington\, DC\, 20004\, United States
CATEGORIES:performances
GEO:38.8965086;-77.0291824
X-APPLE-STRUCTURED-LOCATION;VALUE=URI;X-ADDRESS=Warner Theater 513 13th St. N.W Washington DC 20004 United States;X-APPLE-RADIUS=500;X-TITLE=513 13th St. N.W:geo:-77.0291824,38.8965086
END:VEVENT
BEGIN:VEVENT
DTSTART;TZID=UTC:20180406T183000
DTEND;TZID=UTC:20180406T220000
DTSTAMP:20260425T082342
CREATED:20180405T050555Z
LAST-MODIFIED:20180405T050555Z
UID:10000061-1523039400-1523052000@mattcappy.com
SUMMARY:Caffe Aldo Lamberti
DESCRIPTION:
URL:https://mattcappy.com/event/caffe-aldo-lamberti/
LOCATION:Caffe Aldo Lamberti\, 2011 Marlton Pike West\, Cherry Hill\, NJ\, 08002\, United States
CATEGORIES:performances
GEO:39.9192964;-75.0354684
X-APPLE-STRUCTURED-LOCATION;VALUE=URI;X-ADDRESS=Caffe Aldo Lamberti 2011 Marlton Pike West Cherry Hill NJ 08002 United States;X-APPLE-RADIUS=500;X-TITLE=2011 Marlton Pike West:geo:-75.0354684,39.9192964
END:VEVENT
BEGIN:VEVENT
DTSTART;TZID=UTC:20180405T200000
DTEND;TZID=UTC:20180405T220000
DTSTAMP:20260425T082342
CREATED:20180405T180421Z
LAST-MODIFIED:20180405T180421Z
UID:10000062-1522958400-1522965600@mattcappy.com
SUMMARY:w/ Patti LaBelle
DESCRIPTION:
URL:https://mattcappy.com/event/w-patti-labelle/
LOCATION:Kimmel Center\, 240 S. Broad St\, Philadelphia\, PA\, 19102\, United States
CATEGORIES:performances
GEO:39.948067;-75.1652089
X-APPLE-STRUCTURED-LOCATION;VALUE=URI;X-ADDRESS=Kimmel Center 240 S. Broad St Philadelphia PA 19102 United States;X-APPLE-RADIUS=500;X-TITLE=240 S. Broad St:geo:-75.1652089,39.948067
END:VEVENT
BEGIN:VEVENT
DTSTART;TZID=UTC:20180316T200000
DTEND;TZID=UTC:20180316T220000
DTSTAMP:20260425T082342
CREATED:20180228T015127Z
LAST-MODIFIED:20180228T015147Z
UID:10000038-1521230400-1521237600@mattcappy.com
SUMMARY:Kennett Flash
DESCRIPTION:Doors: 7:00 pm / Show: 8:00 pm \n\n$15.00 – $18.00 \nTix
URL:https://mattcappy.com/event/kennett-flash/
LOCATION:Kennett Flash\, 102 Sycamore Alley\, Kennett Square\, PA\, 19348\, United States
CATEGORIES:performances
GEO:39.8458345;-75.71079
X-APPLE-STRUCTURED-LOCATION;VALUE=URI;X-ADDRESS=Kennett Flash 102 Sycamore Alley Kennett Square PA 19348 United States;X-APPLE-RADIUS=500;X-TITLE=102 Sycamore Alley:geo:-75.71079,39.8458345
END:VEVENT
BEGIN:VEVENT
DTSTART;TZID=UTC:20180228T190000
DTEND;TZID=UTC:20180228T220000
DTSTAMP:20260425T082342
CREATED:20180228T011518Z
LAST-MODIFIED:20180228T011804Z
UID:10000037-1519844400-1519855200@mattcappy.com
SUMMARY:World Cafe Live Upstairs
DESCRIPTION:DOORS: 7:00 PM / SHOW: 8:00 PM \n$12 ADV – $14 DOS + FEES \nGET TIX
URL:https://mattcappy.com/event/world-cafe-live-upstairs/
LOCATION:World Cafe Live\, 3025 Walnut St.\, Philadelphia\, PA\, 19104\, United States
CATEGORIES:performances
GEO:39.9522277;-75.1850894
X-APPLE-STRUCTURED-LOCATION;VALUE=URI;X-ADDRESS=World Cafe Live 3025 Walnut St. Philadelphia PA 19104 United States;X-APPLE-RADIUS=500;X-TITLE=3025 Walnut St.:geo:-75.1850894,39.9522277
END:VEVENT
BEGIN:VEVENT
DTSTART;TZID=UTC:20180202T200000
DTEND;TZID=UTC:20180202T220000
DTSTAMP:20260425T082342
CREATED:20180120T211711Z
LAST-MODIFIED:20180120T211711Z
UID:10000050-1517601600-1517608800@mattcappy.com
SUMMARY:THE VAULT OF VICTOR RECORDS
DESCRIPTION:Matt brings his quintet to The Vault in Berlin. \nTickets: $20 reserved / $30 at the door.
URL:https://mattcappy.com/event/the-vault-of-victor-records/
LOCATION:The Vault at Victor Records\, 150 S. White Horse Pike\, Berlin\, NJ\, 08009\, United States
CATEGORIES:performances
GEO:39.7924258;-74.9304724
X-APPLE-STRUCTURED-LOCATION;VALUE=URI;X-ADDRESS=The Vault at Victor Records 150 S. White Horse Pike Berlin NJ 08009 United States;X-APPLE-RADIUS=500;X-TITLE=150 S. White Horse Pike:geo:-74.9304724,39.7924258
END:VEVENT
BEGIN:VEVENT
DTSTART;TZID=UTC:20171229T200000
DTEND;TZID=UTC:20171229T220000
DTSTAMP:20260425T082342
CREATED:20171120T205131Z
LAST-MODIFIED:20171120T205428Z
UID:10000056-1514577600-1514584800@mattcappy.com
SUMMARY:MATT CAPPY w/ JOHN TRAIN
DESCRIPTION:
URL:https://mattcappy.com/event/matt-cappy-w-john-train/
LOCATION:Johnny Brenda’s\, 1201 N. Frankford Ave\, Philadelphia\, PA\, 19125\, United States
CATEGORIES:performances
ATTACH;FMTTYPE=image/png:https://mattcappy.com/wp-content/uploads/2017/11/johnnybrendas.png
GEO:39.9691021;-75.1342117
X-APPLE-STRUCTURED-LOCATION;VALUE=URI;X-ADDRESS=Johnny Brenda’s 1201 N. Frankford Ave Philadelphia PA 19125 United States;X-APPLE-RADIUS=500;X-TITLE=1201 N. Frankford Ave:geo:-75.1342117,39.9691021
END:VEVENT
BEGIN:VEVENT
DTSTART;TZID=UTC:20171202T193000
DTEND;TZID=UTC:20171202T220000
DTSTAMP:20260425T082342
CREATED:20171120T203913Z
LAST-MODIFIED:20171120T205507Z
UID:10000055-1512243000-1512252000@mattcappy.com
SUMMARY:Velvet Note
DESCRIPTION:  \n  \nTwo Shows. 7:30 & 9 PM
URL:https://mattcappy.com/event/velvet-note/
LOCATION:The Velvet Note\, 4075 Old Milton Parkway\, Atlanta\, GA\, 30005\, United States
CATEGORIES:performances
ATTACH;FMTTYPE=image/png:https://mattcappy.com/wp-content/uploads/2017/11/velvet-note-logo.png
GEO:34.0599772;-84.2422609
X-APPLE-STRUCTURED-LOCATION;VALUE=URI;X-ADDRESS=The Velvet Note 4075 Old Milton Parkway Atlanta GA 30005 United States;X-APPLE-RADIUS=500;X-TITLE=4075 Old Milton Parkway:geo:-84.2422609,34.0599772
END:VEVENT
BEGIN:VEVENT
DTSTART;TZID=UTC:20171130T200000
DTEND;TZID=UTC:20171130T220000
DTSTAMP:20260425T082342
CREATED:20171120T210643Z
LAST-MODIFIED:20171120T210643Z
UID:10000049-1512072000-1512079200@mattcappy.com
SUMMARY:MATT CAPPY @ John And Peter's
DESCRIPTION:
URL:https://mattcappy.com/event/matt-cappy-john-and-peters/
LOCATION:John & Peter’s\, 96 South Main Street\, New Hope\, PA\, 19838\, United States
CATEGORIES:performances
ATTACH;FMTTYPE=image/png:https://mattcappy.com/wp-content/uploads/2017/11/johnandpeters.png
GEO:40.3612868;-74.9500609
X-APPLE-STRUCTURED-LOCATION;VALUE=URI;X-ADDRESS=John & Peter’s 96 South Main Street New Hope PA 19838 United States;X-APPLE-RADIUS=500;X-TITLE=96 South Main Street:geo:-74.9500609,40.3612868
END:VEVENT
BEGIN:VEVENT
DTSTART;TZID=UTC:20171112T130000
DTEND;TZID=UTC:20171112T170000
DTSTAMP:20260425T082342
CREATED:20171109T091407Z
LAST-MODIFIED:20171109T091407Z
UID:10000054-1510491600-1510506000@mattcappy.com
SUMMARY:Exit Zero Jazz Fest
DESCRIPTION:Matt Cappy Quintet \nSets at 1 & 3 pm.
URL:https://mattcappy.com/event/exit-zero-jazz-fest-2/
LOCATION:Carney’s Other Room\, 411 Beach Ave\, Cape May\, NJ\, 08204\, United States
CATEGORIES:performances
GEO:38.930536;-74.921565
X-APPLE-STRUCTURED-LOCATION;VALUE=URI;X-ADDRESS=Carney’s Other Room 411 Beach Ave Cape May NJ 08204 United States;X-APPLE-RADIUS=500;X-TITLE=411 Beach Ave:geo:-74.921565,38.930536
END:VEVENT
BEGIN:VEVENT
DTSTART;TZID=UTC:20171111T130000
DTEND;TZID=UTC:20171111T170000
DTSTAMP:20260425T082342
CREATED:20171109T091302Z
LAST-MODIFIED:20171109T091302Z
UID:10000053-1510405200-1510419600@mattcappy.com
SUMMARY:Exit Zero Jazz Fest
DESCRIPTION:Matt Cappy Quintet \nSets at 1 & 3PM.
URL:https://mattcappy.com/event/exit-zero-jazz-fest/
LOCATION:Carney’s Other Room\, 411 Beach Ave\, Cape May\, NJ\, 08204\, United States
GEO:38.930536;-74.921565
X-APPLE-STRUCTURED-LOCATION;VALUE=URI;X-ADDRESS=Carney’s Other Room 411 Beach Ave Cape May NJ 08204 United States;X-APPLE-RADIUS=500;X-TITLE=411 Beach Ave:geo:-74.921565,38.930536
END:VEVENT
BEGIN:VEVENT
DTSTART;VALUE=DATE:20170930
DTEND;VALUE=DATE:20171002
DTSTAMP:20260425T082342
CREATED:20170907T195517Z
LAST-MODIFIED:20170907T195517Z
UID:10000052-1506736800-1506823199@mattcappy.com
SUMMARY:ESSENCE Music Festival - Appearing w/ JILL SCOTT
DESCRIPTION:ESSENCE Music Festival – Appearing w/ JILL SCOTT
URL:https://mattcappy.com/event/essence-music-festival-appearing-w-jill-scott/
LOCATION:International Convention Centre\, 45 Bram Fischer Road\, Durban\, Durban\, South Africa
CATEGORIES:performances
GEO:-29.8545048;31.0288066
X-APPLE-STRUCTURED-LOCATION;VALUE=URI;X-ADDRESS=International Convention Centre 45 Bram Fischer Road Durban Durban South Africa;X-APPLE-RADIUS=500;X-TITLE=45 Bram Fischer Road:geo:31.0288066,-29.8545048
END:VEVENT
BEGIN:VEVENT
DTSTART;TZID=UTC:20170910T190000
DTEND;TZID=UTC:20170910T220000
DTSTAMP:20260425T082342
CREATED:20170907T194730Z
LAST-MODIFIED:20170907T194730Z
UID:10000036-1505070000-1505080800@mattcappy.com
SUMMARY:MATT CAPPY
DESCRIPTION:
URL:https://mattcappy.com/event/matt-cappy/
LOCATION:The Velvet Note\, 4075 Old Milton Parkway\, Atlanta\, GA\, 30005\, United States
CATEGORIES:performances
GEO:34.0599772;-84.2422609
X-APPLE-STRUCTURED-LOCATION;VALUE=URI;X-ADDRESS=The Velvet Note 4075 Old Milton Parkway Atlanta GA 30005 United States;X-APPLE-RADIUS=500;X-TITLE=4075 Old Milton Parkway:geo:-84.2422609,34.0599772
END:VEVENT
BEGIN:VEVENT
DTSTART;VALUE=DATE:20170909
DTEND;VALUE=DATE:20170911
DTSTAMP:20260425T082342
CREATED:20170907T194152Z
LAST-MODIFIED:20170907T194152Z
UID:10000058-1504922400-1505008799@mattcappy.com
SUMMARY:ONE Music Festival -w/ Jill Scott
DESCRIPTION:Appearing with JILL SCOTT
URL:https://mattcappy.com/event/one-music-festival-w-jill-scott/
LOCATION:Lakewood Amphitheatre\, 2002 Lakewood Way\, Atlanta\, GA\, 30315\, United States
CATEGORIES:performances
GEO:33.7035821;-84.3971408
X-APPLE-STRUCTURED-LOCATION;VALUE=URI;X-ADDRESS=Lakewood Amphitheatre 2002 Lakewood Way Atlanta GA 30315 United States;X-APPLE-RADIUS=500;X-TITLE=2002 Lakewood Way:geo:-84.3971408,33.7035821
END:VEVENT
END:VCALENDAR