BEGIN:VCALENDAR
VERSION:2.0
PRODID:-//Matt Cappy - ECPv6.15.20//NONSGML v1.0//EN
CALSCALE:GREGORIAN
METHOD:PUBLISH
X-ORIGINAL-URL:https://mattcappy.com
X-WR-CALDESC:Events for Matt Cappy
REFRESH-INTERVAL;VALUE=DURATION:PT1H
X-Robots-Tag:noindex
X-PUBLISHED-TTL:PT1H
BEGIN:VTIMEZONE
TZID:America/New_York
BEGIN:DAYLIGHT
TZOFFSETFROM:-0500
TZOFFSETTO:-0400
TZNAME:EDT
DTSTART:20180311T070000
END:DAYLIGHT
BEGIN:STANDARD
TZOFFSETFROM:-0400
TZOFFSETTO:-0500
TZNAME:EST
DTSTART:20181104T060000
END:STANDARD
BEGIN:DAYLIGHT
TZOFFSETFROM:-0500
TZOFFSETTO:-0400
TZNAME:EDT
DTSTART:20190310T070000
END:DAYLIGHT
BEGIN:STANDARD
TZOFFSETFROM:-0400
TZOFFSETTO:-0500
TZNAME:EST
DTSTART:20191103T060000
END:STANDARD
BEGIN:DAYLIGHT
TZOFFSETFROM:-0500
TZOFFSETTO:-0400
TZNAME:EDT
DTSTART:20200308T070000
END:DAYLIGHT
BEGIN:STANDARD
TZOFFSETFROM:-0400
TZOFFSETTO:-0500
TZNAME:EST
DTSTART:20201101T060000
END:STANDARD
BEGIN:DAYLIGHT
TZOFFSETFROM:-0500
TZOFFSETTO:-0400
TZNAME:EDT
DTSTART:20210314T070000
END:DAYLIGHT
BEGIN:STANDARD
TZOFFSETFROM:-0400
TZOFFSETTO:-0500
TZNAME:EST
DTSTART:20211107T060000
END:STANDARD
END:VTIMEZONE
BEGIN:VEVENT
DTSTART;TZID=America/New_York:20200302T193000
DTEND;TZID=America/New_York:20200302T220000
DTSTAMP:20260422T202825
CREATED:20200127T184416Z
LAST-MODIFIED:20200127T184416Z
UID:10000103-1583177400-1583186400@mattcappy.com
SUMMARY:w/ Patti LaBelle
DESCRIPTION:w/ Patti LaBelle\n\nMonday March 2\, 2020\nPlant City\, FL\nFlorida Strawberry Festival
URL:https://mattcappy.com/event/w-patti-labelle-46/
LOCATION:Florida Strawberry Festival\, 303 BerryFest Place\, Plant City\, FL\, 33563\, United States
CATEGORIES:performances
ATTACH;FMTTYPE=image/jpeg:https://mattcappy.com/wp-content/uploads/2019/12/patti-grand.jpg
GEO:28.0163516;-82.1457671
X-APPLE-STRUCTURED-LOCATION;VALUE=URI;X-ADDRESS=Florida Strawberry Festival 303 BerryFest Place Plant City FL 33563 United States;X-APPLE-RADIUS=500;X-TITLE=303 BerryFest Place:geo:-82.1457671,28.0163516
END:VEVENT
BEGIN:VEVENT
DTSTART;TZID=America/New_York:20200216T190000
DTEND;TZID=America/New_York:20200216T230000
DTSTAMP:20260422T202825
CREATED:20200127T182811Z
LAST-MODIFIED:20200127T182811Z
UID:10000021-1581879600-1581894000@mattcappy.com
SUMMARY:w/ Patti LaBelle
DESCRIPTION:Live in concert – Patti LaBelle\, Kenny “Babyface” Edmonds and special guest Tamia. Don’t miss the concert party that will have you dancing all night long! Doors at 7:00pm.\n\nSunday February 16\, 2020\nSugar Land\, TX\nSmart Financial Centre
URL:https://mattcappy.com/event/w-patti-labelle-44/
LOCATION:Smart Financial Centre at Sugar Land\, 18111 Lexington Boulevard\, Sugar Land\, TX\, 77479\, United States
CATEGORIES:performances
ATTACH;FMTTYPE=image/jpeg:https://mattcappy.com/wp-content/uploads/2020/01/sugarland.jpg
GEO:29.5771563;-95.6436398
X-APPLE-STRUCTURED-LOCATION;VALUE=URI;X-ADDRESS=Smart Financial Centre at Sugar Land 18111 Lexington Boulevard Sugar Land TX 77479 United States;X-APPLE-RADIUS=500;X-TITLE=18111 Lexington Boulevard:geo:-95.6436398,29.5771563
END:VEVENT
BEGIN:VEVENT
DTSTART;TZID=America/New_York:20200215T200000
DTEND;TZID=America/New_York:20200215T230000
DTSTAMP:20260422T202825
CREATED:20200127T180400Z
LAST-MODIFIED:20200127T182110Z
UID:10000026-1581796800-1581807600@mattcappy.com
SUMMARY:w/ Patti LaBelle
DESCRIPTION:Saturday February 15\, 2020\nRobinsonville\, MS\nHorseshoe Tunica Casino
URL:https://mattcappy.com/event/w-patti-labelle-43/
LOCATION:Horseshoe Tunica Casino\, 1021 Casino Center Drive\, Robinsonville\, MS\, 38664\, United States
CATEGORIES:performances
ATTACH;FMTTYPE=image/jpeg:https://mattcappy.com/wp-content/uploads/2019/12/patti-grand.jpg
GEO:34.847825;-90.3316038
X-APPLE-STRUCTURED-LOCATION;VALUE=URI;X-ADDRESS=Horseshoe Tunica Casino 1021 Casino Center Drive Robinsonville MS 38664 United States;X-APPLE-RADIUS=500;X-TITLE=1021 Casino Center Drive:geo:-90.3316038,34.847825
END:VEVENT
BEGIN:VEVENT
DTSTART;TZID=America/New_York:20200214T200000
DTEND;TZID=America/New_York:20200214T230000
DTSTAMP:20260422T202825
CREATED:20200127T175814Z
LAST-MODIFIED:20200127T175814Z
UID:10000025-1581710400-1581721200@mattcappy.com
SUMMARY:W/ Patti LaBelle
DESCRIPTION:W/ Patti LaBelle\n\nFEBRUARY\nFriday February 14\, 2020\nNashville\, TN\nSchemerhorn Symphony Center
URL:https://mattcappy.com/event/w-patti-labelle-42/
LOCATION:Schermerhorn Symphony Center\, One Symphony Place\, Nashville\, TN\, 37201\, United States
CATEGORIES:performances
ATTACH;FMTTYPE=image/jpeg:https://mattcappy.com/wp-content/uploads/2019/12/patti-grand.jpg
GEO:36.1599353;-86.7759626
X-APPLE-STRUCTURED-LOCATION;VALUE=URI;X-ADDRESS=Schermerhorn Symphony Center One Symphony Place Nashville TN 37201 United States;X-APPLE-RADIUS=500;X-TITLE=One Symphony Place:geo:-86.7759626,36.1599353
END:VEVENT
BEGIN:VEVENT
DTSTART;TZID=America/New_York:20200207T200000
DTEND;TZID=America/New_York:20200207T220000
DTSTAMP:20260422T202825
CREATED:20200109T213709Z
LAST-MODIFIED:20200109T213709Z
UID:10000023-1581105600-1581112800@mattcappy.com
SUMMARY:MATT CAPPY
DESCRIPTION:MATT CAPPY\nFriday February  7th\,  2020\nThe Vault at Victor Records\n150 White Horse Pike\nBerlin\, NJ  08009\n8pm-10pm
URL:https://mattcappy.com/event/matt-cappy-4/
LOCATION:The Vault at Victor Records\, 150 S. White Horse Pike\, Berlin\, NJ\, 08009\, United States
ATTACH;FMTTYPE=image/jpeg:https://mattcappy.com/wp-content/uploads/2019/03/victor.jpg
GEO:39.7924258;-74.9304724
X-APPLE-STRUCTURED-LOCATION;VALUE=URI;X-ADDRESS=The Vault at Victor Records 150 S. White Horse Pike Berlin NJ 08009 United States;X-APPLE-RADIUS=500;X-TITLE=150 S. White Horse Pike:geo:-74.9304724,39.7924258
END:VEVENT
BEGIN:VEVENT
DTSTART;TZID=America/New_York:20200127T190000
DTEND;TZID=America/New_York:20200127T220000
DTSTAMP:20260422T202825
CREATED:20200127T183203Z
LAST-MODIFIED:20200127T183203Z
UID:10000102-1580151600-1580162400@mattcappy.com
SUMMARY:w/ Patti LaBelle
DESCRIPTION:Sunday March 1\, 2020\nThe Villages\, FL\nThe Sharon L. Morse Performing Arts
URL:https://mattcappy.com/event/w-patti-labelle-45/
LOCATION:Sharon L. Morse Performing Arts Center\, 1051 Main Street\, The Villages\, FL\, 32159\, United States
CATEGORIES:performances
ATTACH;FMTTYPE=image/jpeg:https://mattcappy.com/wp-content/uploads/2019/12/patti-grand.jpg
GEO:28.9409643;-81.9509669
X-APPLE-STRUCTURED-LOCATION;VALUE=URI;X-ADDRESS=Sharon L. Morse Performing Arts Center 1051 Main Street The Villages FL 32159 United States;X-APPLE-RADIUS=500;X-TITLE=1051 Main Street:geo:-81.9509669,28.9409643
END:VEVENT
BEGIN:VEVENT
DTSTART;TZID=America/New_York:20200118T210000
DTEND;TZID=America/New_York:20200119T000000
DTSTAMP:20260422T202825
CREATED:20200109T212744Z
LAST-MODIFIED:20200109T212744Z
UID:10000022-1579381200-1579392000@mattcappy.com
SUMMARY:MATT CAPPY
DESCRIPTION:MATT CAPPY\nSat January 18th\, 2020\nTriumph Brewing Co\n1 Bridge Ave\nRed Bank\, NJ  07701\n9pm-12am
URL:https://mattcappy.com/event/matt-cappy-3/
LOCATION:Triumph Brewing Co\, 1 Bridge Ave\, Red Bank\, NJ\, 07701\, United States
CATEGORIES:performances
ATTACH;FMTTYPE=image/gif:https://mattcappy.com/wp-content/uploads/2020/01/triumph.gif
GEO:40.3503966;-74.0743483
X-APPLE-STRUCTURED-LOCATION;VALUE=URI;X-ADDRESS=Triumph Brewing Co 1 Bridge Ave Red Bank NJ 07701 United States;X-APPLE-RADIUS=500;X-TITLE=1 Bridge Ave:geo:-74.0743483,40.3503966
END:VEVENT
BEGIN:VEVENT
DTSTART;TZID=America/New_York:20191229T190000
DTEND;TZID=America/New_York:20191229T220000
DTSTAMP:20260422T202825
CREATED:20191205T153709Z
LAST-MODIFIED:20191205T153709Z
UID:10000030-1577646000-1577656800@mattcappy.com
SUMMARY:Films & Words – Miles Davis: Birth of the Cool
DESCRIPTION:Films & Words – Miles Davis: Birth of the Cool\nwith guest lecturer Matt Cappy \nFilms & Words – Miles Davis: Birth of the Cool\nwith guest lecturer Matt Cappy
URL:https://mattcappy.com/event/films-words-miles-davis-birth-of-the-cool/
LOCATION:Kennett Flash\, 102 Sycamore Alley\, Kennett Square\, PA\, 19348\, United States
CATEGORIES:performances
ATTACH;FMTTYPE=image/jpeg:https://mattcappy.com/wp-content/uploads/2019/12/miles-davis.jpg
GEO:39.8458345;-75.71079
X-APPLE-STRUCTURED-LOCATION;VALUE=URI;X-ADDRESS=Kennett Flash 102 Sycamore Alley Kennett Square PA 19348 United States;X-APPLE-RADIUS=500;X-TITLE=102 Sycamore Alley:geo:-75.71079,39.8458345
END:VEVENT
BEGIN:VEVENT
DTSTART;TZID=America/New_York:20191222T180000
DTEND;TZID=America/New_York:20191222T220000
DTSTAMP:20260422T202825
CREATED:20191205T153242Z
LAST-MODIFIED:20191205T153242Z
UID:10000029-1577037600-1577052000@mattcappy.com
SUMMARY:W/ HoLiDeLiC
DESCRIPTION:Sat & Sun Dec 21 & 22\nW/ HoLiDeLiC\nHelsinki Hudson\n405 Columbia St\nHudson\, NY  12534
URL:https://mattcappy.com/event/w-holidelic-3/
LOCATION:Club Helsinki\, 405 Columbia St\, Hudson\, NY\, 12534\, United States
CATEGORIES:performances
ATTACH;FMTTYPE=image/jpeg:https://mattcappy.com/wp-content/uploads/2019/12/holidec-2019.jpg
GEO:42.2514512;-73.787751
X-APPLE-STRUCTURED-LOCATION;VALUE=URI;X-ADDRESS=Club Helsinki 405 Columbia St Hudson NY 12534 United States;X-APPLE-RADIUS=500;X-TITLE=405 Columbia St:geo:-73.787751,42.2514512
END:VEVENT
BEGIN:VEVENT
DTSTART;TZID=America/New_York:20191221T200000
DTEND;TZID=America/New_York:20191221T230000
DTSTAMP:20260422T202825
CREATED:20191205T153105Z
LAST-MODIFIED:20191205T153105Z
UID:10000028-1576958400-1576969200@mattcappy.com
SUMMARY:W/ HoLiDeLiC
DESCRIPTION:Sat & Sun Dec 21 & 22\nW/ HoLiDeLiC\nHelsinki Hudson\n405 Columbia St\nHudson\, NY  12534
URL:https://mattcappy.com/event/w-holidelic-2/
LOCATION:Club Helsinki\, 405 Columbia St\, Hudson\, NY\, 12534\, United States
CATEGORIES:performances
ATTACH;FMTTYPE=image/jpeg:https://mattcappy.com/wp-content/uploads/2019/12/holidec-2019.jpg
GEO:42.2514512;-73.787751
X-APPLE-STRUCTURED-LOCATION;VALUE=URI;X-ADDRESS=Club Helsinki 405 Columbia St Hudson NY 12534 United States;X-APPLE-RADIUS=500;X-TITLE=405 Columbia St:geo:-73.787751,42.2514512
END:VEVENT
BEGIN:VEVENT
DTSTART;TZID=America/New_York:20191213T200000
DTEND;TZID=America/New_York:20191213T230000
DTSTAMP:20260422T202825
CREATED:20191205T152739Z
LAST-MODIFIED:20191205T152739Z
UID:10000027-1576267200-1576278000@mattcappy.com
SUMMARY:W/ Marah- Holiday Extravaganza
DESCRIPTION:W/ Marah- Holiday Extravaganza\nUnderground Arts\n1200 Callowhill St\nPhiladelphia\, PA 19123
URL:https://mattcappy.com/event/w-marah-holiday-extravaganza/
LOCATION:Underground Arts\, 1200 Callowhill St\, Philadelphia\, PA\, 19123\, United States
CATEGORIES:performances
ATTACH;FMTTYPE=image/jpeg:https://mattcappy.com/wp-content/uploads/2019/12/marah-xmas.jpg
GEO:39.9590346;-75.1587131
X-APPLE-STRUCTURED-LOCATION;VALUE=URI;X-ADDRESS=Underground Arts 1200 Callowhill St Philadelphia PA 19123 United States;X-APPLE-RADIUS=500;X-TITLE=1200 Callowhill St:geo:-75.1587131,39.9590346
END:VEVENT
BEGIN:VEVENT
DTSTART;TZID=America/New_York:20191208T190000
DTEND;TZID=America/New_York:20191208T230000
DTSTAMP:20260422T202825
CREATED:20190917T045316Z
LAST-MODIFIED:20190917T045316Z
UID:10000090-1575831600-1575846000@mattcappy.com
SUMMARY:Home for the Holidays Concert\, Guest Artist
DESCRIPTION:MATT CAPPY\, Guest Artist\nSunday Dec 8\, 2019\nHome for the Holidays Concert\nWorld Cafe Live\nPhiladelphia\, PA\n7pm
URL:https://mattcappy.com/event/home-for-the-holidays-concert-guest-artist/
LOCATION:World Cafe Live\, 3025 Walnut St.\, Philadelphia\, PA\, 19104\, United States
CATEGORIES:performances
ATTACH;FMTTYPE=image/jpeg:https://mattcappy.com/wp-content/uploads/2019/09/worldcafe.jpg
GEO:39.9522277;-75.1850894
X-APPLE-STRUCTURED-LOCATION;VALUE=URI;X-ADDRESS=World Cafe Live 3025 Walnut St. Philadelphia PA 19104 United States;X-APPLE-RADIUS=500;X-TITLE=3025 Walnut St.:geo:-75.1850894,39.9522277
END:VEVENT
BEGIN:VEVENT
DTSTART;TZID=America/New_York:20191207T200000
DTEND;TZID=America/New_York:20191207T230000
DTSTAMP:20260422T202825
CREATED:20191205T150036Z
LAST-MODIFIED:20191205T150036Z
UID:10000101-1575748800-1575759600@mattcappy.com
SUMMARY:w/ Patti Labelle - The 43rd Annual Grand Gala
DESCRIPTION:The 43rd Annual Grand Gala \nSat Dec 7\nW/ Patti LaBelle\nGrand Opera House\nWilmington\, DE
URL:https://mattcappy.com/event/w-patti-labelle-the-43rd-annual-grand-gala/
LOCATION:Grand Opera House\, 818 N. Market Street\, Wilmington\, DE\, 19801\, United States
CATEGORIES:performances
ATTACH;FMTTYPE=image/jpeg:https://mattcappy.com/wp-content/uploads/2019/12/patti-grand.jpg
GEO:39.7437331;-75.548322
X-APPLE-STRUCTURED-LOCATION;VALUE=URI;X-ADDRESS=Grand Opera House 818 N. Market Street Wilmington DE 19801 United States;X-APPLE-RADIUS=500;X-TITLE=818 N. Market Street:geo:-75.548322,39.7437331
END:VEVENT
BEGIN:VEVENT
DTSTART;TZID=America/New_York:20191206T200000
DTEND;TZID=America/New_York:20191206T230000
DTSTAMP:20260422T202825
CREATED:20191205T145258Z
LAST-MODIFIED:20191205T150058Z
UID:10000100-1575662400-1575673200@mattcappy.com
SUMMARY:w/ Patti LaBelle
DESCRIPTION:Fri Dec 6\nW/ Patti LaBelle\nMGM Casino\nOxon Hill\, MD
URL:https://mattcappy.com/event/w-patti-labelle-41/
LOCATION:The Theater at MGM National Harbor\, 101 MGM National Ave\, Oxon Hill\, MD\, 20745\, United States
CATEGORIES:performances
ATTACH;FMTTYPE=image/jpeg:https://mattcappy.com/wp-content/uploads/2019/01/patti1000x500.jpg
GEO:38.7949962;-77.0093052
X-APPLE-STRUCTURED-LOCATION;VALUE=URI;X-ADDRESS=The Theater at MGM National Harbor 101 MGM National Ave Oxon Hill MD 20745 United States;X-APPLE-RADIUS=500;X-TITLE=101 MGM National Ave:geo:-77.0093052,38.7949962
END:VEVENT
BEGIN:VEVENT
DTSTART;TZID=America/New_York:20191112T200000
DTEND;TZID=America/New_York:20191112T220000
DTSTAMP:20260422T202825
CREATED:20190917T044555Z
LAST-MODIFIED:20190917T044555Z
UID:10000092-1573588800-1573596000@mattcappy.com
SUMMARY:Marian Anderson tribute concert
DESCRIPTION:MATT CAPPY\, Guest Artist\nTuesday Nov 12\, 2019\nMarian Anderson tribute concert\nKimmel Center\nPhiladelphia\, PA\n8pm
URL:https://mattcappy.com/event/marian-anderson-tribute-concert/
LOCATION:Kimmel Center\, 240 S. Broad St\, Philadelphia\, PA\, 19102\, United States
CATEGORIES:performances
ATTACH;FMTTYPE=image/jpeg:https://mattcappy.com/wp-content/uploads/2019/09/kimmel.jpg
GEO:39.948067;-75.1652089
X-APPLE-STRUCTURED-LOCATION;VALUE=URI;X-ADDRESS=Kimmel Center 240 S. Broad St Philadelphia PA 19102 United States;X-APPLE-RADIUS=500;X-TITLE=240 S. Broad St:geo:-75.1652089,39.948067
END:VEVENT
BEGIN:VEVENT
DTSTART;TZID=America/New_York:20191110T200000
DTEND;TZID=America/New_York:20191110T230000
DTSTAMP:20260422T202825
CREATED:20190917T202302Z
LAST-MODIFIED:20190917T202302Z
UID:10000099-1573416000-1573426800@mattcappy.com
SUMMARY:W/ Patti LaBelle
DESCRIPTION:-W/ Patti LaBelle\nSunday Nov 10\, 2019\nChrysler Hall\nNorfolk\, VA\n8pm
URL:https://mattcappy.com/event/w-patti-labelle-40/
LOCATION:Chrysler Hall\, 215 St Pauls Blvd\, Norfolk\, VA\, 23510\, United States
CATEGORIES:performances
ATTACH;FMTTYPE=image/jpeg:https://mattcappy.com/wp-content/uploads/2019/01/patti1000x500.jpg
GEO:36.8519906;-76.28593
X-APPLE-STRUCTURED-LOCATION;VALUE=URI;X-ADDRESS=Chrysler Hall 215 St Pauls Blvd Norfolk VA 23510 United States;X-APPLE-RADIUS=500;X-TITLE=215 St Pauls Blvd:geo:-76.28593,36.8519906
END:VEVENT
BEGIN:VEVENT
DTSTART;TZID=America/New_York:20191109T200000
DTEND;TZID=America/New_York:20191109T230000
DTSTAMP:20260422T202825
CREATED:20190917T201931Z
LAST-MODIFIED:20190917T201931Z
UID:10000098-1573329600-1573340400@mattcappy.com
SUMMARY:W/ Patti LaBelle
DESCRIPTION:W/ Patti LaBelle\nSaturday Nov 9\, 2019\nTiles Center for the Perf. Arts\nBrookville\, NY\n8pm
URL:https://mattcappy.com/event/w-patti-labelle-39/
LOCATION:Tiles Center for the Perf. Arts\, 720 Northern Boulevard\, Brookville\, NY\, 11548\, United States
CATEGORIES:performances
GEO:40.8174969;-73.6052653
X-APPLE-STRUCTURED-LOCATION;VALUE=URI;X-ADDRESS=Tiles Center for the Perf. Arts 720 Northern Boulevard Brookville NY 11548 United States;X-APPLE-RADIUS=500;X-TITLE=720 Northern Boulevard:geo:-73.6052653,40.8174969
END:VEVENT
BEGIN:VEVENT
DTSTART;TZID=America/New_York:20191108T200000
DTEND;TZID=America/New_York:20191108T230000
DTSTAMP:20260422T202825
CREATED:20190917T201533Z
LAST-MODIFIED:20190917T201533Z
UID:10000097-1573243200-1573254000@mattcappy.com
SUMMARY:W/ Patti LaBelle
DESCRIPTION:W/ Patti LaBelle\nFriday Nov 8\, 2019\nCrown Theater\nFayetteville\, NC\n8pm
URL:https://mattcappy.com/event/w-patti-labelle-38/
LOCATION:The Crown Theater\, 1960 Coliseum Dr\, Fayetteville\, NC\, 28306\, United States
CATEGORIES:performances
ATTACH;FMTTYPE=image/jpeg:https://mattcappy.com/wp-content/uploads/2019/01/patti1000x500.jpg
GEO:35.0147519;-78.8918675
X-APPLE-STRUCTURED-LOCATION;VALUE=URI;X-ADDRESS=The Crown Theater 1960 Coliseum Dr Fayetteville NC 28306 United States;X-APPLE-RADIUS=500;X-TITLE=1960 Coliseum Dr:geo:-78.8918675,35.0147519
END:VEVENT
BEGIN:VEVENT
DTSTART;TZID=America/New_York:20191102T200000
DTEND;TZID=America/New_York:20191102T223000
DTSTAMP:20260422T202825
CREATED:20190917T200958Z
LAST-MODIFIED:20190917T200958Z
UID:10000088-1572724800-1572733800@mattcappy.com
SUMMARY:w/ Patti LaBelle
DESCRIPTION:w/ Patti LaBelle\nSaturday Nov 2\, 2019\nBeau Rivage Resort\nBiloxi\, MS\n8pm
URL:https://mattcappy.com/event/w-patti-labelle-37/
LOCATION:Beau Rivage Resort & Casino\, 875 Beach Blvd\, Biloxi\, MS\, 39530\, United States
CATEGORIES:performances
ATTACH;FMTTYPE=image/jpeg:https://mattcappy.com/wp-content/uploads/2019/01/patti1000x500.jpg
GEO:30.3932835;-88.8931731
X-APPLE-STRUCTURED-LOCATION;VALUE=URI;X-ADDRESS=Beau Rivage Resort & Casino 875 Beach Blvd Biloxi MS 39530 United States;X-APPLE-RADIUS=500;X-TITLE=875 Beach Blvd:geo:-88.8931731,30.3932835
END:VEVENT
BEGIN:VEVENT
DTSTART;TZID=America/New_York:20191101T200000
DTEND;TZID=America/New_York:20191101T230000
DTSTAMP:20260422T202825
CREATED:20190917T043320Z
LAST-MODIFIED:20190917T043320Z
UID:10000094-1572638400-1572649200@mattcappy.com
SUMMARY:W/ Patti LaBelle
DESCRIPTION:-W/ Patti LaBelle\nFriday Nov 1\, 2019\nGolden Nugget Event Center\nLake Charles\, La\n8pm
URL:https://mattcappy.com/event/w-patti-labelle-36/
LOCATION:Golden Nugget Event Center\, 2550 Golden Nugget Blvd\, Lake Charles\, LA\, 70601\, United States
CATEGORIES:performances
ATTACH;FMTTYPE=image/jpeg:https://mattcappy.com/wp-content/uploads/2019/01/patti1000x500.jpg
GEO:30.2048733;-93.263549
X-APPLE-STRUCTURED-LOCATION;VALUE=URI;X-ADDRESS=Golden Nugget Event Center 2550 Golden Nugget Blvd Lake Charles LA 70601 United States;X-APPLE-RADIUS=500;X-TITLE=2550 Golden Nugget Blvd:geo:-93.263549,30.2048733
END:VEVENT
BEGIN:VEVENT
DTSTART;TZID=America/New_York:20191020T200000
DTEND;TZID=America/New_York:20191020T220000
DTSTAMP:20260422T202825
CREATED:20190917T042819Z
LAST-MODIFIED:20190917T042819Z
UID:10000096-1571601600-1571608800@mattcappy.com
SUMMARY:w/ Patti LaBelle
DESCRIPTION:W/ Patti LaBelle\nSunday Oct 20\, 2019\nMotor City Casino\nDetroit\, MI\n8pm
URL:https://mattcappy.com/event/w-patti-labelle-35/
LOCATION:Motor City Casino\, 2901 Grand River Ave\, Detroit\, MI\, 48201\, United States
CATEGORIES:performances
ATTACH;FMTTYPE=image/jpeg:https://mattcappy.com/wp-content/uploads/2019/01/patti1000x500.jpg
GEO:42.3397136;-83.0674669
X-APPLE-STRUCTURED-LOCATION;VALUE=URI;X-ADDRESS=Motor City Casino 2901 Grand River Ave Detroit MI 48201 United States;X-APPLE-RADIUS=500;X-TITLE=2901 Grand River Ave:geo:-83.0674669,42.3397136
END:VEVENT
BEGIN:VEVENT
DTSTART;TZID=America/New_York:20191019T200000
DTEND;TZID=America/New_York:20191019T230000
DTSTAMP:20260422T202825
CREATED:20190917T042429Z
LAST-MODIFIED:20190917T042429Z
UID:10000014-1571515200-1571526000@mattcappy.com
SUMMARY:An Evening of Soul w/Patti LaBelle & Friends
DESCRIPTION:Live in concert… Patti LaBelle\, Stephanie Mills\, Freddie Jackson & El DeBarge! Do not miss the concert party that will have you dancing and feeling the Soul all night long! Doors at 6:30pm. Artists scheduled to appear and subject to change. No refunds or exchanges. \nSaturday Oct 19\, 2019\nWintrust Arena\nChicago\, IL\n8pm
URL:https://mattcappy.com/event/an-evening-of-soul-w-patti-labelle-friends/
LOCATION:Wintrust Arena\, 200 E. Cermak Road\, Chicago\, IL\, 60616\, United States
CATEGORIES:performances
ATTACH;FMTTYPE=image/jpeg:https://mattcappy.com/wp-content/uploads/2019/09/eve-of-soul.jpg
GEO:41.853739;-87.6213473
X-APPLE-STRUCTURED-LOCATION;VALUE=URI;X-ADDRESS=Wintrust Arena 200 E. Cermak Road Chicago IL 60616 United States;X-APPLE-RADIUS=500;X-TITLE=200 E. Cermak Road:geo:-87.6213473,41.853739
END:VEVENT
BEGIN:VEVENT
DTSTART;TZID=America/New_York:20191018T200000
DTEND;TZID=America/New_York:20191018T230000
DTSTAMP:20260422T202826
CREATED:20190917T041910Z
LAST-MODIFIED:20190917T041910Z
UID:10000013-1571428800-1571439600@mattcappy.com
SUMMARY:W/ Patti LaBelle
DESCRIPTION:W/ Patti LaBelle\nFriday Oct 18\, 2019\nOmaha Performing Arts Center\nOmaha\, NE\n8pm
URL:https://mattcappy.com/event/w-patti-labelle-34/
LOCATION:Omaha Performing Arts Center\, 1200 Douglas Street\, Omaha\, NE\, 68102\, United States
CATEGORIES:performances
ATTACH;FMTTYPE=image/jpeg:https://mattcappy.com/wp-content/uploads/2019/01/patti1000x500.jpg
GEO:41.2591701;-95.9326328
X-APPLE-STRUCTURED-LOCATION;VALUE=URI;X-ADDRESS=Omaha Performing Arts Center 1200 Douglas Street Omaha NE 68102 United States;X-APPLE-RADIUS=500;X-TITLE=1200 Douglas Street:geo:-95.9326328,41.2591701
END:VEVENT
BEGIN:VEVENT
DTSTART;TZID=America/New_York:20191012T190000
DTEND;TZID=America/New_York:20191012T220000
DTSTAMP:20260422T202826
CREATED:20190917T041547Z
LAST-MODIFIED:20190917T201127Z
UID:10000012-1570906800-1570917600@mattcappy.com
SUMMARY:MATT CAPPY\,  MARK GUILIANA
DESCRIPTION:MATT CAPPY\nMARK GUILIANA\nSaturday Oct 12\, 2019\nJohnny Brenda’s\nPhiladelphia\, PA\n7pm
URL:https://mattcappy.com/event/matt-cappy-mark-guiliana/
LOCATION:Johnny Brenda’s\, 1201 N. Frankford Ave\, Philadelphia\, PA\, 19125\, United States
CATEGORIES:performances
ATTACH;FMTTYPE=image/jpeg:https://mattcappy.com/wp-content/uploads/2019/09/beatmusic.jpg
GEO:39.9691021;-75.1342117
X-APPLE-STRUCTURED-LOCATION;VALUE=URI;X-ADDRESS=Johnny Brenda’s 1201 N. Frankford Ave Philadelphia PA 19125 United States;X-APPLE-RADIUS=500;X-TITLE=1201 N. Frankford Ave:geo:-75.1342117,39.9691021
END:VEVENT
BEGIN:VEVENT
DTSTART;TZID=America/New_York:20191004T200000
DTEND;TZID=America/New_York:20191004T220000
DTSTAMP:20260422T202826
CREATED:20190917T040903Z
LAST-MODIFIED:20190917T040903Z
UID:10000011-1570219200-1570226400@mattcappy.com
SUMMARY:W/ Patti LaBelle
DESCRIPTION:W/ Patti LaBelle\nFriday Oct 4\, 2019\nMorongo Casino\nCabazon\, CA\n8pm
URL:https://mattcappy.com/event/w-patti-labelle-33/
LOCATION:Morongo Casino\, 49500 Seminole Dr\, Cabazon\, CA\, 92230\, United States
CATEGORIES:performances
ATTACH;FMTTYPE=image/jpeg:https://mattcappy.com/wp-content/uploads/2019/01/patti1000x500.jpg
GEO:33.9215254;-116.7993551
X-APPLE-STRUCTURED-LOCATION;VALUE=URI;X-ADDRESS=Morongo Casino 49500 Seminole Dr Cabazon CA 92230 United States;X-APPLE-RADIUS=500;X-TITLE=49500 Seminole Dr:geo:-116.7993551,33.9215254
END:VEVENT
BEGIN:VEVENT
DTSTART;TZID=America/New_York:20191003T200000
DTEND;TZID=America/New_York:20191003T220000
DTSTAMP:20260422T202826
CREATED:20190917T040536Z
LAST-MODIFIED:20190917T040536Z
UID:10000020-1570132800-1570140000@mattcappy.com
SUMMARY:W/ Patti LaBelle
DESCRIPTION:W/ Patti LaBelle\nThursday Oct 3\,  2019\nMagnolia Performing Arts Center\nEl Cajon\, CA\n8pm
URL:https://mattcappy.com/event/w-patti-labelle-32/
LOCATION:Magnolia Performing Arts Center\, 210 E Main St\, El Cajon\, CA\, 92020\, United States
CATEGORIES:performances
ATTACH;FMTTYPE=image/jpeg:https://mattcappy.com/wp-content/uploads/2019/01/patti1000x500.jpg
GEO:32.7956439;-116.9595783
X-APPLE-STRUCTURED-LOCATION;VALUE=URI;X-ADDRESS=Magnolia Performing Arts Center 210 E Main St El Cajon CA 92020 United States;X-APPLE-RADIUS=500;X-TITLE=210 E Main St:geo:-116.9595783,32.7956439
END:VEVENT
BEGIN:VEVENT
DTSTART;TZID=America/New_York:20190927T200000
DTEND;TZID=America/New_York:20190927T220000
DTSTAMP:20260422T202826
CREATED:20190917T040012Z
LAST-MODIFIED:20190917T040037Z
UID:10000019-1569614400-1569621600@mattcappy.com
SUMMARY:W/ Jill Scott - Art of the Cool Fest
DESCRIPTION:W/ Jill Scott\nFriday Sept 27\, 2019\nArt of the Cool Fest\nDurham Athletic Stadium\nDurham\, NC\n8pm
URL:https://mattcappy.com/event/w-jill-scott/
LOCATION:Durham Athletic Stadium\, 409 Blackwell St.\, Durham\, NC\, 27701\, United States
CATEGORIES:performances
ATTACH;FMTTYPE=image/jpeg:https://mattcappy.com/wp-content/uploads/2019/09/jillscott-1.jpg
GEO:35.9914928;-78.9048573
X-APPLE-STRUCTURED-LOCATION;VALUE=URI;X-ADDRESS=Durham Athletic Stadium 409 Blackwell St. Durham NC 27701 United States;X-APPLE-RADIUS=500;X-TITLE=409 Blackwell St.:geo:-78.9048573,35.9914928
END:VEVENT
BEGIN:VEVENT
DTSTART;TZID=America/New_York:20190623T200000
DTEND;TZID=America/New_York:20190623T230000
DTSTAMP:20260422T202826
CREATED:20190510T020253Z
LAST-MODIFIED:20190510T020253Z
UID:10000016-1561320000-1561330800@mattcappy.com
SUMMARY:w/ Patti LaBelle
DESCRIPTION:-w/Patti LaBelle\nJune 23\, 2019 8-11pm\nNorthfield\, OH\nHard Rock Live
URL:https://mattcappy.com/event/w-patti-labelle-31/
LOCATION:Hard Rock Live\, 10777 Northfield Road\, Northfield\, OH\, 44067\, United States
CATEGORIES:performances
ATTACH;FMTTYPE=image/jpeg:https://mattcappy.com/wp-content/uploads/2018/08/patti.jpg
GEO:41.3484663;-81.5243276
X-APPLE-STRUCTURED-LOCATION;VALUE=URI;X-ADDRESS=Hard Rock Live 10777 Northfield Road Northfield OH 44067 United States;X-APPLE-RADIUS=500;X-TITLE=10777 Northfield Road:geo:-81.5243276,41.3484663
END:VEVENT
BEGIN:VEVENT
DTSTART;TZID=America/New_York:20190622T200000
DTEND;TZID=America/New_York:20190622T230000
DTSTAMP:20260422T202826
CREATED:20190510T015233Z
LAST-MODIFIED:20190510T015233Z
UID:10000015-1561233600-1561244400@mattcappy.com
SUMMARY:w/ Patti LaBelle
DESCRIPTION:-w/ Patti LaBelle\nJune 22\, 2019 8-11pm\nRochester\, NY\nKodak Hall at Eastman Theater\nhttp://eastmantheatre.org/events/
URL:https://mattcappy.com/event/w-patti-labelle-30/
LOCATION:Kodak Hall\, 26 Gibbs St\, Rochester\, NY\, 14604\, United States
CATEGORIES:performances
ATTACH;FMTTYPE=image/jpeg:https://mattcappy.com/wp-content/uploads/2018/08/patti.jpg
GEO:43.1577065;-77.6013726
X-APPLE-STRUCTURED-LOCATION;VALUE=URI;X-ADDRESS=Kodak Hall 26 Gibbs St Rochester NY 14604 United States;X-APPLE-RADIUS=500;X-TITLE=26 Gibbs St:geo:-77.6013726,43.1577065
END:VEVENT
BEGIN:VEVENT
DTSTART;TZID=America/New_York:20190621T200000
DTEND;TZID=America/New_York:20190621T230000
DTSTAMP:20260422T202826
CREATED:20190510T012723Z
LAST-MODIFIED:20190510T012723Z
UID:10000095-1561147200-1561158000@mattcappy.com
SUMMARY:w/ Patti LaBelle
DESCRIPTION:-w/ Patti LaBelle\nJune 21\, 2019 8-11pm\nPittsburgh\, PA\nAugust Wilson Center
URL:https://mattcappy.com/event/w-patti-labelle-29/
LOCATION:August Wilson Center\, 980 Liberty Ave\, Pittsburgh\, PA\, 15222\, United States
CATEGORIES:performances
ATTACH;FMTTYPE=image/jpeg:https://mattcappy.com/wp-content/uploads/2018/08/patti.jpg
GEO:40.4434275;-79.9955118
X-APPLE-STRUCTURED-LOCATION;VALUE=URI;X-ADDRESS=August Wilson Center 980 Liberty Ave Pittsburgh PA 15222 United States;X-APPLE-RADIUS=500;X-TITLE=980 Liberty Ave:geo:-79.9955118,40.4434275
END:VEVENT
END:VCALENDAR