BEGIN:VCALENDAR
VERSION:2.0
PRODID:-//Matt Cappy - ECPv6.15.20//NONSGML v1.0//EN
CALSCALE:GREGORIAN
METHOD:PUBLISH
X-ORIGINAL-URL:https://mattcappy.com
X-WR-CALDESC:Events for Matt Cappy
REFRESH-INTERVAL;VALUE=DURATION:PT1H
X-Robots-Tag:noindex
X-PUBLISHED-TTL:PT1H
BEGIN:VTIMEZONE
TZID:America/New_York
BEGIN:DAYLIGHT
TZOFFSETFROM:-0500
TZOFFSETTO:-0400
TZNAME:EDT
DTSTART:20180311T070000
END:DAYLIGHT
BEGIN:STANDARD
TZOFFSETFROM:-0400
TZOFFSETTO:-0500
TZNAME:EST
DTSTART:20181104T060000
END:STANDARD
BEGIN:DAYLIGHT
TZOFFSETFROM:-0500
TZOFFSETTO:-0400
TZNAME:EDT
DTSTART:20190310T070000
END:DAYLIGHT
BEGIN:STANDARD
TZOFFSETFROM:-0400
TZOFFSETTO:-0500
TZNAME:EST
DTSTART:20191103T060000
END:STANDARD
BEGIN:DAYLIGHT
TZOFFSETFROM:-0500
TZOFFSETTO:-0400
TZNAME:EDT
DTSTART:20200308T070000
END:DAYLIGHT
BEGIN:STANDARD
TZOFFSETFROM:-0400
TZOFFSETTO:-0500
TZNAME:EST
DTSTART:20201101T060000
END:STANDARD
BEGIN:DAYLIGHT
TZOFFSETFROM:-0500
TZOFFSETTO:-0400
TZNAME:EDT
DTSTART:20210314T070000
END:DAYLIGHT
BEGIN:STANDARD
TZOFFSETFROM:-0400
TZOFFSETTO:-0500
TZNAME:EST
DTSTART:20211107T060000
END:STANDARD
END:VTIMEZONE
BEGIN:VEVENT
DTSTART;TZID=America/New_York:20200712T120000
DTEND;TZID=America/New_York:20200712T220000
DTSTAMP:20260422T184138
CREATED:20200423T221706Z
LAST-MODIFIED:20200423T221706Z
UID:10000122-1594555200-1594591200@mattcappy.com
SUMMARY:Patti LaBelle - North Sea Jazz Festival
DESCRIPTION:Sunday July 12\, 2020\nRotterdam\, Netherlands\nNorth Sea Jazz Festival
URL:https://mattcappy.com/event/patti-labelle-north-sea-jazz-festival/
LOCATION:north Sea Jazz Festival\, Rotterdam\, Netherlands
CATEGORIES:performances
ATTACH;FMTTYPE=image/jpeg:https://mattcappy.com/wp-content/uploads/2020/01/patti-375.jpg
GEO:51.9244201;4.4777326
END:VEVENT
BEGIN:VEVENT
DTSTART;TZID=America/New_York:20200703T180000
DTEND;TZID=America/New_York:20200703T233000
DTSTAMP:20260422T184138
CREATED:20200423T221301Z
LAST-MODIFIED:20200423T221301Z
UID:10000121-1593799200-1593819000@mattcappy.com
SUMMARY:Patti LaBelle - Essence Festival
DESCRIPTION:Friday July 3\, 2020\nNew Orleans\, LA\nEssence Festival
URL:https://mattcappy.com/event/patti-labelle-essence-festival/
LOCATION:Mercedes=Benz Superdome\, 1500 Sugar Bowl Dr\, New Orleans\, LA\, 70112\, United States
CATEGORIES:performances
ATTACH;FMTTYPE=image/jpeg:https://mattcappy.com/wp-content/uploads/2020/04/essence.jpg
GEO:29.9516233;-90.0822692
X-APPLE-STRUCTURED-LOCATION;VALUE=URI;X-ADDRESS=Mercedes=Benz Superdome 1500 Sugar Bowl Dr New Orleans LA 70112 United States;X-APPLE-RADIUS=500;X-TITLE=1500 Sugar Bowl Dr:geo:-90.0822692,29.9516233
END:VEVENT
BEGIN:VEVENT
DTSTART;TZID=America/New_York:20200621T193000
DTEND;TZID=America/New_York:20200621T223000
DTSTAMP:20260422T184138
CREATED:20200423T220420Z
LAST-MODIFIED:20200423T220420Z
UID:10000120-1592767800-1592778600@mattcappy.com
SUMMARY:w/ Patti LaBelle
DESCRIPTION:Sunday June 21\, 2020\nEnglewood\, NJ\nBergen Performing Arts Center
URL:https://mattcappy.com/event/w-patti-labelle-62/
LOCATION:Bergen Performing Arts Center\, 30 North Van Brunt Street\, Englewood\, NJ\, 07631\, United States
CATEGORIES:performances
ATTACH;FMTTYPE=image/jpeg:https://mattcappy.com/wp-content/uploads/2020/01/patti-375.jpg
GEO:40.8952924;-73.9749328
X-APPLE-STRUCTURED-LOCATION;VALUE=URI;X-ADDRESS=Bergen Performing Arts Center 30 North Van Brunt Street Englewood NJ 07631 United States;X-APPLE-RADIUS=500;X-TITLE=30 North Van Brunt Street:geo:-73.9749328,40.8952924
END:VEVENT
BEGIN:VEVENT
DTSTART;TZID=America/New_York:20200620T193000
DTEND;TZID=America/New_York:20200620T233000
DTSTAMP:20260422T184138
CREATED:20200423T220031Z
LAST-MODIFIED:20200423T220031Z
UID:10000119-1592681400-1592695800@mattcappy.com
SUMMARY:Patti LaBelle\, Regine Belle & Peabo Bryson
DESCRIPTION:Saturday June 20\, 2020\nColumbus\, OH\nHuntington Park
URL:https://mattcappy.com/event/patti-labelle-regine-belle-peabo-bryson/
LOCATION:Huntington Park\, 330 Huntington Park Lane\, Columbus\, OH\, 43215\, United States
CATEGORIES:performances
ATTACH;FMTTYPE=image/jpeg:https://mattcappy.com/wp-content/uploads/2019/01/BBM-patti.jpg
GEO:39.9691593;-83.0116918
X-APPLE-STRUCTURED-LOCATION;VALUE=URI;X-ADDRESS=Huntington Park 330 Huntington Park Lane Columbus OH 43215 United States;X-APPLE-RADIUS=500;X-TITLE=330 Huntington Park Lane:geo:-83.0116918,39.9691593
END:VEVENT
BEGIN:VEVENT
DTSTART;TZID=America/New_York:20200619T200000
DTEND;TZID=America/New_York:20200619T230000
DTSTAMP:20260422T184138
CREATED:20200423T215517Z
LAST-MODIFIED:20200423T215517Z
UID:10000118-1592596800-1592607600@mattcappy.com
SUMMARY:w/ Patti LaBelle
DESCRIPTION:Friday June 19\, 2020\nCincinnati\, OH\nTaft Theater
URL:https://mattcappy.com/event/w-patti-labelle-61/
LOCATION:Taft Theater\, 317 E 5th St\, Cincinnati\, OH\, 45202\, United States
CATEGORIES:performances
ATTACH;FMTTYPE=image/jpeg:https://mattcappy.com/wp-content/uploads/2020/01/patti-375.jpg
GEO:39.1015516;-84.5077172
X-APPLE-STRUCTURED-LOCATION;VALUE=URI;X-ADDRESS=Taft Theater 317 E 5th St Cincinnati OH 45202 United States;X-APPLE-RADIUS=500;X-TITLE=317 E 5th St:geo:-84.5077172,39.1015516
END:VEVENT
BEGIN:VEVENT
DTSTART;TZID=America/New_York:20200606T193000
DTEND;TZID=America/New_York:20200606T223000
DTSTAMP:20260422T184138
CREATED:20200423T215237Z
LAST-MODIFIED:20200423T215237Z
UID:10000117-1591471800-1591482600@mattcappy.com
SUMMARY:w/ Patti LaBelle
DESCRIPTION:Saturday June 6\, 2020\nAtlanta\, GA\nCobb Energy Performing Arts
URL:https://mattcappy.com/event/w-patti-labelle-60/
LOCATION:Cobb Energy Performing Arts\, 2800 Cobb Galleria Pkwy\, Atlanta\, GA\, 30339\, United States
CATEGORIES:performances
ATTACH;FMTTYPE=image/jpeg:https://mattcappy.com/wp-content/uploads/2019/12/patti-grand.jpg
GEO:33.8846554;-84.4591061
X-APPLE-STRUCTURED-LOCATION;VALUE=URI;X-ADDRESS=Cobb Energy Performing Arts 2800 Cobb Galleria Pkwy Atlanta GA 30339 United States;X-APPLE-RADIUS=500;X-TITLE=2800 Cobb Galleria Pkwy:geo:-84.4591061,33.8846554
END:VEVENT
BEGIN:VEVENT
DTSTART;TZID=America/New_York:20200601T193000
DTEND;TZID=America/New_York:20200601T230000
DTSTAMP:20260422T184138
CREATED:20200423T175421Z
LAST-MODIFIED:20200423T175421Z
UID:10000116-1591039800-1591052400@mattcappy.com
SUMMARY:w/ Patti LaBelle
DESCRIPTION:Monday June 1\, 2020\nSaratoga\, CA\nThe Mountain Winery
URL:https://mattcappy.com/event/w-patti-labelle-59/
LOCATION:The Mountain Winery\, 14831 Pierce Rd\, Saratoga\, CA\, 95070\, United States
CATEGORIES:performances
ATTACH;FMTTYPE=image/jpeg:https://mattcappy.com/wp-content/uploads/2020/01/patti-375.jpg
GEO:37.2601641;-122.0647267
X-APPLE-STRUCTURED-LOCATION;VALUE=URI;X-ADDRESS=The Mountain Winery 14831 Pierce Rd Saratoga CA 95070 United States;X-APPLE-RADIUS=500;X-TITLE=14831 Pierce Rd:geo:-122.0647267,37.2601641
END:VEVENT
BEGIN:VEVENT
DTSTART;TZID=America/New_York:20200505T200000
DTEND;TZID=America/New_York:20200505T230000
DTSTAMP:20260422T184138
CREATED:20200423T175024Z
LAST-MODIFIED:20200423T175024Z
UID:10000115-1588708800-1588719600@mattcappy.com
SUMMARY:w/ Patti LaBelle
DESCRIPTION:Tuesday May 5\, 2020\nStamford\, CT\nPalace Theatre
URL:https://mattcappy.com/event/w-patti-labelle-58/
LOCATION:The Palace Theatre\, 61 Atlantic St\, Stamford\, CT\, 06901\, United States
CATEGORIES:performances
ATTACH;FMTTYPE=image/jpeg:https://mattcappy.com/wp-content/uploads/2019/01/BBM-patti.jpg
GEO:41.0545296;-73.5395942
X-APPLE-STRUCTURED-LOCATION;VALUE=URI;X-ADDRESS=The Palace Theatre 61 Atlantic St Stamford CT 06901 United States;X-APPLE-RADIUS=500;X-TITLE=61 Atlantic St:geo:-73.5395942,41.0545296
END:VEVENT
BEGIN:VEVENT
DTSTART;TZID=America/New_York:20200503T193000
DTEND;TZID=America/New_York:20200503T220000
DTSTAMP:20260422T184138
CREATED:20200423T174742Z
LAST-MODIFIED:20200423T174742Z
UID:10000114-1588534200-1588543200@mattcappy.com
SUMMARY:w/ Patti LaBelle
DESCRIPTION:Sunday May 3\, 2020\nUncasville\, CT\nMohegan Sun Casino
URL:https://mattcappy.com/event/w-patti-labelle-57/
LOCATION:Mohegan Sun Arena\, 1 Mohegan Sun Blvd\, Uncasville\, CT\, 06382\, United States
CATEGORIES:performances
ATTACH;FMTTYPE=image/jpeg:https://mattcappy.com/wp-content/uploads/2019/12/patti-grand.jpg
GEO:41.4917983;-72.0903993
X-APPLE-STRUCTURED-LOCATION;VALUE=URI;X-ADDRESS=Mohegan Sun Arena 1 Mohegan Sun Blvd Uncasville CT 06382 United States;X-APPLE-RADIUS=500;X-TITLE=1 Mohegan Sun Blvd:geo:-72.0903993,41.4917983
END:VEVENT
BEGIN:VEVENT
DTSTART;TZID=America/New_York:20200502T200000
DTEND;TZID=America/New_York:20200502T230000
DTSTAMP:20260422T184138
CREATED:20200423T174618Z
LAST-MODIFIED:20200423T174618Z
UID:10000113-1588449600-1588460400@mattcappy.com
SUMMARY:w/ Patti LaBelle
DESCRIPTION:Saturday May 2\, 2020\nHanover\, MD\nLive!
URL:https://mattcappy.com/event/w-patti-labelle-56/
LOCATION:The Hall Live!\, 7002 Arundel Mills Circle\, Hanover\, MD\, 21076\, United States
CATEGORIES:performances
ATTACH;FMTTYPE=image/jpeg:https://mattcappy.com/wp-content/uploads/2019/12/patti-grand.jpg
GEO:39.1572779;-76.7271662
X-APPLE-STRUCTURED-LOCATION;VALUE=URI;X-ADDRESS=The Hall Live! 7002 Arundel Mills Circle Hanover MD 21076 United States;X-APPLE-RADIUS=500;X-TITLE=7002 Arundel Mills Circle:geo:-76.7271662,39.1572779
END:VEVENT
BEGIN:VEVENT
DTSTART;TZID=America/New_York:20200501T210000
DTEND;TZID=America/New_York:20200501T233000
DTSTAMP:20260422T184138
CREATED:20200423T063057Z
LAST-MODIFIED:20200423T063758Z
UID:10000112-1588366800-1588375800@mattcappy.com
SUMMARY:w/ Patti LaBelle
DESCRIPTION:w/ Patti LaBelle \nFriday May 1\, 2020\nAtlantic City\, NJ\nCaesars
URL:https://mattcappy.com/event/w-patti-labelle-55/
LOCATION:Ceasars Atlantic City\, 2100 Pacific Av\, Atlantic City\, NJ\, 08404\, United States
CATEGORIES:performances
ATTACH;FMTTYPE=image/jpeg:https://mattcappy.com/wp-content/uploads/2019/12/patti-grand.jpg
GEO:39.356289;-74.4359699
X-APPLE-STRUCTURED-LOCATION;VALUE=URI;X-ADDRESS=Ceasars Atlantic City 2100 Pacific Av Atlantic City NJ 08404 United States;X-APPLE-RADIUS=500;X-TITLE=2100 Pacific Av:geo:-74.4359699,39.356289
END:VEVENT
BEGIN:VEVENT
DTSTART;TZID=America/New_York:20200425T193000
DTEND;TZID=America/New_York:20200425T230000
DTSTAMP:20260422T184138
CREATED:20200128T051322Z
LAST-MODIFIED:20200128T051322Z
UID:10000111-1587843000-1587855600@mattcappy.com
SUMMARY:w/ Patti LaBelle
DESCRIPTION:w/ Patti LaBelle \n  \nSaturday April 25\, 2020\nBrooklyn\, NY\nBrooklyn Museum
URL:https://mattcappy.com/event/w-patti-labelle-54/
LOCATION:Brooklyn Museum\, 200 Eastern Parkway\, Brooklyn\, NY\, 11238-6052\, United States
CATEGORIES:performances
ATTACH;FMTTYPE=image/jpeg:https://mattcappy.com/wp-content/uploads/2019/12/patti-grand.jpg
GEO:40.6712083;-73.9636299
X-APPLE-STRUCTURED-LOCATION;VALUE=URI;X-ADDRESS=Brooklyn Museum 200 Eastern Parkway Brooklyn NY 11238-6052 United States;X-APPLE-RADIUS=500;X-TITLE=200 Eastern Parkway:geo:-73.9636299,40.6712083
END:VEVENT
BEGIN:VEVENT
DTSTART;TZID=America/New_York:20200418T080000
DTEND;TZID=America/New_York:20200418T170000
DTSTAMP:20260422T184138
CREATED:20200128T050756Z
LAST-MODIFIED:20200128T050756Z
UID:10000110-1587196800-1587229200@mattcappy.com
SUMMARY:w/ Patti LaBelle
DESCRIPTION:w/ Patti LaBelle \n  \nSaturday April 18\, 2020\nGreenville\, SC\nPeace Center
URL:https://mattcappy.com/event/w-patti-labelle-53/
LOCATION:TD Peace Center\, 300 S Main St.\, Greenville\, NC\, 29601\, United States
CATEGORIES:performances
ATTACH;FMTTYPE=image/jpeg:https://mattcappy.com/wp-content/uploads/2019/12/patti-grand.jpg
GEO:34.8475751;-82.401101
X-APPLE-STRUCTURED-LOCATION;VALUE=URI;X-ADDRESS=TD Peace Center 300 S Main St. Greenville NC 29601 United States;X-APPLE-RADIUS=500;X-TITLE=300 S Main St.:geo:-82.401101,34.8475751
END:VEVENT
BEGIN:VEVENT
DTSTART;TZID=America/New_York:20200417T193000
DTEND;TZID=America/New_York:20200417T230000
DTSTAMP:20260422T184138
CREATED:20200128T050342Z
LAST-MODIFIED:20200128T050342Z
UID:10000109-1587151800-1587164400@mattcappy.com
SUMMARY:w/ Patti LaBelle
DESCRIPTION:w/ Patti LaBelle \n  \nFriday April 17\, 2020\nGreensboro\, NC\nSteven Tanger Center
URL:https://mattcappy.com/event/w-patti-labelle-52/
LOCATION:Steven Tanger Center\, 300 N Elm St\, Greensboro\, NC\, 27401\, United States
CATEGORIES:performances
ATTACH;FMTTYPE=image/jpeg:https://mattcappy.com/wp-content/uploads/2019/01/patti1000x500.jpg
GEO:36.07528;-79.789623
X-APPLE-STRUCTURED-LOCATION;VALUE=URI;X-ADDRESS=Steven Tanger Center 300 N Elm St Greensboro NC 27401 United States;X-APPLE-RADIUS=500;X-TITLE=300 N Elm St:geo:-79.789623,36.07528
END:VEVENT
BEGIN:VEVENT
DTSTART;TZID=America/New_York:20200411T200000
DTEND;TZID=America/New_York:20200411T230000
DTSTAMP:20260422T184138
CREATED:20200128T045904Z
LAST-MODIFIED:20200128T045904Z
UID:10000108-1586635200-1586646000@mattcappy.com
SUMMARY:W/ Patti LaBelle
DESCRIPTION:W/ Patti LaBelle \n  \nSaturday April 11\, 2020\nBossier City\, LA\nHorseshoe Casino
URL:https://mattcappy.com/event/w-patti-labelle-51/
LOCATION:Horseshoe Casino\, 711 Horseshoe Boulevard\, Bossier City\, LA\, 71111\, United States
CATEGORIES:performances
ATTACH;FMTTYPE=image/jpeg:https://mattcappy.com/wp-content/uploads/2019/12/patti-grand.jpg
GEO:32.5145515;-93.7380344
X-APPLE-STRUCTURED-LOCATION;VALUE=URI;X-ADDRESS=Horseshoe Casino 711 Horseshoe Boulevard Bossier City LA 71111 United States;X-APPLE-RADIUS=500;X-TITLE=711 Horseshoe Boulevard:geo:-93.7380344,32.5145515
END:VEVENT
BEGIN:VEVENT
DTSTART;TZID=America/New_York:20200410T200000
DTEND;TZID=America/New_York:20200410T230000
DTSTAMP:20260422T184138
CREATED:20200128T024604Z
LAST-MODIFIED:20200128T024604Z
UID:10000107-1586548800-1586559600@mattcappy.com
SUMMARY:W/ Patti LaBelle
DESCRIPTION:W/ Patti LaBelle\n\nFriday April 10\, 2020\nNorman\, OK\nRiverwind Casino
URL:https://mattcappy.com/event/w-patti-labelle-50/
LOCATION:Riverwind Casino\, 1544 State Highway 9\, Norman\, OK\, 73072\, United States
CATEGORIES:performances
ATTACH;FMTTYPE=image/jpeg:https://mattcappy.com/wp-content/uploads/2019/12/patti-grand.jpg
GEO:35.1811021;-97.5005294
X-APPLE-STRUCTURED-LOCATION;VALUE=URI;X-ADDRESS=Riverwind Casino 1544 State Highway 9 Norman OK 73072 United States;X-APPLE-RADIUS=500;X-TITLE=1544 State Highway 9:geo:-97.5005294,35.1811021
END:VEVENT
BEGIN:VEVENT
DTSTART;TZID=America/New_York:20200404T193000
DTEND;TZID=America/New_York:20200404T230000
DTSTAMP:20260422T184138
CREATED:20200128T013852Z
LAST-MODIFIED:20200128T013852Z
UID:10000106-1586028600-1586041200@mattcappy.com
SUMMARY:W/ Patti LaBelle
DESCRIPTION:W/ Patti LaBelle \n  \nSaturday April 4\, 2020\nMiami\, FL\nAdrienne Arsht Center- Knight Concert Hall
URL:https://mattcappy.com/event/w-patti-labelle-49/
LOCATION:Adrienne Arsht Center\, 1300 Biscayne Blvd\, Miami\, FL\, 33132\, United States
CATEGORIES:performances
ATTACH;FMTTYPE=image/jpeg:https://mattcappy.com/wp-content/uploads/2019/12/patti-grand.jpg
GEO:25.7876843;-80.188633
X-APPLE-STRUCTURED-LOCATION;VALUE=URI;X-ADDRESS=Adrienne Arsht Center 1300 Biscayne Blvd Miami FL 33132 United States;X-APPLE-RADIUS=500;X-TITLE=1300 Biscayne Blvd:geo:-80.188633,25.7876843
END:VEVENT
BEGIN:VEVENT
DTSTART;TZID=America/New_York:20200403T183000
DTEND;TZID=America/New_York:20200403T223000
DTSTAMP:20260422T184138
CREATED:20200127T190127Z
LAST-MODIFIED:20200127T190127Z
UID:10000105-1585938600-1585953000@mattcappy.com
SUMMARY:w/ Patti LaBelle
DESCRIPTION:w/ Patti LaBelle \nFriday April 3\, 2020\nNaples\, FL\nArtis Naples – Hayes Hall
URL:https://mattcappy.com/event/w-patti-labelle-48/
LOCATION:Artis—Naples\, 5833 Pelican Bay Boulevard\, Naples\, FL\, 34108\, United States
CATEGORIES:performances
ATTACH;FMTTYPE=image/jpeg:https://mattcappy.com/wp-content/uploads/2020/01/patti-375.jpg
GEO:26.2160509;-81.803724
X-APPLE-STRUCTURED-LOCATION;VALUE=URI;X-ADDRESS=Artis—Naples 5833 Pelican Bay Boulevard Naples FL 34108 United States;X-APPLE-RADIUS=500;X-TITLE=5833 Pelican Bay Boulevard:geo:-81.803724,26.2160509
END:VEVENT
BEGIN:VEVENT
DTSTART;TZID=America/New_York:20200324T193000
DTEND;TZID=America/New_York:20200324T223000
DTSTAMP:20260422T184138
CREATED:20200127T185014Z
LAST-MODIFIED:20200127T185014Z
UID:10000104-1585078200-1585089000@mattcappy.com
SUMMARY:w Patti LaBelle
DESCRIPTION:w Patti LaBelle\n\nTuesday March 24\, 2020\nNew York\, NY\nZiegfeld Ballroom
URL:https://mattcappy.com/event/w-patti-labelle-47/
LOCATION:Ziegfeld Ballroom\, 141 W 54TH STREET\, New York\, NY\, 10019\, United States
CATEGORIES:performances
ATTACH;FMTTYPE=image/jpeg:https://mattcappy.com/wp-content/uploads/2019/12/patti-grand.jpg
GEO:40.7631584;-73.9797705
X-APPLE-STRUCTURED-LOCATION;VALUE=URI;X-ADDRESS=Ziegfeld Ballroom 141 W 54TH STREET New York NY 10019 United States;X-APPLE-RADIUS=500;X-TITLE=141 W 54TH STREET:geo:-73.9797705,40.7631584
END:VEVENT
BEGIN:VEVENT
DTSTART;TZID=America/New_York:20200306T200000
DTEND;TZID=America/New_York:20200306T220000
DTSTAMP:20260422T184138
CREATED:20200109T221644Z
LAST-MODIFIED:20200109T221644Z
UID:10000024-1583524800-1583532000@mattcappy.com
SUMMARY:MATT CAPPY
DESCRIPTION:MATT CAPPY\nFriday March 6th\, 2020\nThe Kennett Flash\n102 Sycamore Aly\nKennett Square\, PA  19348\n8pm
URL:https://mattcappy.com/event/matt-cappy-5/
LOCATION:Kennett Flash\, 102 Sycamore Alley\, Kennett Square\, PA\, 19348\, United States
ATTACH;FMTTYPE=image/jpeg:https://mattcappy.com/wp-content/uploads/2020/01/kennet.jpg
GEO:39.8458345;-75.71079
X-APPLE-STRUCTURED-LOCATION;VALUE=URI;X-ADDRESS=Kennett Flash 102 Sycamore Alley Kennett Square PA 19348 United States;X-APPLE-RADIUS=500;X-TITLE=102 Sycamore Alley:geo:-75.71079,39.8458345
END:VEVENT
BEGIN:VEVENT
DTSTART;TZID=America/New_York:20200302T193000
DTEND;TZID=America/New_York:20200302T220000
DTSTAMP:20260422T184138
CREATED:20200127T184416Z
LAST-MODIFIED:20200127T184416Z
UID:10000103-1583177400-1583186400@mattcappy.com
SUMMARY:w/ Patti LaBelle
DESCRIPTION:w/ Patti LaBelle\n\nMonday March 2\, 2020\nPlant City\, FL\nFlorida Strawberry Festival
URL:https://mattcappy.com/event/w-patti-labelle-46/
LOCATION:Florida Strawberry Festival\, 303 BerryFest Place\, Plant City\, FL\, 33563\, United States
CATEGORIES:performances
ATTACH;FMTTYPE=image/jpeg:https://mattcappy.com/wp-content/uploads/2019/12/patti-grand.jpg
GEO:28.0163516;-82.1457671
X-APPLE-STRUCTURED-LOCATION;VALUE=URI;X-ADDRESS=Florida Strawberry Festival 303 BerryFest Place Plant City FL 33563 United States;X-APPLE-RADIUS=500;X-TITLE=303 BerryFest Place:geo:-82.1457671,28.0163516
END:VEVENT
BEGIN:VEVENT
DTSTART;TZID=America/New_York:20200216T190000
DTEND;TZID=America/New_York:20200216T230000
DTSTAMP:20260422T184138
CREATED:20200127T182811Z
LAST-MODIFIED:20200127T182811Z
UID:10000021-1581879600-1581894000@mattcappy.com
SUMMARY:w/ Patti LaBelle
DESCRIPTION:Live in concert – Patti LaBelle\, Kenny “Babyface” Edmonds and special guest Tamia. Don’t miss the concert party that will have you dancing all night long! Doors at 7:00pm.\n\nSunday February 16\, 2020\nSugar Land\, TX\nSmart Financial Centre
URL:https://mattcappy.com/event/w-patti-labelle-44/
LOCATION:Smart Financial Centre at Sugar Land\, 18111 Lexington Boulevard\, Sugar Land\, TX\, 77479\, United States
CATEGORIES:performances
ATTACH;FMTTYPE=image/jpeg:https://mattcappy.com/wp-content/uploads/2020/01/sugarland.jpg
GEO:29.5771563;-95.6436398
X-APPLE-STRUCTURED-LOCATION;VALUE=URI;X-ADDRESS=Smart Financial Centre at Sugar Land 18111 Lexington Boulevard Sugar Land TX 77479 United States;X-APPLE-RADIUS=500;X-TITLE=18111 Lexington Boulevard:geo:-95.6436398,29.5771563
END:VEVENT
BEGIN:VEVENT
DTSTART;TZID=America/New_York:20200215T200000
DTEND;TZID=America/New_York:20200215T230000
DTSTAMP:20260422T184138
CREATED:20200127T180400Z
LAST-MODIFIED:20200127T182110Z
UID:10000026-1581796800-1581807600@mattcappy.com
SUMMARY:w/ Patti LaBelle
DESCRIPTION:Saturday February 15\, 2020\nRobinsonville\, MS\nHorseshoe Tunica Casino
URL:https://mattcappy.com/event/w-patti-labelle-43/
LOCATION:Horseshoe Tunica Casino\, 1021 Casino Center Drive\, Robinsonville\, MS\, 38664\, United States
CATEGORIES:performances
ATTACH;FMTTYPE=image/jpeg:https://mattcappy.com/wp-content/uploads/2019/12/patti-grand.jpg
GEO:34.847825;-90.3316038
X-APPLE-STRUCTURED-LOCATION;VALUE=URI;X-ADDRESS=Horseshoe Tunica Casino 1021 Casino Center Drive Robinsonville MS 38664 United States;X-APPLE-RADIUS=500;X-TITLE=1021 Casino Center Drive:geo:-90.3316038,34.847825
END:VEVENT
BEGIN:VEVENT
DTSTART;TZID=America/New_York:20200214T200000
DTEND;TZID=America/New_York:20200214T230000
DTSTAMP:20260422T184138
CREATED:20200127T175814Z
LAST-MODIFIED:20200127T175814Z
UID:10000025-1581710400-1581721200@mattcappy.com
SUMMARY:W/ Patti LaBelle
DESCRIPTION:W/ Patti LaBelle\n\nFEBRUARY\nFriday February 14\, 2020\nNashville\, TN\nSchemerhorn Symphony Center
URL:https://mattcappy.com/event/w-patti-labelle-42/
LOCATION:Schermerhorn Symphony Center\, One Symphony Place\, Nashville\, TN\, 37201\, United States
CATEGORIES:performances
ATTACH;FMTTYPE=image/jpeg:https://mattcappy.com/wp-content/uploads/2019/12/patti-grand.jpg
GEO:36.1599353;-86.7759626
X-APPLE-STRUCTURED-LOCATION;VALUE=URI;X-ADDRESS=Schermerhorn Symphony Center One Symphony Place Nashville TN 37201 United States;X-APPLE-RADIUS=500;X-TITLE=One Symphony Place:geo:-86.7759626,36.1599353
END:VEVENT
BEGIN:VEVENT
DTSTART;TZID=America/New_York:20200207T200000
DTEND;TZID=America/New_York:20200207T220000
DTSTAMP:20260422T184138
CREATED:20200109T213709Z
LAST-MODIFIED:20200109T213709Z
UID:10000023-1581105600-1581112800@mattcappy.com
SUMMARY:MATT CAPPY
DESCRIPTION:MATT CAPPY\nFriday February  7th\,  2020\nThe Vault at Victor Records\n150 White Horse Pike\nBerlin\, NJ  08009\n8pm-10pm
URL:https://mattcappy.com/event/matt-cappy-4/
LOCATION:The Vault at Victor Records\, 150 S. White Horse Pike\, Berlin\, NJ\, 08009\, United States
ATTACH;FMTTYPE=image/jpeg:https://mattcappy.com/wp-content/uploads/2019/03/victor.jpg
GEO:39.7924258;-74.9304724
X-APPLE-STRUCTURED-LOCATION;VALUE=URI;X-ADDRESS=The Vault at Victor Records 150 S. White Horse Pike Berlin NJ 08009 United States;X-APPLE-RADIUS=500;X-TITLE=150 S. White Horse Pike:geo:-74.9304724,39.7924258
END:VEVENT
BEGIN:VEVENT
DTSTART;TZID=America/New_York:20200127T190000
DTEND;TZID=America/New_York:20200127T220000
DTSTAMP:20260422T184138
CREATED:20200127T183203Z
LAST-MODIFIED:20200127T183203Z
UID:10000102-1580151600-1580162400@mattcappy.com
SUMMARY:w/ Patti LaBelle
DESCRIPTION:Sunday March 1\, 2020\nThe Villages\, FL\nThe Sharon L. Morse Performing Arts
URL:https://mattcappy.com/event/w-patti-labelle-45/
LOCATION:Sharon L. Morse Performing Arts Center\, 1051 Main Street\, The Villages\, FL\, 32159\, United States
CATEGORIES:performances
ATTACH;FMTTYPE=image/jpeg:https://mattcappy.com/wp-content/uploads/2019/12/patti-grand.jpg
GEO:28.9409643;-81.9509669
X-APPLE-STRUCTURED-LOCATION;VALUE=URI;X-ADDRESS=Sharon L. Morse Performing Arts Center 1051 Main Street The Villages FL 32159 United States;X-APPLE-RADIUS=500;X-TITLE=1051 Main Street:geo:-81.9509669,28.9409643
END:VEVENT
BEGIN:VEVENT
DTSTART;TZID=America/New_York:20200118T210000
DTEND;TZID=America/New_York:20200119T000000
DTSTAMP:20260422T184138
CREATED:20200109T212744Z
LAST-MODIFIED:20200109T212744Z
UID:10000022-1579381200-1579392000@mattcappy.com
SUMMARY:MATT CAPPY
DESCRIPTION:MATT CAPPY\nSat January 18th\, 2020\nTriumph Brewing Co\n1 Bridge Ave\nRed Bank\, NJ  07701\n9pm-12am
URL:https://mattcappy.com/event/matt-cappy-3/
LOCATION:Triumph Brewing Co\, 1 Bridge Ave\, Red Bank\, NJ\, 07701\, United States
CATEGORIES:performances
ATTACH;FMTTYPE=image/gif:https://mattcappy.com/wp-content/uploads/2020/01/triumph.gif
GEO:40.3503966;-74.0743483
X-APPLE-STRUCTURED-LOCATION;VALUE=URI;X-ADDRESS=Triumph Brewing Co 1 Bridge Ave Red Bank NJ 07701 United States;X-APPLE-RADIUS=500;X-TITLE=1 Bridge Ave:geo:-74.0743483,40.3503966
END:VEVENT
BEGIN:VEVENT
DTSTART;TZID=America/New_York:20191229T190000
DTEND;TZID=America/New_York:20191229T220000
DTSTAMP:20260422T184138
CREATED:20191205T153709Z
LAST-MODIFIED:20191205T153709Z
UID:10000030-1577646000-1577656800@mattcappy.com
SUMMARY:Films & Words – Miles Davis: Birth of the Cool
DESCRIPTION:Films & Words – Miles Davis: Birth of the Cool\nwith guest lecturer Matt Cappy \nFilms & Words – Miles Davis: Birth of the Cool\nwith guest lecturer Matt Cappy
URL:https://mattcappy.com/event/films-words-miles-davis-birth-of-the-cool/
LOCATION:Kennett Flash\, 102 Sycamore Alley\, Kennett Square\, PA\, 19348\, United States
CATEGORIES:performances
ATTACH;FMTTYPE=image/jpeg:https://mattcappy.com/wp-content/uploads/2019/12/miles-davis.jpg
GEO:39.8458345;-75.71079
X-APPLE-STRUCTURED-LOCATION;VALUE=URI;X-ADDRESS=Kennett Flash 102 Sycamore Alley Kennett Square PA 19348 United States;X-APPLE-RADIUS=500;X-TITLE=102 Sycamore Alley:geo:-75.71079,39.8458345
END:VEVENT
BEGIN:VEVENT
DTSTART;TZID=America/New_York:20191222T180000
DTEND;TZID=America/New_York:20191222T220000
DTSTAMP:20260422T184138
CREATED:20191205T153242Z
LAST-MODIFIED:20191205T153242Z
UID:10000029-1577037600-1577052000@mattcappy.com
SUMMARY:W/ HoLiDeLiC
DESCRIPTION:Sat & Sun Dec 21 & 22\nW/ HoLiDeLiC\nHelsinki Hudson\n405 Columbia St\nHudson\, NY  12534
URL:https://mattcappy.com/event/w-holidelic-3/
LOCATION:Club Helsinki\, 405 Columbia St\, Hudson\, NY\, 12534\, United States
CATEGORIES:performances
ATTACH;FMTTYPE=image/jpeg:https://mattcappy.com/wp-content/uploads/2019/12/holidec-2019.jpg
GEO:42.2514512;-73.787751
X-APPLE-STRUCTURED-LOCATION;VALUE=URI;X-ADDRESS=Club Helsinki 405 Columbia St Hudson NY 12534 United States;X-APPLE-RADIUS=500;X-TITLE=405 Columbia St:geo:-73.787751,42.2514512
END:VEVENT
BEGIN:VEVENT
DTSTART;TZID=America/New_York:20191221T200000
DTEND;TZID=America/New_York:20191221T230000
DTSTAMP:20260422T184138
CREATED:20191205T153105Z
LAST-MODIFIED:20191205T153105Z
UID:10000028-1576958400-1576969200@mattcappy.com
SUMMARY:W/ HoLiDeLiC
DESCRIPTION:Sat & Sun Dec 21 & 22\nW/ HoLiDeLiC\nHelsinki Hudson\n405 Columbia St\nHudson\, NY  12534
URL:https://mattcappy.com/event/w-holidelic-2/
LOCATION:Club Helsinki\, 405 Columbia St\, Hudson\, NY\, 12534\, United States
CATEGORIES:performances
ATTACH;FMTTYPE=image/jpeg:https://mattcappy.com/wp-content/uploads/2019/12/holidec-2019.jpg
GEO:42.2514512;-73.787751
X-APPLE-STRUCTURED-LOCATION;VALUE=URI;X-ADDRESS=Club Helsinki 405 Columbia St Hudson NY 12534 United States;X-APPLE-RADIUS=500;X-TITLE=405 Columbia St:geo:-73.787751,42.2514512
END:VEVENT
END:VCALENDAR