BEGIN:VCALENDAR
VERSION:2.0
PRODID:-//Matt Cappy - ECPv6.15.20//NONSGML v1.0//EN
CALSCALE:GREGORIAN
METHOD:PUBLISH
X-WR-CALNAME:Matt Cappy
X-ORIGINAL-URL:https://mattcappy.com
X-WR-CALDESC:Events for Matt Cappy
REFRESH-INTERVAL;VALUE=DURATION:PT1H
X-Robots-Tag:noindex
X-PUBLISHED-TTL:PT1H
BEGIN:VTIMEZONE
TZID:America/New_York
BEGIN:DAYLIGHT
TZOFFSETFROM:-0500
TZOFFSETTO:-0400
TZNAME:EDT
DTSTART:20250309T070000
END:DAYLIGHT
BEGIN:STANDARD
TZOFFSETFROM:-0400
TZOFFSETTO:-0500
TZNAME:EST
DTSTART:20251102T060000
END:STANDARD
BEGIN:DAYLIGHT
TZOFFSETFROM:-0500
TZOFFSETTO:-0400
TZNAME:EDT
DTSTART:20260308T070000
END:DAYLIGHT
BEGIN:STANDARD
TZOFFSETFROM:-0400
TZOFFSETTO:-0500
TZNAME:EST
DTSTART:20261101T060000
END:STANDARD
BEGIN:DAYLIGHT
TZOFFSETFROM:-0500
TZOFFSETTO:-0400
TZNAME:EDT
DTSTART:20270314T070000
END:DAYLIGHT
BEGIN:STANDARD
TZOFFSETFROM:-0400
TZOFFSETTO:-0500
TZNAME:EST
DTSTART:20271107T060000
END:STANDARD
END:VTIMEZONE
BEGIN:VEVENT
DTSTART;TZID=America/New_York:20260626T190000
DTEND;TZID=America/New_York:20260626T220000
DTSTAMP:20260420T003225
CREATED:20260408T040826Z
LAST-MODIFIED:20260408T040830Z
UID:10000215-1782500400-1782511200@mattcappy.com
SUMMARY:@ Zinc Bar
DESCRIPTION:Matt’s return to Zinc Bar\nShows at 7pm & 8:30pm
URL:https://mattcappy.com/event/zinc-bar-8/
LOCATION:Zinc Bar\, 82 West 3rd Street\, New York\, NY\, 10012\, United States
CATEGORIES:performances
ATTACH;FMTTYPE=image/jpeg:https://mattcappy.com/wp-content/uploads/2023/09/zinc.jpg
GEO:40.7297021;-73.9989571
X-APPLE-STRUCTURED-LOCATION;VALUE=URI;X-ADDRESS=Zinc Bar 82 West 3rd Street New York NY 10012 United States;X-APPLE-RADIUS=500;X-TITLE=82 West 3rd Street:geo:-73.9989571,40.7297021
END:VEVENT
END:VCALENDAR